Workbook

Sheet data
A1: type | B1: obs | C1: table_n | D1: kor_var | E1: bogun_cd | F1: class_nm | G1: n0 | H1: m_se0 | I1: rse0 | J1: n1 | K1: m_se1 | L1: rse1 | M1: n2 | N1: m_se2 | O1: rse2 | P1: N | Q1: M_SE | R1: rse
A2: type1 | B2: 5 | D2: 평생흡연율 | E2: 36700177 | F2: 전체 | G2: 884 | H2: 38.4(1.8) | I2: 4.6 | J2: 408 | K2: 69.2(3.1) | L2: 4.5 | M2: 476 | N2: 2.5(0.8) | O2: 32.7
A3: type1 | B3: 5 | D3: 평생흡연율 | E3: 36700177 | F3: 연령
A4: type1 | B4: 5 | D4: 평생흡연율 | E4: 36700177 | F4: 19-29 | G4: 19 | H4: -(-) | I4: - | J4: 13 | K4: -(-) | L4: - | M4: 6 | N4: -(-) | O4: -
A5: type1 | B5: 5 | D5: 평생흡연율 | E5: 36700177 | F5: 30-39 | G5: 19 | H5: -(-) | I5: - | J5: 10 | K5: -(-) | L5: - | M5: 9 | N5: -(-) | O5: -
A6: type1 | B6: 5 | D6: 평생흡연율 | E6: 36700177 | F6: 40-49 | G6: 59 | H6: 58.2(6.6) | I6: 11.3 | J6: 30 | K6: 83.3(6.9) | L6: 8.3 | M6: 29 | N6: 8.3(5.6) | O6: 67.2
A7: type1 | B7: 5 | D7: 평생흡연율 | E7: 36700177 | F7: 50-59 | G7: 149 | H7: 53.2(3.9) | I7: 7.3 | J7: 78 | K7: 84.0(4.0) | L7: 4.8 | M7: 71 | N7: 2.8(2.0) | O7: 69.8
A8: type1 | B8: 5 | D8: 평생흡연율 | E8: 36700177 | F8: 60-69 | G8: 239 | H8: 39.9(3.3) | I8: 8.4 | J8: 124 | K8: 68.7(4.4) | L8: 6.4 | M8: 115 | N8: 4.8(1.8) | O8: 37.2
A9: type1 | B9: 5 | D9: 평생흡연율 | E9: 36700177 | F9: 70이상 | G9: 399 | H9: 30.5(2.2) | I9: 7.2 | J9: 153 | K9: 73.1(3.4) | L9: 4.6 | M9: 246 | N9: 0.8(0.5) | O9: 58.0
A10: type1 | B10: 5 | D10: 평생흡연율 | E10: 36700177
A11: type1 | B11: 5 | D11: 평생흡연율 | E11: 36700177 | F11: 19-64 | G11: 370 | H11: 43.3(2.7) | I11: 6.3 | J11: 199 | K11: 67.7(4.4) | L11: 6.5 | M11: 171 | N11: 3.5(1.5) | O11: 43.6
A12: type1 | B12: 5 | D12: 평생흡연율 | E12: 36700177 | F12: 65이상 | G12: 514 | H12: 32.2(1.9) | I12: 6.0 | J12: 209 | K12: 72.1(3.1) | L12: 4.2 | M12: 305 | N12: 1.6(0.7) | O12: 47.2
A13: type1 | B13: 5 | D13: 평생흡연율 | E13: 36700177 | F13: 교육수준
A14: type1 | B14: 5 | D14: 평생흡연율 | E14: 36700177 | F14: 1. 무학 | G14: 169 | H14: 5.2(2.3) | I14: 43.6 | J14: 10 | K14: -(-) | L14: - | M14: 159 | N14: 1.7(1.3) | O14: 75.0
A15: type1 | B15: 5 | D15: 평생흡연율 | E15: 36700177 | F15: 2. 초등학교 | G15: 239 | H15: 31.6(2.8) | I15: 8.8 | J15: 103 | K15: 68.2(4.4) | L15: 6.5 | M15: 136 | N15: 1.3(0.9) | O15: 70.8
A16: type1 | B16: 5 | D16: 평생흡연율 | E16: 36700177 | F16: 3. 중학교 | G16: 165 | H16: 48.3(3.8) | I16: 7.9 | J16: 90 | K16: 79.7(4.8) | L16: 6.1 | M16: 75 | N16: 3.7(2.0) | O16: 54.6
A17: type1 | B17: 5 | D17: 평생흡연율 | E17: 36700177 | F17: 4. 고등학교 | G17: 225 | H17: 51.6(4.1) | I17: 8.0 | J17: 150 | K17: 71.1(5.3) | L17: 7.4 | M17: 75 | N17: 4.1(2.4) | O17: 57.1
A18: type1 | B18: 5 | D18: 평생흡연율 | E18: 36700177 | F18: 5. 대학교이상 | G18: 86 | H18: 38.9(5.9) | I18: 15.1 | J18: 55 | K18: 57.7(9.6) | L18: 16.6 | M18: 31 | N18: 2.1(2.2) | O18: 102.7
A19: type1 | B19: 5 | D19: 평생흡연율 | E19: 36700177 | F19: 직업
A20: type1 | B20: 5 | D20: 평생흡연율 | E20: 36700177 | F20: 1. 전문행정관리 | G20: 26 | H20: 27.2(8.5) | I20: 31.3 | J20: 17 | K20: -(-) | L20: - | M20: 9 | N20: -(-) | O20: -
A21: type1 | B21: 5 | D21: 평생흡연율 | E21: 36700177 | F21: 2. 사무직 | G21: 19 | H21: -(-) | I21: - | J21: 5 | K21: -(-) | L21: - | M21: 14 | N21: -(-) | O21: -
A22: type1 | B22: 5 | D22: 평생흡연율 | E22: 36700177 | F22: 3. 판매서비스직 | G22: 71 | H22: 18.1(4.9) | I22: 27.1 | J22: 15 | K22: -(-) | L22: - | M22: 56 | N22: 7.2(3.7) | O22: 50.8
A23: type1 | B23: 5 | D23: 평생흡연율 | E23: 36700177 | F23: 4. 농림어업 | G23: 344 | H23: 43.8(3.0) | I23: 6.9 | J23: 181 | K23: 69.8(4.3) | L23: 6.2 | M23: 163 | N23: 0.6(0.6) | O23: 99.7
A24: type1 | B24: 5 | D24: 평생흡연율 | E24: 36700177 | F24: 5. 기능단순노무직 | G24: 164 | H24: 52.3(3.9) | I24: 7.5 | J24: 81 | K24: 82.2(4.5) | L24: 5.5 | M24: 83 | N24: 2.0(1.2) | O24: 58.6
A25: type1 | B25: 5 | D25: 평생흡연율 | E25: 36700177 | F25: 6. 기타 | G25: 260 | H25: 30.9(2.8) | I25: 9.0 | J25: 109 | K25: 64.8(5.4) | L25: 8.3 | M25: 151 | N25: 2.2(1.1) | O25: 47.6
A26: type1 | B26: 5 | D26: 평생흡연율 | E26: 36700177 | F26: 월가구소득
A27: type1 | B27: 5 | D27: 평생흡연율 | E27: 36700177 | F27: 1. 100만원미만 | G27: 315 | H27: 33.8(3.9) | I27: 11.5 | J27: 120 | K27: 73.6(5.6) | L27: 7.6 | M27: 195 | N27: 1.8(0.9) | O27: 49.2
A28: type1 | B28: 5 | D28: 평생흡연율 | E28: 36700177 | F28: 2. 100-200만원미만 | G28: 185 | H28: 37.5(4.0) | I28: 10.7 | J28: 86 | K28: 64.0(7.6) | L28: 11.8 | M28: 99 | N28: 3.8(1.8) | O28: 48.1
A29: type1 | B29: 5 | D29: 평생흡연율 | E29: 36700177 | F29: 3. 200-300만원미만 | G29: 101 | H29: 43.7(4.6) | I29: 10.6 | J29: 51 | K29: 75.3(6.3) | L29: 8.4 | M29: 50 | N29: 0.0(0.0) | O29: .
A30: type1 | B30: 5 | D30: 평생흡연율 | E30: 36700177 | F30: 4. 300-400만원미만 | G30: 72 | H30: 41.2(5.7) | I30: 13.8 | J30: 35 | K30: 76.5(7.3) | L30: 9.5 | M30: 37 | N30: 3.3(3.3) | O30: 99.8
A31: type1 | B31: 5 | D31: 평생흡연율 | E31: 36700177 | F31: 5. 400만원이상 | G31: 211 | H31: 40.9(3.0) | I31: 7.3 | J31: 116 | K31: 65.1(5.2) | L31: 8.0 | M31: 95 | N31: 3.2(1.9) | O31: 60.2
A32: type1 | B32: 5 | D32: 평생흡연율 | E32: 36700177 | F32: 작년 대비 가구소득변화
A33: type1 | B33: 5 | D33: 평생흡연율 | E33: 36700177 | F33: 1. 줄어들었다 | G33: 260 | H33: 44.9(3.7) | I33: 8.2 | J33: 134 | K33: 71.3(5.3) | L33: 7.5 | M33: 126 | N33: 4.1(2.1) | O33: 51.2
A34: type1 | B34: 5 | D34: 평생흡연율 | E34: 36700177 | F34: 2. 변함없다 | G34: 530 | H34: 33.9(2.3) | I34: 6.7 | J34: 228 | K34: 66.0(4.4) | L34: 6.6 | M34: 302 | N34: 2.3(1.0) | O34: 44.0
A35: type1 | B35: 5 | D35: 평생흡연율 | E35: 36700177 | F35: 3. 늘어났다 | G35: 94 | H35: 42.6(4.8) | I35: 11.3 | J35: 46 | K35: 76.2(10.7) | L35: 14.0 | M35: 48 | N35: 0.0(0.0) | O35: .
A36: type1 | B36: 5 | D36: 평생흡연율 | E36: 36700177 | F36: 거주유형
A37: type1 | B37: 5 | D37: 평생흡연율 | E37: 36700177 | F37: 1. 동 | G37: 0 | H37: -(-) | I37: - | J37: 0 | K37: -(-) | L37: - | M37: 0 | N37: -(-) | O37: -
A38: type1 | B38: 5 | D38: 평생흡연율 | E38: 36700177 | F38: 2. 읍면 | G38: 884 | H38: 38.4(1.8) | I38: 4.6 | J38: 408 | K38: 69.2(3.1) | L38: 4.5 | M38: 476 | N38: 2.5(0.8) | O38: 32.7
A39: type1 | B39: 6 | D39: 현재흡연율 | E39: 36700177 | F39: 전체 | G39: 884 | H39: 18.0(1.6) | I39: 8.9 | J39: 408 | K39: 32.1(2.7) | L39: 8.5 | M39: 476 | N39: 1.5(0.5) | O39: 32.0
A40: type1 | B40: 6 | D40: 현재흡연율 | E40: 36700177 | F40: 연령
A41: type1 | B41: 6 | D41: 현재흡연율 | E41: 36700177 | F41: 19-29 | G41: 19 | H41: -(-) | I41: - | J41: 13 | K41: -(-) | L41: - | M41: 6 | N41: -(-) | O41: -
A42: type1 | B42: 6 | D42: 현재흡연율 | E42: 36700177 | F42: 30-39 | G42: 19 | H42: -(-) | I42: - | J42: 10 | K42: -(-) | L42: - | M42: 9 | N42: -(-) | O42: -
A43: type1 | B43: 6 | D43: 현재흡연율 | E43: 36700177 | F43: 40-49 | G43: 59 | H43: 39.9(5.5) | I43: 13.7 | J43: 30 | K43: 60.0(7.2) | L43: 12.1 | M43: 29 | N43: 0.0(0.0) | O43: .
A44: type1 | B44: 6 | D44: 현재흡연율 | E44: 36700177 | F44: 50-59 | G44: 149 | H44: 30.1(4.2) | I44: 13.9 | J44: 78 | K44: 47.6(6.2) | L44: 13.1 | M44: 71 | N44: 1.4(1.4) | O44: 100.1
A45: type1 | B45: 6 | D45: 현재흡연율 | E45: 36700177 | F45: 60-69 | G45: 239 | H45: 15.3(2.4) | I45: 15.5 | J45: 124 | K45: 23.9(3.7) | L45: 15.4 | M45: 115 | N45: 4.8(1.8) | O45: 37.2
A46: type1 | B46: 6 | D46: 현재흡연율 | E46: 36700177 | F46: 70이상 | G46: 399 | H46: 5.8(1.3) | I46: 21.8 | J46: 153 | K46: 13.0(2.8) | L46: 21.4 | M46: 246 | N46: 0.8(0.5) | O46: 58.0
A47: type1 | B47: 6 | D47: 현재흡연율 | E47: 36700177
A48: type1 | B48: 6 | D48: 현재흡연율 | E48: 36700177 | F48: 19-64 | G48: 370 | H48: 26.6(2.5) | I48: 9.3 | J48: 199 | K48: 42.0(4.0) | L48: 9.6 | M48: 171 | N48: 1.5(0.7) | O48: 44.4
A49: type1 | B49: 6 | D49: 현재흡연율 | E49: 36700177 | F49: 65이상 | G49: 514 | H49: 6.9(1.2) | I49: 17.3 | J49: 209 | K49: 13.9(2.3) | L49: 16.8 | M49: 305 | N49: 1.6(0.7) | O49: 47.2
A50: type1 | B50: 6 | D50: 현재흡연율 | E50: 36700177 | F50: 교육수준
A51: type1 | B51: 6 | D51: 현재흡연율 | E51: 36700177 | F51: 1. 무학 | G51: 169 | H51: 4.0(2.2) | I51: 54.0 | J51: 10 | K51: -(-) | L51: - | M51: 159 | N51: 1.7(1.3) | O51: 75.0
A52: type1 | B52: 6 | D52: 현재흡연율 | E52: 36700177 | F52: 2. 초등학교 | G52: 239 | H52: 8.9(2.1) | I52: 23.8 | J52: 103 | K52: 18.0(3.9) | L52: 21.9 | M52: 136 | N52: 1.3(0.9) | O52: 70.8
A53: type1 | B53: 6 | D53: 현재흡연율 | E53: 36700177 | F53: 3. 중학교 | G53: 165 | H53: 15.6(2.8) | I53: 18.1 | J53: 90 | K53: 23.9(4.4) | L53: 18.4 | M53: 75 | N53: 3.7(2.0) | O53: 54.6
A54: type1 | B54: 6 | D54: 현재흡연율 | E54: 36700177 | F54: 4. 고등학교 | G54: 225 | H54: 29.7(3.3) | I54: 11.1 | J54: 150 | K54: 41.6(4.6) | L54: 11.2 | M54: 75 | N54: 0.8(0.9) | O54: 100.8
A55: type1 | B55: 6 | D55: 현재흡연율 | E55: 36700177 | F55: 5. 대학교이상 | G55: 86 | H55: 20.2(5.3) | I55: 26.2 | J55: 55 | K55: 30.4(8.1) | L55: 26.6 | M55: 31 | N55: 0.0(0.0) | O55: .
A56: type1 | B56: 6 | D56: 현재흡연율 | E56: 36700177 | F56: 직업
A57: type1 | B57: 6 | D57: 현재흡연율 | E57: 36700177 | F57: 1. 전문행정관리 | G57: 26 | H57: 8.0(5.6) | I57: 70.0 | J57: 17 | K57: -(-) | L57: - | M57: 9 | N57: -(-) | O57: -
A58: type1 | B58: 6 | D58: 현재흡연율 | E58: 36700177 | F58: 2. 사무직 | G58: 19 | H58: -(-) | I58: - | J58: 5 | K58: -(-) | L58: - | M58: 14 | N58: -(-) | O58: -
A59: type1 | B59: 6 | D59: 현재흡연율 | E59: 36700177 | F59: 3. 판매서비스직 | G59: 71 | H59: 2.9(1.7) | I59: 57.3 | J59: 15 | K59: -(-) | L59: - | M59: 56 | N59: 2.6(1.9) | O59: 70.1
A60: type1 | B60: 6 | D60: 현재흡연율 | E60: 36700177 | F60: 4. 농림어업 | G60: 344 | H60: 24.1(3.0) | I60: 12.3 | J60: 181 | K60: 38.1(4.4) | L60: 11.4 | M60: 163 | N60: 0.6(0.6) | O60: 99.7
A61: type1 | B61: 6 | D61: 현재흡연율 | E61: 36700177 | F61: 5. 기능단순노무직 | G61: 164 | H61: 28.2(4.1) | I61: 14.7 | J61: 81 | K61: 43.8(5.9) | L61: 13.4 | M61: 83 | N61: 2.0(1.2) | O61: 58.6
A62: type1 | B62: 6 | D62: 현재흡연율 | E62: 36700177 | F62: 6. 기타 | G62: 260 | H62: 7.8(1.7) | I62: 22.0 | J62: 109 | K62: 14.4(3.7) | L62: 25.4 | M62: 151 | N62: 2.2(1.1) | O62: 47.6
A63: type1 | B63: 6 | D63: 현재흡연율 | E63: 36700177 | F63: 월가구소득
A64: type1 | B64: 6 | D64: 현재흡연율 | E64: 36700177 | F64: 1. 100만원미만 | G64: 315 | H64: 13.3(2.5) | I64: 18.7 | J64: 120 | K64: 27.6(4.5) | L64: 16.4 | M64: 195 | N64: 1.8(0.9) | O64: 49.2
A65: type1 | B65: 6 | D65: 현재흡연율 | E65: 36700177 | F65: 2. 100-200만원미만 | G65: 185 | H65: 17.8(3.9) | I65: 21.7 | J65: 86 | K65: 29.8(6.9) | L65: 23.1 | M65: 99 | N65: 2.6(1.3) | O65: 52.1
A66: type1 | B66: 6 | D66: 현재흡연율 | E66: 36700177 | F66: 3. 200-300만원미만 | G66: 101 | H66: 21.7(5.8) | I66: 26.7 | J66: 51 | K66: 37.5(9.3) | L66: 24.8 | M66: 50 | N66: 0.0(0.0) | O66: .
A67: type1 | B67: 6 | D67: 현재흡연율 | E67: 36700177 | F67: 4. 300-400만원미만 | G67: 72 | H67: 17.6(5.9) | I67: 33.6 | J67: 35 | K67: 34.0(9.9) | L67: 29.0 | M67: 37 | N67: 0.0(0.0) | O67: .
A68: type1 | B68: 6 | D68: 현재흡연율 | E68: 36700177 | F68: 5. 400만원이상 | G68: 211 | H68: 21.7(2.8) | I68: 12.9 | J68: 116 | K68: 34.5(4.7) | L68: 13.7 | M68: 95 | N68: 1.6(1.1) | O68: 69.1
A69: type1 | B69: 6 | D69: 현재흡연율 | E69: 36700177 | F69: 작년 대비 가구소득변화
A70: type1 | B70: 6 | D70: 현재흡연율 | E70: 36700177 | F70: 1. 줄어들었다 | G70: 260 | H70: 21.5(2.9) | I70: 13.7 | J70: 134 | K70: 33.7(4.3) | L70: 12.7 | M70: 126 | N70: 2.5(1.5) | O70: 60.4
A71: type1 | B71: 6 | D71: 현재흡연율 | E71: 36700177 | F71: 2. 변함없다 | G71: 530 | H71: 15.2(2.2) | I71: 14.2 | J71: 228 | K71: 29.2(4.0) | L71: 13.6 | M71: 302 | N71: 1.4(0.6) | O71: 40.6
A72: type1 | B72: 6 | D72: 현재흡연율 | E72: 36700177 | F72: 3. 늘어났다 | G72: 94 | H72: 22.2(5.9) | I72: 26.5 | J72: 46 | K72: 39.6(10.6) | L72: 26.7 | M72: 48 | N72: 0.0(0.0) | O72: .
A73: type1 | B73: 6 | D73: 현재흡연율 | E73: 36700177 | F73: 거주유형
A74: type1 | B74: 6 | D74: 현재흡연율 | E74: 36700177 | F74: 1. 동 | G74: 0 | H74: -(-) | I74: - | J74: 0 | K74: -(-) | L74: - | M74: 0 | N74: -(-) | O74: -
A75: type1 | B75: 6 | D75: 현재흡연율 | E75: 36700177 | F75: 2. 읍면 | G75: 884 | H75: 18.0(1.6) | I75: 8.9 | J75: 408 | K75: 32.1(2.7) | L75: 8.5 | M75: 476 | N75: 1.5(0.5) | O75: 32.0
A76: type1 | B76: 7 | D76: 남자 현재흡연율 | E76: 36700177 | F76: 전체 | G76: 408 | H76: 32.1(2.7) | I76: 8.5 | J76: 408 | K76: 32.1(2.7) | L76: 8.5 | M76: 0 | N76: -(-) | O76: -
A77: type1 | B77: 7 | D77: 남자 현재흡연율 | E77: 36700177 | F77: 연령
A78: type1 | B78: 7 | D78: 남자 현재흡연율 | E78: 36700177 | F78: 19-29 | G78: 13 | H78: -(-) | I78: - | J78: 13 | K78: -(-) | L78: - | M78: 0 | N78: -(-) | O78: -
A79: type1 | B79: 7 | D79: 남자 현재흡연율 | E79: 36700177 | F79: 30-39 | G79: 10 | H79: -(-) | I79: - | J79: 10 | K79: -(-) | L79: - | M79: 0 | N79: -(-) | O79: -
A80: type1 | B80: 7 | D80: 남자 현재흡연율 | E80: 36700177 | F80: 40-49 | G80: 30 | H80: 60.0(7.2) | I80: 12.1 | J80: 30 | K80: 60.0(7.2) | L80: 12.1 | M80: 0 | N80: -(-) | O80: -
A81: type1 | B81: 7 | D81: 남자 현재흡연율 | E81: 36700177 | F81: 50-59 | G81: 78 | H81: 47.6(6.2) | I81: 13.1 | J81: 78 | K81: 47.6(6.2) | L81: 13.1 | M81: 0 | N81: -(-) | O81: -
A82: type1 | B82: 7 | D82: 남자 현재흡연율 | E82: 36700177 | F82: 60-69 | G82: 124 | H82: 23.9(3.7) | I82: 15.4 | J82: 124 | K82: 23.9(3.7) | L82: 15.4 | M82: 0 | N82: -(-) | O82: -
A83: type1 | B83: 7 | D83: 남자 현재흡연율 | E83: 36700177 | F83: 70이상 | G83: 153 | H83: 13.0(2.8) | I83: 21.4 | J83: 153 | K83: 13.0(2.8) | L83: 21.4 | M83: 0 | N83: -(-) | O83: -
A84: type1 | B84: 7 | D84: 남자 현재흡연율 | E84: 36700177
A85: type1 | B85: 7 | D85: 남자 현재흡연율 | E85: 36700177 | F85: 19-64 | G85: 199 | H85: 42.0(4.0) | I85: 9.6 | J85: 199 | K85: 42.0(4.0) | L85: 9.6 | M85: 0 | N85: -(-) | O85: -
A86: type1 | B86: 7 | D86: 남자 현재흡연율 | E86: 36700177 | F86: 65이상 | G86: 209 | H86: 13.9(2.3) | I86: 16.8 | J86: 209 | K86: 13.9(2.3) | L86: 16.8 | M86: 0 | N86: -(-) | O86: -
A87: type1 | B87: 7 | D87: 남자 현재흡연율 | E87: 36700177 | F87: 교육수준
A88: type1 | B88: 7 | D88: 남자 현재흡연율 | E88: 36700177 | F88: 1. 무학 | G88: 10 | H88: -(-) | I88: - | J88: 10 | K88: -(-) | L88: - | M88: 0 | N88: -(-) | O88: -
A89: type1 | B89: 7 | D89: 남자 현재흡연율 | E89: 36700177 | F89: 2. 초등학교 | G89: 103 | H89: 18.0(3.9) | I89: 21.9 | J89: 103 | K89: 18.0(3.9) | L89: 21.9 | M89: 0 | N89: -(-) | O89: -
A90: type1 | B90: 7 | D90: 남자 현재흡연율 | E90: 36700177 | F90: 3. 중학교 | G90: 90 | H90: 23.9(4.4) | I90: 18.4 | J90: 90 | K90: 23.9(4.4) | L90: 18.4 | M90: 0 | N90: -(-) | O90: -
A91: type1 | B91: 7 | D91: 남자 현재흡연율 | E91: 36700177 | F91: 4. 고등학교 | G91: 150 | H91: 41.6(4.6) | I91: 11.2 | J91: 150 | K91: 41.6(4.6) | L91: 11.2 | M91: 0 | N91: -(-) | O91: -
A92: type1 | B92: 7 | D92: 남자 현재흡연율 | E92: 36700177 | F92: 5. 대학교이상 | G92: 55 | H92: 30.4(8.1) | I92: 26.6 | J92: 55 | K92: 30.4(8.1) | L92: 26.6 | M92: 0 | N92: -(-) | O92: -
A93: type1 | B93: 7 | D93: 남자 현재흡연율 | E93: 36700177 | F93: 직업
A94: type1 | B94: 7 | D94: 남자 현재흡연율 | E94: 36700177 | F94: 1. 전문행정관리 | G94: 17 | H94: -(-) | I94: - | J94: 17 | K94: -(-) | L94: - | M94: 0 | N94: -(-) | O94: -
A95: type1 | B95: 7 | D95: 남자 현재흡연율 | E95: 36700177 | F95: 2. 사무직 | G95: 5 | H95: -(-) | I95: - | J95: 5 | K95: -(-) | L95: - | M95: 0 | N95: -(-) | O95: -
A96: type1 | B96: 7 | D96: 남자 현재흡연율 | E96: 36700177 | F96: 3. 판매서비스직 | G96: 15 | H96: -(-) | I96: - | J96: 15 | K96: -(-) | L96: - | M96: 0 | N96: -(-) | O96: -
A97: type1 | B97: 7 | D97: 남자 현재흡연율 | E97: 36700177 | F97: 4. 농림어업 | G97: 181 | H97: 38.1(4.4) | I97: 11.4 | J97: 181 | K97: 38.1(4.4) | L97: 11.4 | M97: 0 | N97: -(-) | O97: -
A98: type1 | B98: 7 | D98: 남자 현재흡연율 | E98: 36700177 | F98: 5. 기능단순노무직 | G98: 81 | H98: 43.8(5.9) | I98: 13.4 | J98: 81 | K98: 43.8(5.9) | L98: 13.4 | M98: 0 | N98: -(-) | O98: -
A99: type1 | B99: 7 | D99: 남자 현재흡연율 | E99: 36700177 | F99: 6. 기타 | G99: 109 | H99: 14.4(3.7) | I99: 25.4 | J99: 109 | K99: 14.4(3.7) | L99: 25.4 | M99: 0 | N99: -(-) | O99: -
A100: type1 | B100: 7 | D100: 남자 현재흡연율 | E100: 36700177 | F100: 월가구소득
...

Sheet <표>평생흡연율
A1: <표 17> 평생흡연율1)
A2: (단위: %)
A3: 구분 | B3: 전체 | E3: 남자 | H3: 여자
B4: N | C4: %(표준오차) | D4: 상대표준오차 | E4: N | F4: %(표준오차) | G4: 상대표준오차 | H4: N | I4: %(표준오차) | J4: 상대표준오차
A5: 전체 | B5: =data!G2 -> 884 | C5: =data!H2 -> 38.4(1.8) | D5: =data!I2 -> 4.6 | E5: =data!J2 -> 408 | F5: =data!K2 -> 69.2(3.1) | G5: =data!L2 -> 4.5 | H5: =data!M2 -> 476 | I5: =data!N2 -> 2.5(0.8) | J5: =data!O2 -> 32.7
A6: 연령
A7: 19-29 | B7: =data!G4 -> 19 | C7: =data!H4 -> -(-) | D7: =data!I4 -> - | E7: =data!J4 -> 13 | F7: =data!K4 -> -(-) | G7: =data!L4 -> - | H7: =data!M4 -> 6 | I7: =data!N4 -> -(-) | J7: =data!O4 -> -
A8: 30-39 | B8: =data!G5 -> 19 | C8: =data!H5 -> -(-) | D8: =data!I5 -> - | E8: =data!J5 -> 10 | F8: =data!K5 -> -(-) | G8: =data!L5 -> - | H8: =data!M5 -> 9 | I8: =data!N5 -> -(-) | J8: =data!O5 -> -
A9: 40-49 | B9: =data!G6 -> 59 | C9: =data!H6 -> 58.2(6.6) | D9: =data!I6 -> 11.3 | E9: =data!J6 -> 30 | F9: =data!K6 -> 83.3(6.9) | G9: =data!L6 -> 8.3 | H9: =data!M6 -> 29 | I9: =data!N6 -> 8.3(5.6) | J9: =data!O6 -> 67.2
A10: 50-59 | B10: =data!G7 -> 149 | C10: =data!H7 -> 53.2(3.9) | D10: =data!I7 -> 7.3 | E10: =data!J7 -> 78 | F10: =data!K7 -> 84.0(4.0) | G10: =data!L7 -> 4.8 | H10: =data!M7 -> 71 | I10: =data!N7 -> 2.8(2.0) | J10: =data!O7 -> 69.8
A11: 60-69 | B11: =data!G8 -> 239 | C11: =data!H8 -> 39.9(3.3) | D11: =data!I8 -> 8.4 | E11: =data!J8 -> 124 | F11: =data!K8 -> 68.7(4.4) | G11: =data!L8 -> 6.4 | H11: =data!M8 -> 115 | I11: =data!N8 -> 4.8(1.8) | J11: =data!O8 -> 37.2
A12: 70 이상 | B12: =data!G9 -> 399 | C12: =data!H9 -> 30.5(2.2) | D12: =data!I9 -> 7.2 | E12: =data!J9 -> 153 | F12: =data!K9 -> 73.1(3.4) | G12: =data!L9 -> 4.6 | H12: =data!M9 -> 246 | I12: =data!N9 -> 0.8(0.5) | J12: =data!O9 -> 58.0
A14: 19-64 | B14: =data!G11 -> 370 | C14: =data!H11 -> 43.3(2.7) | D14: =data!I11 -> 6.3 | E14: =data!J11 -> 199 | F14: =data!K11 -> 67.7(4.4) | G14: =data!L11 -> 6.5 | H14: =data!M11 -> 171 | I14: =data!N11 -> 3.5(1.5) | J14: =data!O11 -> 43.6
A15: 65 이상 | B15: =data!G12 -> 514 | C15: =data!H12 -> 32.2(1.9) | D15: =data!I12 -> 6.0 | E15: =data!J12 -> 209 | F15: =data!K12 -> 72.1(3.1) | G15: =data!L12 -> 4.2 | H15: =data!M12 -> 305 | I15: =data!N12 -> 1.6(0.7) | J15: =data!O12 -> 47.2
A16: 교육수준2)
A17: 무학 | B17: =data!G14 -> 169 | C17: =data!H14 -> 5.2(2.3) | D17: =data!I14 -> 43.6 | E17: =data!J14 -> 10 | F17: =data!K14 -> -(-) | G17: =data!L14 -> - | H17: =data!M14 -> 159 | I17: =data!N14 -> 1.7(1.3) | J17: =data!O14 -> 75.0
A18: 초등학교 | B18: =data!G15 -> 239 | C18: =data!H15 -> 31.6(2.8) | D18: =data!I15 -> 8.8 | E18: =data!J15 -> 103 | F18: =data!K15 -> 68.2(4.4) | G18: =data!L15 -> 6.5 | H18: =data!M15 -> 136 | I18: =data!N15 -> 1.3(0.9) | J18: =data!O15 -> 70.8
A19: 중학교 | B19: =data!G16 -> 165 | C19: =data!H16 -> 48.3(3.8) | D19: =data!I16 -> 7.9 | E19: =data!J16 -> 90 | F19: =data!K16 -> 79.7(4.8) | G19: =data!L16 -> 6.1 | H19: =data!M16 -> 75 | I19: =data!N16 -> 3.7(2.0) | J19: =data!O16 -> 54.6
A20: 고등학교 | B20: =data!G17 -> 225 | C20: =data!H17 -> 51.6(4.1) | D20: =data!I17 -> 8.0 | E20: =data!J17 -> 150 | F20: =data!K17 -> 71.1(5.3) | G20: =data!L17 -> 7.4 | H20: =data!M17 -> 75 | I20: =data!N17 -> 4.1(2.4) | J20: =data!O17 -> 57.1
A21: 대학교 이상 | B21: =data!G18 -> 86 | C21: =data!H18 -> 38.9(5.9) | D21: =data!I18 -> 15.1 | E21: =data!J18 -> 55 | F21: =data!K18 -> 57.7(9.6) | G21: =data!L18 -> 16.6 | H21: =data!M18 -> 31 | I21: =data!N18 -> 2.1(2.2) | J21: =data!O18 -> 102.7
A22: 직업
A23: 전문행정관리 | B23: =data!G20 -> 26 | C23: =data!H20 -> 27.2(8.5) | D23: =data!I20 -> 31.3 | E23: =data!J20 -> 17 | F23: =data!K20 -> -(-) | G23: =data!L20 -> - | H23: =data!M20 -> 9 | I23: =data!N20 -> -(-) | J23: =data!O20 -> -
A24: 사무직 | B24: =data!G21 -> 19 | C24: =data!H21 -> -(-) | D24: =data!I21 -> - | E24: =data!J21 -> 5 | F24: =data!K21 -> -(-) | G24: =data!L21 -> - | H24: =data!M21 -> 14 | I24: =data!N21 -> -(-) | J24: =data!O21 -> -
A25: 판매･서비스직 | B25: =data!G22 -> 71 | C25: =data!H22 -> 18.1(4.9) | D25: =data!I22 -> 27.1 | E25: =data!J22 -> 15 | F25: =data!K22 -> -(-) | G25: =data!L22 -> - | H25: =data!M22 -> 56 | I25: =data!N22 -> 7.2(3.7) | J25: =data!O22 -> 50.8
A26: 농림어업 | B26: =data!G23 -> 344 | C26: =data!H23 -> 43.8(3.0) | D26: =data!I23 -> 6.9 | E26: =data!J23 -> 181 | F26: =data!K23 -> 69.8(4.3) | G26: =data!L23 -> 6.2 | H26: =data!M23 -> 163 | I26: =data!N23 -> 0.6(0.6) | J26: =data!O23 -> 99.7
A27: 기능단순노무직 | B27: =data!G24 -> 164 | C27: =data!H24 -> 52.3(3.9) | D27: =data!I24 -> 7.5 | E27: =data!J24 -> 81 | F27: =data!K24 -> 82.2(4.5) | G27: =data!L24 -> 5.5 | H27: =data!M24 -> 83 | I27: =data!N24 -> 2.0(1.2) | J27: =data!O24 -> 58.6
A28: 기타3) | B28: =data!G25 -> 260 | C28: =data!H25 -> 30.9(2.8) | D28: =data!I25 -> 9.0 | E28: =data!J25 -> 109 | F28: =data!K25 -> 64.8(5.4) | G28: =data!L25 -> 8.3 | H28: =data!M25 -> 151 | I28: =data!N25 -> 2.2(1.1) | J28: =data!O25 -> 47.6
A29: 월 가구소득
A30: 100만원 미만 | B30: =data!G27 -> 315 | C30: =data!H27 -> 33.8(3.9) | D30: =data!I27 -> 11.5 | E30: =data!J27 -> 120 | F30: =data!K27 -> 73.6(5.6) | G30: =data!L27 -> 7.6 | H30: =data!M27 -> 195 | I30: =data!N27 -> 1.8(0.9) | J30: =data!O27 -> 49.2
A31: 100-200만원 미만 | B31: =data!G28 -> 185 | C31: =data!H28 -> 37.5(4.0) | D31: =data!I28 -> 10.7 | E31: =data!J28 -> 86 | F31: =data!K28 -> 64.0(7.6) | G31: =data!L28 -> 11.8 | H31: =data!M28 -> 99 | I31: =data!N28 -> 3.8(1.8) | J31: =data!O28 -> 48.1
A32: 200-300만원 미만 | B32: =data!G29 -> 101 | C32: =data!H29 -> 43.7(4.6) | D32: =data!I29 -> 10.6 | E32: =data!J29 -> 51 | F32: =data!K29 -> 75.3(6.3) | G32: =data!L29 -> 8.4 | H32: =data!M29 -> 50 | I32: =data!N29 -> 0.0(0.0) | J32: =data!O29 -> .
A33: 300-400만원 미만 | B33: =data!G30 -> 72 | C33: =data!H30 -> 41.2(5.7) | D33: =data!I30 -> 13.8 | E33: =data!J30 -> 35 | F33: =data!K30 -> 76.5(7.3) | G33: =data!L30 -> 9.5 | H33: =data!M30 -> 37 | I33: =data!N30 -> 3.3(3.3) | J33: =data!O30 -> 99.8
A34: 400만원 이상 | B34: =data!G31 -> 211 | C34: =data!H31 -> 40.9(3.0) | D34: =data!I31 -> 7.3 | E34: =data!J31 -> 116 | F34: =data!K31 -> 65.1(5.2) | G34: =data!L31 -> 8.0 | H34: =data!M31 -> 95 | I34: =data!N31 -> 3.2(1.9) | J34: =data!O31 -> 60.2
A35: 작년 대비 가구소득 변화
A36: 줄어들었다 | B36: =data!G33 -> 260 | C36: =data!H33 -> 44.9(3.7) | D36: =data!I33 -> 8.2 | E36: =data!J33 -> 134 | F36: =data!K33 -> 71.3(5.3) | G36: =data!L33 -> 7.5 | H36: =data!M33 -> 126 | I36: =data!N33 -> 4.1(2.1) | J36: =data!O33 -> 51.2
A37: 변함없다 | B37: =data!G34 -> 530 | C37: =data!H34 -> 33.9(2.3) | D37: =data!I34 -> 6.7 | E37: =data!J34 -> 228 | F37: =data!K34 -> 66.0(4.4) | G37: =data!L34 -> 6.6 | H37: =data!M34 -> 302 | I37: =data!N34 -> 2.3(1.0) | J37: =data!O34 -> 44.0
A38: 늘어났다 | B38: =data!G35 -> 94 | C38: =data!H35 -> 42.6(4.8) | D38: =data!I35 -> 11.3 | E38: =data!J35 -> 46 | F38: =data!K35 -> 76.2(10.7) | G38: =data!L35 -> 14.0 | H38: =data!M35 -> 48 | I38: =data!N35 -> 0.0(0.0) | J38: =data!O35 -> .
A39: 거주유형
A40: 동
A41: 읍〮면 | B41: =data!G38 -> 884 | C41: =data!H38 -> 38.4(1.8) | D41: =data!I38 -> 4.6 | E41: =data!J38 -> 408 | F41: =data!K38 -> 69.2(3.1) | G41: =data!L38 -> 4.5 | H41: =data!M38 -> 476 | I41: =data!N38 -> 2.5(0.8) | J41: =data!O38 -> 32.7
A43: 주 1) 평생흡연율 : (평생 일반담배(궐련)를 5갑(100개비) 이상 피운 사람의 수 / 조사대상 응답자 수) × 100
A44: 2) 교육수준 : 각 해당 교육 수준 기관의 졸업자 및 그 이상 학력의 재학, 수료, 중퇴, 휴학한 자를 포함
A45: 3) 기타 : 군인, 학생, 주부, 무직

Sheet <표>현재흡연율
A1: <표 18> 현재흡연율1)
A2: (단위: %)
A3: 구분 | B3: 전체 | E3: 남자 | H3: 여자
B4: N | C4: %(표준오차) | D4: 상대표준오차 | E4: N | F4: %(표준오차) | G4: 상대표준오차 | H4: N | I4: %(표준오차) | J4: 상대표준오차
A5: 전체 | B5: =data!G39 -> 884 | C5: =data!H39 -> 18.0(1.6) | D5: =data!I39 -> 8.9 | E5: =data!J39 -> 408 | F5: =data!K39 -> 32.1(2.7) | G5: =data!L39 -> 8.5 | H5: =data!M39 -> 476 | I5: =data!N39 -> 1.5(0.5) | J5: =data!O39 -> 32.0
A6: 연령
A7: 19-29 | B7: =data!G41 -> 19 | C7: =data!H41 -> -(-) | D7: =data!I41 -> - | E7: =data!J41 -> 13 | F7: =data!K41 -> -(-) | G7: =data!L41 -> - | H7: =data!M41 -> 6 | I7: =data!N41 -> -(-) | J7: =data!O41 -> -
A8: 30-39 | B8: =data!G42 -> 19 | C8: =data!H42 -> -(-) | D8: =data!I42 -> - | E8: =data!J42 -> 10 | F8: =data!K42 -> -(-) | G8: =data!L42 -> - | H8: =data!M42 -> 9 | I8: =data!N42 -> -(-) | J8: =data!O42 -> -
A9: 40-49 | B9: =data!G43 -> 59 | C9: =data!H43 -> 39.9(5.5) | D9: =data!I43 -> 13.7 | E9: =data!J43 -> 30 | F9: =data!K43 -> 60.0(7.2) | G9: =data!L43 -> 12.1 | H9: =data!M43 -> 29 | I9: =data!N43 -> 0.0(0.0) | J9: =data!O43 -> .
A10: 50-59 | B10: =data!G44 -> 149 | C10: =data!H44 -> 30.1(4.2) | D10: =data!I44 -> 13.9 | E10: =data!J44 -> 78 | F10: =data!K44 -> 47.6(6.2) | G10: =data!L44 -> 13.1 | H10: =data!M44 -> 71 | I10: =data!N44 -> 1.4(1.4) | J10: =data!O44 -> 100.1
A11: 60-69 | B11: =data!G45 -> 239 | C11: =data!H45 -> 15.3(2.4) | D11: =data!I45 -> 15.5 | E11: =data!J45 -> 124 | F11: =data!K45 -> 23.9(3.7) | G11: =data!L45 -> 15.4 | H11: =data!M45 -> 115 | I11: =data!N45 -> 4.8(1.8) | J11: =data!O45 -> 37.2
A12: 70 이상 | B12: =data!G46 -> 399 | C12: =data!H46 -> 5.8(1.3) | D12: =data!I46 -> 21.8 | E12: =data!J46 -> 153 | F12: =data!K46 -> 13.0(2.8) | G12: =data!L46 -> 21.4 | H12: =data!M46 -> 246 | I12: =data!N46 -> 0.8(0.5) | J12: =data!O46 -> 58.0
A14: 19-64 | B14: =data!G48 -> 370 | C14: =data!H48 -> 26.6(2.5) | D14: =data!I48 -> 9.3 | E14: =data!J48 -> 199 | F14: =data!K48 -> 42.0(4.0) | G14: =data!L48 -> 9.6 | H14: =data!M48 -> 171 | I14: =data!N48 -> 1.5(0.7) | J14: =data!O48 -> 44.4
A15: 65 이상 | B15: =data!G49 -> 514 | C15: =data!H49 -> 6.9(1.2) | D15: =data!I49 -> 17.3 | E15: =data!J49 -> 209 | F15: =data!K49 -> 13.9(2.3) | G15: =data!L49 -> 16.8 | H15: =data!M49 -> 305 | I15: =data!N49 -> 1.6(0.7) | J15: =data!O49 -> 47.2
A16: 교육수준2)
A17: 무학 | B17: =data!G51 -> 169 | C17: =data!H51 -> 4.0(2.2) | D17: =data!I51 -> 54.0 | E17: =data!J51 -> 10 | F17: =data!K51 -> -(-) | G17: =data!L51 -> - | H17: =data!M51 -> 159 | I17: =data!N51 -> 1.7(1.3) | J17: =data!O51 -> 75.0
A18: 초등학교 | B18: =data!G52 -> 239 | C18: =data!H52 -> 8.9(2.1) | D18: =data!I52 -> 23.8 | E18: =data!J52 -> 103 | F18: =data!K52 -> 18.0(3.9) | G18: =data!L52 -> 21.9 | H18: =data!M52 -> 136 | I18: =data!N52 -> 1.3(0.9) | J18: =data!O52 -> 70.8
A19: 중학교 | B19: =data!G53 -> 165 | C19: =data!H53 -> 15.6(2.8) | D19: =data!I53 -> 18.1 | E19: =data!J53 -> 90 | F19: =data!K53 -> 23.9(4.4) | G19: =data!L53 -> 18.4 | H19: =data!M53 -> 75 | I19: =data!N53 -> 3.7(2.0) | J19: =data!O53 -> 54.6
A20: 고등학교 | B20: =data!G54 -> 225 | C20: =data!H54 -> 29.7(3.3) | D20: =data!I54 -> 11.1 | E20: =data!J54 -> 150 | F20: =data!K54 -> 41.6(4.6) | G20: =data!L54 -> 11.2 | H20: =data!M54 -> 75 | I20: =data!N54 -> 0.8(0.9) | J20: =data!O54 -> 100.8
A21: 대학교 이상 | B21: =data!G55 -> 86 | C21: =data!H55 -> 20.2(5.3) | D21: =data!I55 -> 26.2 | E21: =data!J55 -> 55 | F21: =data!K55 -> 30.4(8.1) | G21: =data!L55 -> 26.6 | H21: =data!M55 -> 31 | I21: =data!N55 -> 0.0(0.0) | J21: =data!O55 -> .
A22: 직업
A23: 전문행정관리 | B23: =data!G57 -> 26 | C23: =data!H57 -> 8.0(5.6) | D23: =data!I57 -> 70.0 | E23: =data!J57 -> 17 | F23: =data!K57 -> -(-) | G23: =data!L57 -> - | H23: =data!M57 -> 9 | I23: =data!N57 -> -(-) | J23: =data!O57 -> -
A24: 사무직 | B24: =data!G58 -> 19 | C24: =data!H58 -> -(-) | D24: =data!I58 -> - | E24: =data!J58 -> 5 | F24: =data!K58 -> -(-) | G24: =data!L58 -> - | H24: =data!M58 -> 14 | I24: =data!N58 -> -(-) | J24: =data!O58 -> -
A25: 판매･서비스직 | B25: =data!G59 -> 71 | C25: =data!H59 -> 2.9(1.7) | D25: =data!I59 -> 57.3 | E25: =data!J59 -> 15 | F25: =data!K59 -> -(-) | G25: =data!L59 -> - | H25: =data!M59 -> 56 | I25: =data!N59 -> 2.6(1.9) | J25: =data!O59 -> 70.1
A26: 농림어업 | B26: =data!G60 -> 344 | C26: =data!H60 -> 24.1(3.0) | D26: =data!I60 -> 12.3 | E26: =data!J60 -> 181 | F26: =data!K60 -> 38.1(4.4) | G26: =data!L60 -> 11.4 | H26: =data!M60 -> 163 | I26: =data!N60 -> 0.6(0.6) | J26: =data!O60 -> 99.7
A27: 기능단순노무직 | B27: =data!G61 -> 164 | C27: =data!H61 -> 28.2(4.1) | D27: =data!I61 -> 14.7 | E27: =data!J61 -> 81 | F27: =data!K61 -> 43.8(5.9) | G27: =data!L61 -> 13.4 | H27: =data!M61 -> 83 | I27: =data!N61 -> 2.0(1.2) | J27: =data!O61 -> 58.6
A28: 기타3) | B28: =data!G62 -> 260 | C28: =data!H62 -> 7.8(1.7) | D28: =data!I62 -> 22.0 | E28: =data!J62 -> 109 | F28: =data!K62 -> 14.4(3.7) | G28: =data!L62 -> 25.4 | H28: =data!M62 -> 151 | I28: =data!N62 -> 2.2(1.1) | J28: =data!O62 -> 47.6
A29: 월 가구소득
A30: 100만원 미만 | B30: =data!G64 -> 315 | C30: =data!H64 -> 13.3(2.5) | D30: =data!I64 -> 18.7 | E30: =data!J64 -> 120 | F30: =data!K64 -> 27.6(4.5) | G30: =data!L64 -> 16.4 | H30: =data!M64 -> 195 | I30: =data!N64 -> 1.8(0.9) | J30: =data!O64 -> 49.2
A31: 100-200만원 미만 | B31: =data!G65 -> 185 | C31: =data!H65 -> 17.8(3.9) | D31: =data!I65 -> 21.7 | E31: =data!J65 -> 86 | F31: =data!K65 -> 29.8(6.9) | G31: =data!L65 -> 23.1 | H31: =data!M65 -> 99 | I31: =data!N65 -> 2.6(1.3) | J31: =data!O65 -> 52.1
A32: 200-300만원 미만 | B32: =data!G66 -> 101 | C32: =data!H66 -> 21.7(5.8) | D32: =data!I66 -> 26.7 | E32: =data!J66 -> 51 | F32: =data!K66 -> 37.5(9.3) | G32: =data!L66 -> 24.8 | H32: =data!M66 -> 50 | I32: =data!N66 -> 0.0(0.0) | J32: =data!O66 -> .
A33: 300-400만원 미만 | B33: =data!G67 -> 72 | C33: =data!H67 -> 17.6(5.9) | D33: =data!I67 -> 33.6 | E33: =data!J67 -> 35 | F33: =data!K67 -> 34.0(9.9) | G33: =data!L67 -> 29.0 | H33: =data!M67 -> 37 | I33: =data!N67 -> 0.0(0.0) | J33: =data!O67 -> .
A34: 400만원 이상 | B34: =data!G68 -> 211 | C34: =data!H68 -> 21.7(2.8) | D34: =data!I68 -> 12.9 | E34: =data!J68 -> 116 | F34: =data!K68 -> 34.5(4.7) | G34: =data!L68 -> 13.7 | H34: =data!M68 -> 95 | I34: =data!N68 -> 1.6(1.1) | J34: =data!O68 -> 69.1
A35: 작년 대비 가구소득 변화
A36: 줄어들었다 | B36: =data!G70 -> 260 | C36: =data!H70 -> 21.5(2.9) | D36: =data!I70 -> 13.7 | E36: =data!J70 -> 134 | F36: =data!K70 -> 33.7(4.3) | G36: =data!L70 -> 12.7 | H36: =data!M70 -> 126 | I36: =data!N70 -> 2.5(1.5) | J36: =data!O70 -> 60.4
A37: 변함없다 | B37: =data!G71 -> 530 | C37: =data!H71 -> 15.2(2.2) | D37: =data!I71 -> 14.2 | E37: =data!J71 -> 228 | F37: =data!K71 -> 29.2(4.0) | G37: =data!L71 -> 13.6 | H37: =data!M71 -> 302 | I37: =data!N71 -> 1.4(0.6) | J37: =data!O71 -> 40.6
A38: 늘어났다 | B38: =data!G72 -> 94 | C38: =data!H72 -> 22.2(5.9) | D38: =data!I72 -> 26.5 | E38: =data!J72 -> 46 | F38: =data!K72 -> 39.6(10.6) | G38: =data!L72 -> 26.7 | H38: =data!M72 -> 48 | I38: =data!N72 -> 0.0(0.0) | J38: =data!O72 -> .
A39: 거주유형
A40: 동
A41: 읍〮면 | B41: =data!G75 -> 884 | C41: =data!H75 -> 18.0(1.6) | D41: =data!I75 -> 8.9 | E41: =data!J75 -> 408 | F41: =data!K75 -> 32.1(2.7) | G41: =data!L75 -> 8.5 | H41: =data!M75 -> 476 | I41: =data!N75 -> 1.5(0.5) | J41: =data!O75 -> 32.0
A43: 주 1) 현재흡연율 : (평생 일반담배(궐련)를 5갑(100개비) 이상 피운 사람 중에서 현재흡연자("매일 피움" 또는 "가끔 피움")의 수 / 조사대상 응답자 수) × 100
A44: 2) 교육수준 : 각 해당 교육 수준 기관의 졸업자 및 그 이상 학력의 재학, 수료, 중퇴, 휴학한 자를 포함
A45: 3) 기타 : 군인, 학생, 주부, 무직

Sheet <표>매일흡연자의하루평균흡연량
A1: <표 19> 매일흡연자의 하루 평균 흡연량1)
A2: (단위: %, 개비)
A3: 구분 | B3: N2) | C3: 10개비 미만 | E3: 10-19개비 | G3: 20-39개비 | I3: 40개비 이상 | K3: 평균
C4: %(표준오차) | D4: 상대표준오차 | E4: %(표준오차) | F4: 상대표준오차 | G4: %(표준오차) | H4: 상대표준오차 | I4: %(표준오차) | J4: 상대표준오차 | K4: 개비(표준오차) | L4: 상대표준오차
A5: 전체 | B5: =data!P113 -> 108 | C5: =data!Q153 -> 10.4(3.2) | D5: =data!R153 -> 30.7 | E5: =data!Q193 -> 32.0(4.8) | F5: =data!R193 -> 14.8 | G5: =data!Q233 -> 51.2(6.0) | H5: =data!R233 -> 11.7 | I5: =data!Q273 -> 6.3(2.6) | J5: =data!R273 -> 40.9 | K5: =data!Q113 -> 17.9(1.0) | L5: =data!R113 -> 5.8
A6: 성
A7: 남자 | B7: =data!P115 -> 102 | C7: =data!Q155 -> 9.8(3.2) | D7: =data!R155 -> 32.7 | E7: =data!Q195 -> 31.0(4.9) | F7: =data!R195 -> 15.9 | G7: =data!Q235 -> 52.7(6.2) | H7: =data!R235 -> 11.8 | I7: =data!Q275 -> 6.5(2.7) | J7: =data!R275 -> 40.9 | K7: =data!Q115 -> 18.2(1.1) | L7: =data!R115 -> 5.9
A8: 여자 | B8: =data!P116 -> 6 | C8: =data!Q156 -> -(-) | D8: =data!R156 -> - | E8: =data!Q196 -> -(-) | F8: =data!R196 -> - | G8: =data!Q236 -> -(-) | H8: =data!R236 -> - | I8: =data!Q276 -> -(-) | J8: =data!R276 -> - | K8: =data!Q116 -> -(-) | L8: =data!R116 -> -
A9: 연령
A10: 19-29 | B10: =data!P118 -> 2 | C10: =data!Q158 -> -(-) | D10: =data!R158 -> - | E10: =data!Q198 -> -(-) | F10: =data!R198 -> - | G10: =data!Q238 -> -(-) | H10: =data!R238 -> - | I10: =data!Q278 -> -(-) | J10: =data!R278 -> - | K10: =data!Q118 -> -(-) | L10: =data!R118 -> -
A11: 30-39 | B11: =data!P119 -> 4 | C11: =data!Q159 -> -(-) | D11: =data!R159 -> - | E11: =data!Q199 -> -(-) | F11: =data!R199 -> - | G11: =data!Q239 -> -(-) | H11: =data!R239 -> - | I11: =data!Q279 -> -(-) | J11: =data!R279 -> - | K11: =data!Q119 -> -(-) | L11: =data!R119 -> -
A12: 40-49 | B12: =data!P120 -> 16 | C12: =data!Q160 -> -(-) | D12: =data!R160 -> - | E12: =data!Q200 -> -(-) | F12: =data!R200 -> - | G12: =data!Q240 -> -(-) | H12: =data!R240 -> - | I12: =data!Q280 -> -(-) | J12: =data!R280 -> - | K12: =data!Q120 -> -(-) | L12: =data!R120 -> -
A13: 50-59 | B13: =data!P121 -> 37 | C13: =data!Q161 -> 5.2(3.7) | D13: =data!R161 -> 71.6 | E13: =data!Q201 -> 31.5(7.8) | F13: =data!R201 -> 24.7 | G13: =data!Q241 -> 55.9(8.9) | H13: =data!R241 -> 16.0 | I13: =data!Q281 -> 7.5(4.4) | J13: =data!R281 -> 58.9 | K13: =data!Q121 -> 19.4(1.7) | L13: =data!R121 -> 8.5
A14: 60-69 | B14: =data!P122 -> 30 | C14: =data!Q162 -> 16.7(7.3) | D14: =data!R162 -> 43.7 | E14: =data!Q202 -> 34.9(10.1) | F14: =data!R202 -> 28.9 | G14: =data!Q242 -> 38.3(9.4) | H14: =data!R242 -> 24.5 | I14: =data!Q282 -> 10.0(5.6) | J14: =data!R282 -> 55.7 | K14: =data!Q122 -> 17.4(1.8) | L14: =data!R122 -> 10.3
A15: 70 이상 | B15: =data!P123 -> 19 | C15: =data!Q163 -> -(-) | D15: =data!R163 -> - | E15: =data!Q203 -> -(-) | F15: =data!R203 -> - | G15: =data!Q243 -> -(-) | H15: =data!R243 -> - | I15: =data!Q283 -> -(-) | J15: =data!R283 -> - | K15: =data!Q123 -> -(-) | L15: =data!R123 -> -
A17: 19-64 | B17: =data!P125 -> 78 | C17: =data!Q165 -> 8.6(3.5) | D17: =data!R165 -> 41.0 | E17: =data!Q205 -> 29.7(5.6) | F17: =data!R205 -> 18.7 | G17: =data!Q245 -> 54.1(6.9) | H17: =data!R245 -> 12.7 | I17: =data!Q285 -> 7.6(3.1) | J17: =data!R285 -> 40.5 | K17: =data!Q125 -> 18.7(1.2) | L17: =data!R125 -> 6.4
A18: 65 이상 | B18: =data!P126 -> 30 | C18: =data!Q166 -> 20.1(7.0) | D18: =data!R166 -> 34.7 | E18: =data!Q206 -> 44.2(9.5) | F18: =data!R206 -> 21.5 | G18: =data!Q246 -> 35.7(9.3) | H18: =data!R246 -> 26.0 | I18: =data!Q286 -> 0.0(0.0) | J18: =data!R286 -> . | K18: =data!Q126 -> 13.4(1.2) | L18: =data!R126 -> 8.7
A19: 교육수준3)
A20: 무학 | B20: =data!P128 -> 6 | C20: =data!Q168 -> -(-) | D20: =data!R168 -> - | E20: =data!Q208 -> -(-) | F20: =data!R208 -> - | G20: =data!Q248 -> -(-) | H20: =data!R248 -> - | I20: =data!Q288 -> -(-) | J20: =data!R288 -> - | K20: =data!Q128 -> -(-) | L20: =data!R128 -> -
A21: 초등학교 | B21: =data!P129 -> 17 | C21: =data!Q169 -> -(-) | D21: =data!R169 -> - | E21: =data!Q209 -> -(-) | F21: =data!R209 -> - | G21: =data!Q249 -> -(-) | H21: =data!R249 -> - | I21: =data!Q289 -> -(-) | J21: =data!R289 -> - | K21: =data!Q129 -> -(-) | L21: =data!R129 -> -
A22: 중학교 | B22: =data!P130 -> 20 | C22: =data!Q170 -> 13.2(7.3) | D22: =data!R170 -> 55.3 | E22: =data!Q210 -> 38.5(11.2) | F22: =data!R210 -> 29.0 | G22: =data!Q250 -> 38.9(12.0) | H22: =data!R250 -> 30.8 | I22: =data!Q290 -> 9.4(6.7) | J22: =data!R290 -> 71.5 | K22: =data!Q130 -> 18.0(2.6) | L22: =data!R130 -> 14.3
A23: 고등학교 | B23: =data!P131 -> 52 | C23: =data!Q171 -> 9.5(4.6) | D23: =data!R171 -> 49.0 | E23: =data!Q211 -> 26.1(6.0) | F23: =data!R211 -> 23.1 | G23: =data!Q251 -> 57.5(7.9) | H23: =data!R251 -> 13.7 | I23: =data!Q291 -> 6.9(4.2) | J23: =data!R291 -> 61.8 | K23: =data!Q131 -> 18.9(1.6) | L23: =data!R131 -> 8.5
A24: 대학교 이상 | B24: =data!P132 -> 13 | C24: =data!Q172 -> -(-) | D24: =data!R172 -> - | E24: =data!Q212 -> -(-) | F24: =data!R212 -> - | G24: =data!Q252 -> -(-) | H24: =data!R252 -> - | I24: =data!Q292 -> -(-) | J24: =data!R292 -> - | K24: =data!Q132 -> -(-) | L24: =data!R132 -> -
A25: 직업
A26: 전문행정관리 | B26: =data!P134 -> 2 | C26: =data!Q174 -> -(-) | D26: =data!R174 -> - | E26: =data!Q214 -> -(-) | F26: =data!R214 -> - | G26: =data!Q254 -> -(-) | H26: =data!R254 -> - | I26: =data!Q294 -> -(-) | J26: =data!R294 -> - | K26: =data!Q134 -> -(-) | L26: =data!R134 -> -
A27: 사무직 | B27: =data!P135 -> 1 | C27: =data!Q175 -> -(-) | D27: =data!R175 -> - | E27: =data!Q215 -> -(-) | F27: =data!R215 -> - | G27: =data!Q255 -> -(-) | H27: =data!R255 -> - | I27: =data!Q295 -> -(-) | J27: =data!R295 -> - | K27: =data!Q135 -> -(-) | L27: =data!R135 -> -
A28: 판매･서비스직 | B28: =data!P136 -> 2 | C28: =data!Q176 -> -(-) | D28: =data!R176 -> - | E28: =data!Q216 -> -(-) | F28: =data!R216 -> - | G28: =data!Q256 -> -(-) | H28: =data!R256 -> - | I28: =data!Q296 -> -(-) | J28: =data!R296 -> - | K28: =data!Q136 -> -(-) | L28: =data!R136 -> -
A29: 농림어업 | B29: =data!P137 -> 56 | C29: =data!Q177 -> 4.7(2.5) | D29: =data!R177 -> 52.6 | E29: =data!Q217 -> 40.2(7.8) | F29: =data!R217 -> 19.5 | G29: =data!Q257 -> 44.4(8.6) | H29: =data!R257 -> 19.5 | I29: =data!Q297 -> 10.7(4.5) | J29: =data!R297 -> 42.0 | K29: =data!Q137 -> 19.1(1.6) | L29: =data!R137 -> 8.2
A30: 기능단순노무직 | B30: =data!P138 -> 31 | C30: =data!Q178 -> 17.7(7.4) | D30: =data!R178 -> 41.9 | E30: =data!Q218 -> 21.4(7.1) | F30: =data!R218 -> 33.2 | G30: =data!Q258 -> 58.5(10.9) | H30: =data!R258 -> 18.6 | I30: =data!Q298 -> 2.4(2.5) | J30: =data!R298 -> 104.5 | K30: =data!Q138 -> 17.1(1.7) | L30: =data!R138 -> 9.7
A31: 기타4) | B31: =data!P139 -> 16 | C31: =data!Q179 -> -(-) | D31: =data!R179 -> - | E31: =data!Q219 -> -(-) | F31: =data!R219 -> - | G31: =data!Q259 -> -(-) | H31: =data!R259 -> - | I31: =data!Q299 -> -(-) | J31: =data!R299 -> - | K31: =data!Q139 -> -(-) | L31: =data!R139 -> -
A32: 월 가구소득
A33: 100만원 미만 | B33: =data!P141 -> 27 | C33: =data!Q181 -> 5.4(4.1) | D33: =data!R181 -> 76.4 | E33: =data!Q221 -> 35.5(8.6) | F33: =data!R221 -> 24.2 | G33: =data!Q261 -> 50.9(9.2) | H33: =data!R261 -> 18.1 | I33: =data!Q301 -> 8.2(5.7) | J33: =data!R301 -> 70.2 | K33: =data!Q141 -> 18.5(2.2) | L33: =data!R141 -> 11.9
A34: 100-200만원 미만 | B34: =data!P142 -> 22 | C34: =data!Q182 -> 25.1(9.8) | D34: =data!R182 -> 38.9 | E34: =data!Q222 -> 57.0(12.5) | F34: =data!R222 -> 22.0 | G34: =data!Q262 -> 17.9(9.3) | H34: =data!R262 -> 51.9 | I34: =data!Q302 -> 0.0(0.0) | J34: =data!R302 -> . | K34: =data!Q142 -> 12.0(1.0) | L34: =data!R142 -> 8.0
A35: 200-300만원 미만 | B35: =data!P143 -> 14 | C35: =data!Q183 -> -(-) | D35: =data!R183 -> - | E35: =data!Q223 -> -(-) | F35: =data!R223 -> - | G35: =data!Q263 -> -(-) | H35: =data!R263 -> - | I35: =data!Q303 -> -(-) | J35: =data!R303 -> - | K35: =data!Q143 -> -(-) | L35: =data!R143 -> -
A36: 300-400만원 미만 | B36: =data!P144 -> 9 | C36: =data!Q184 -> -(-) | D36: =data!R184 -> - | E36: =data!Q224 -> -(-) | F36: =data!R224 -> - | G36: =data!Q264 -> -(-) | H36: =data!R264 -> - | I36: =data!Q304 -> -(-) | J36: =data!R304 -> - | K36: =data!Q144 -> -(-) | L36: =data!R144 -> -
A37: 400만원 이상 | B37: =data!P145 -> 36 | C37: =data!Q185 -> 12.5(5.9) | D37: =data!R185 -> 46.7 | E37: =data!Q225 -> 23.8(8.5) | F37: =data!R225 -> 36.0 | G37: =data!Q265 -> 57.0(9.5) | H37: =data!R265 -> 16.6 | I37: =data!Q305 -> 6.7(3.7) | J37: =data!R305 -> 54.6 | K37: =data!Q145 -> 17.9(1.5) | L37: =data!R145 -> 8.5
A38: 작년 대비 가구소득 변화
A39: 줄어들었다 | B39: =data!P147 -> 41 | C39: =data!Q187 -> 7.7(3.9) | D39: =data!R187 -> 51.3 | E39: =data!Q227 -> 34.0(7.5) | F39: =data!R227 -> 22.1 | G39: =data!Q267 -> 52.9(8.1) | H39: =data!R267 -> 15.4 | I39: =data!Q307 -> 5.5(3.2) | J39: =data!R307 -> 58.0 | K39: =data!Q147 -> 17.3(1.2) | L39: =data!R147 -> 6.9
A40: 변함없다 | B40: =data!P148 -> 55 | C40: =data!Q188 -> 8.3(3.5) | D40: =data!R188 -> 41.7 | E40: =data!Q228 -> 37.5(7.9) | F40: =data!R228 -> 21.1 | G40: =data!Q268 -> 44.9(8.6) | H40: =data!R268 -> 19.2 | I40: =data!Q308 -> 9.3(4.7) | J40: =data!R308 -> 51.1 | K40: =data!Q148 -> 18.8(1.7) | L40: =data!R148 -> 9.0
A41: 늘어났다 | B41: =data!P149 -> 12 | C41: =data!Q189 -> -(-) | D41: =data!R189 -> - | E41: =data!Q229 -> -(-) | F41: =data!R229 -> - | G41: =data!Q269 -> -(-) | H41: =data!R269 -> - | I41: =data!Q309 -> -(-) | J41: =data!R309 -> - | K41: =data!Q149 -> -(-) | L41: =data!R149 -> -
A42: 거주유형
A43: 동
A44: 읍〮면 | B44: =data!P152 -> 108 | C44: =data!Q192 -> 10.4(3.2) | D44: =data!R192 -> 30.7 | E44: =data!Q232 -> 32.0(4.8) | F44: =data!R232 -> 14.8 | G44: =data!Q272 -> 51.2(6.0) | H44: =data!R272 -> 11.7 | I44: =data!Q312 -> 6.3(2.6) | J44: =data!R312 -> 40.9 | K44: =data!Q152 -> 17.9(1.0) | L44: =data!R152 -> 5.8
A46: 주 1) 매일흡연자의 하루 평균 흡연량 : 하루 평균 흡연 개비 수의 총 합 / 평생 일반담배(궐련)를 5갑(100개비) 이상 피운 매일흡연자 수
A47: 2) 평생 일반담배(궐련)를 5갑(100개비) 이상 피운 매일흡연자 수
A48: 3) 교육수준 : 각 해당 교육 수준 기관의 졸업자 및 그 이상 학력의 재학, 수료, 중퇴, 휴학한 자를 포함
A49: 4) 기타 : 군인, 학생, 주부, 무직

Sheet <표>궐련형전자담배평생흡연율
A1: <표 20> 궐련형 전자담배 평생흡연율1)
A2: (단위: %)
A3: 구분 | B3: 전체 | E3: 남자 | H3: 여자
B4: N | C4: %(표준오차) | D4: 상대표준오차 | E4: N | F4: %(표준오차) | G4: 상대표준오차 | H4: N | I4: %(표준오차) | J4: 상대표준오차
A5: 전체 | B5: =data!G313 -> 884 | C5: =data!H313 -> 0.6(0.4) | D5: =data!I313 -> 58.1 | E5: =data!J313 -> 408 | F5: =data!K313 -> 0.8(0.6) | G5: =data!L313 -> 71.4 | H5: =data!M313 -> 476 | I5: =data!N313 -> 0.4(0.4) | J5: =data!O313 -> 99.7
A6: 연령
A7: 19-29 | B7: =data!G315 -> 19 | C7: =data!H315 -> -(-) | D7: =data!I315 -> - | E7: =data!J315 -> 13 | F7: =data!K315 -> -(-) | G7: =data!L315 -> - | H7: =data!M315 -> 6 | I7: =data!N315 -> -(-) | J7: =data!O315 -> -
A8: 30-39 | B8: =data!G316 -> 19 | C8: =data!H316 -> -(-) | D8: =data!I316 -> - | E8: =data!J316 -> 10 | F8: =data!K316 -> -(-) | G8: =data!L316 -> - | H8: =data!M316 -> 9 | I8: =data!N316 -> -(-) | J8: =data!O316 -> -
A9: 40-49 | B9: =data!G317 -> 59 | C9: =data!H317 -> 3.8(2.6) | D9: =data!I317 -> 69.1 | E9: =data!J317 -> 30 | F9: =data!K317 -> 3.3(3.2) | G9: =data!L317 -> 96.4 | H9: =data!M317 -> 29 | I9: =data!N317 -> 4.8(4.7) | J9: =data!O317 -> 98.2
A10: 50-59 | B10: =data!G318 -> 149 | C10: =data!H318 -> 0.9(0.9) | D10: =data!I318 -> 99.3 | E10: =data!J318 -> 78 | F10: =data!K318 -> 1.4(1.4) | G10: =data!L318 -> 98.8 | H10: =data!M318 -> 71 | I10: =data!N318 -> 0.0(0.0) | J10: =data!O318 -> .
A11: 60-69 | B11: =data!G319 -> 239 | C11: =data!H319 -> 0.0(0.0) | D11: =data!I319 -> . | E11: =data!J319 -> 124 | F11: =data!K319 -> 0.0(0.0) | G11: =data!L319 -> . | H11: =data!M319 -> 115 | I11: =data!N319 -> 0.0(0.0) | J11: =data!O319 -> .
A12: 70 이상 | B12: =data!G320 -> 399 | C12: =data!H320 -> 0.0(0.0) | D12: =data!I320 -> . | E12: =data!J320 -> 153 | F12: =data!K320 -> 0.0(0.0) | G12: =data!L320 -> . | H12: =data!M320 -> 246 | I12: =data!N320 -> 0.0(0.0) | J12: =data!O320 -> .
A14: 19-64 | B14: =data!G322 -> 370 | C14: =data!H322 -> 1.1(0.6) | D14: =data!I322 -> 57.9 | E14: =data!J322 -> 199 | F14: =data!K322 -> 1.2(0.9) | G14: =data!L322 -> 71.8 | H14: =data!M322 -> 171 | I14: =data!N322 -> 0.9(0.9) | J14: =data!O322 -> 98.8
A15: 65 이상 | B15: =data!G323 -> 514 | C15: =data!H323 -> 0.0(0.0) | D15: =data!I323 -> . | E15: =data!J323 -> 209 | F15: =data!K323 -> 0.0(0.0) | G15: =data!L323 -> . | H15: =data!M323 -> 305 | I15: =data!N323 -> 0.0(0.0) | J15: =data!O323 -> .
A16: 교육수준2)
A17: 무학 | B17: =data!G325 -> 169 | C17: =data!H325 -> 0.0(0.0) | D17: =data!I325 -> . | E17: =data!J325 -> 10 | F17: =data!K325 -> -(-) | G17: =data!L325 -> - | H17: =data!M325 -> 159 | I17: =data!N325 -> 0.0(0.0) | J17: =data!O325 -> .
A18: 초등학교 | B18: =data!G326 -> 239 | C18: =data!H326 -> 0.0(0.0) | D18: =data!I326 -> . | E18: =data!J326 -> 103 | F18: =data!K326 -> 0.0(0.0) | G18: =data!L326 -> . | H18: =data!M326 -> 136 | I18: =data!N326 -> 0.0(0.0) | J18: =data!O326 -> .
A19: 중학교 | B19: =data!G327 -> 165 | C19: =data!H327 -> 0.0(0.0) | D19: =data!I327 -> . | E19: =data!J327 -> 90 | F19: =data!K327 -> 0.0(0.0) | G19: =data!L327 -> . | H19: =data!M327 -> 75 | I19: =data!N327 -> 0.0(0.0) | J19: =data!O327 -> .
A20: 고등학교 | B20: =data!G328 -> 225 | C20: =data!H328 -> 1.1(0.7) | D20: =data!I328 -> 70.1 | E20: =data!J328 -> 150 | F20: =data!K328 -> 0.7(0.7) | G20: =data!L328 -> 100.6 | H20: =data!M328 -> 75 | I20: =data!N328 -> 1.9(1.8) | J20: =data!O328 -> 97.9
A21: 대학교 이상 | B21: =data!G329 -> 86 | C21: =data!H329 -> 1.7(1.8) | D21: =data!I329 -> 102.2 | E21: =data!J329 -> 55 | F21: =data!K329 -> 2.6(2.6) | G21: =data!L329 -> 101.2 | H21: =data!M329 -> 31 | I21: =data!N329 -> 0.0(0.0) | J21: =data!O329 -> .
A22: 직업
A23: 전문행정관리 | B23: =data!G331 -> 26 | C23: =data!H331 -> 0.0(0.0) | D23: =data!I331 -> . | E23: =data!J331 -> 17 | F23: =data!K331 -> -(-) | G23: =data!L331 -> - | H23: =data!M331 -> 9 | I23: =data!N331 -> -(-) | J23: =data!O331 -> -
A24: 사무직 | B24: =data!G332 -> 19 | C24: =data!H332 -> -(-) | D24: =data!I332 -> - | E24: =data!J332 -> 5 | F24: =data!K332 -> -(-) | G24: =data!L332 -> - | H24: =data!M332 -> 14 | I24: =data!N332 -> -(-) | J24: =data!O332 -> -
A25: 판매･서비스직 | B25: =data!G333 -> 71 | C25: =data!H333 -> 2.2(2.2) | D25: =data!I333 -> 98.6 | E25: =data!J333 -> 15 | F25: =data!K333 -> -(-) | G25: =data!L333 -> - | H25: =data!M333 -> 56 | I25: =data!N333 -> 2.9(2.8) | J25: =data!O333 -> 97.4
A26: 농림어업 | B26: =data!G334 -> 344 | C26: =data!H334 -> 0.7(0.7) | D26: =data!I334 -> 98.0 | E26: =data!J334 -> 181 | F26: =data!K334 -> 1.1(1.1) | G26: =data!L334 -> 97.6 | H26: =data!M334 -> 163 | I26: =data!N334 -> 0.0(0.0) | J26: =data!O334 -> .
A27: 기능단순노무직 | B27: =data!G335 -> 164 | C27: =data!H335 -> 0.8(0.8) | D27: =data!I335 -> 99.7 | E27: =data!J335 -> 81 | F27: =data!K335 -> 1.3(1.3) | G27: =data!L335 -> 99.3 | H27: =data!M335 -> 83 | I27: =data!N335 -> 0.0(0.0) | J27: =data!O335 -> .
A28: 기타3) | B28: =data!G336 -> 260 | C28: =data!H336 -> 0.0(0.0) | D28: =data!I336 -> . | E28: =data!J336 -> 109 | F28: =data!K336 -> 0.0(0.0) | G28: =data!L336 -> . | H28: =data!M336 -> 151 | I28: =data!N336 -> 0.0(0.0) | J28: =data!O336 -> .
A29: 월 가구소득
A30: 100만원 미만 | B30: =data!G338 -> 315 | C30: =data!H338 -> 0.0(0.0) | D30: =data!I338 -> . | E30: =data!J338 -> 120 | F30: =data!K338 -> 0.0(0.0) | G30: =data!L338 -> . | H30: =data!M338 -> 195 | I30: =data!N338 -> 0.0(0.0) | J30: =data!O338 -> .
A31: 100-200만원 미만 | B31: =data!G339 -> 185 | C31: =data!H339 -> 0.0(0.0) | D31: =data!I339 -> . | E31: =data!J339 -> 86 | F31: =data!K339 -> 0.0(0.0) | G31: =data!L339 -> . | H31: =data!M339 -> 99 | I31: =data!N339 -> 0.0(0.0) | J31: =data!O339 -> .
A32: 200-300만원 미만 | B32: =data!G340 -> 101 | C32: =data!H340 -> 0.0(0.0) | D32: =data!I340 -> . | E32: =data!J340 -> 51 | F32: =data!K340 -> 0.0(0.0) | G32: =data!L340 -> . | H32: =data!M340 -> 50 | I32: =data!N340 -> 0.0(0.0) | J32: =data!O340 -> .
A33: 300-400만원 미만 | B33: =data!G341 -> 72 | C33: =data!H341 -> 0.0(0.0) | D33: =data!I341 -> . | E33: =data!J341 -> 35 | F33: =data!K341 -> 0.0(0.0) | G33: =data!L341 -> . | H33: =data!M341 -> 37 | I33: =data!N341 -> 0.0(0.0) | J33: =data!O341 -> .
A34: 400만원 이상 | B34: =data!G342 -> 211 | C34: =data!H342 -> 2.1(1.2) | D34: =data!I342 -> 57.4 | E34: =data!J342 -> 116 | F34: =data!K342 -> 2.4(1.7) | G34: =data!L342 -> 71.9 | H34: =data!M342 -> 95 | I34: =data!N342 -> 1.6(1.6) | J34: =data!O342 -> 98.7
A35: 작년 대비 가구소득 변화
A36: 줄어들었다 | B36: =data!G344 -> 260 | C36: =data!H344 -> 1.4(1.0) | D36: =data!I344 -> 69.3 | E36: =data!J344 -> 134 | F36: =data!K344 -> 1.4(1.3) | G36: =data!L344 -> 99.1 | H36: =data!M344 -> 126 | I36: =data!N344 -> 1.5(1.5) | J36: =data!O344 -> 97.6
A37: 변함없다 | B37: =data!G345 -> 530 | C37: =data!H345 -> 0.0(0.0) | D37: =data!I345 -> . | E37: =data!J345 -> 228 | F37: =data!K345 -> 0.0(0.0) | G37: =data!L345 -> . | H37: =data!M345 -> 302 | I37: =data!N345 -> 0.0(0.0) | J37: =data!O345 -> .
A38: 늘어났다 | B38: =data!G346 -> 94 | C38: =data!H346 -> 1.4(1.4) | D38: =data!I346 -> 100.9 | E38: =data!J346 -> 46 | F38: =data!K346 -> 2.5(2.5) | G38: =data!L346 -> 102.4 | H38: =data!M346 -> 48 | I38: =data!N346 -> 0.0(0.0) | J38: =data!O346 -> .
A39: 거주유형
A40: 동
A41: 읍〮면 | B41: =data!G349 -> 884 | C41: =data!H349 -> 0.6(0.4) | D41: =data!I349 -> 58.1 | E41: =data!J349 -> 408 | F41: =data!K349 -> 0.8(0.6) | G41: =data!L349 -> 71.4 | H41: =data!M349 -> 476 | I41: =data!N349 -> 0.4(0.4) | J41: =data!O349 -> 99.7
A43: 주 1) 궐련형 전자담배 평생흡연율 : (평생 궐련형 전자담배를 흡연한 적이 있는 사람의 수 / 조사대상 응답자 수) × 100
A44: 2) 교육수준 : 각 해당 교육 수준 기관의 졸업자 및 그 이상 학력의 재학, 수료, 중퇴, 휴학한 자를 포함
A45: 3) 기타 : 군인, 학생, 주부, 무직

Sheet <표>궐련형전자담배현재흡연율
A1: <표 21> 궐련형 전자담배 현재흡연율1)
A2: (단위: %)
A3: 구분 | B3: 전체 | E3: 남자 | H3: 여자
B4: N | C4: %(표준오차) | D4: 상대표준오차 | E4: N | F4: %(표준오차) | G4: 상대표준오차 | H4: N | I4: %(표준오차) | J4: 상대표준오차
A5: 전체 | B5: =data!G350 -> 884 | C5: =data!H350 -> 0.4(0.3) | D5: =data!I350 -> 70.0 | E5: =data!J350 -> 408 | F5: =data!K350 -> 0.3(0.3) | G5: =data!L350 -> 99.7 | H5: =data!M350 -> 476 | I5: =data!N350 -> 0.4(0.4) | J5: =data!O350 -> 99.7
A6: 연령
A7: 19-29 | B7: =data!G352 -> 19 | C7: =data!H352 -> -(-) | D7: =data!I352 -> - | E7: =data!J352 -> 13 | F7: =data!K352 -> -(-) | G7: =data!L352 -> - | H7: =data!M352 -> 6 | I7: =data!N352 -> -(-) | J7: =data!O352 -> -
A8: 30-39 | B8: =data!G353 -> 19 | C8: =data!H353 -> -(-) | D8: =data!I353 -> - | E8: =data!J353 -> 10 | F8: =data!K353 -> -(-) | G8: =data!L353 -> - | H8: =data!M353 -> 9 | I8: =data!N353 -> -(-) | J8: =data!O353 -> -
A9: 40-49 | B9: =data!G354 -> 59 | C9: =data!H354 -> 1.6(1.6) | D9: =data!I354 -> 97.9 | E9: =data!J354 -> 30 | F9: =data!K354 -> 0.0(0.0) | G9: =data!L354 -> . | H9: =data!M354 -> 29 | I9: =data!N354 -> 4.8(4.7) | J9: =data!O354 -> 98.2
A10: 50-59 | B10: =data!G355 -> 149 | C10: =data!H355 -> 0.9(0.9) | D10: =data!I355 -> 99.3 | E10: =data!J355 -> 78 | F10: =data!K355 -> 1.4(1.4) | G10: =data!L355 -> 98.8 | H10: =data!M355 -> 71 | I10: =data!N355 -> 0.0(0.0) | J10: =data!O355 -> .
A11: 60-69 | B11: =data!G356 -> 239 | C11: =data!H356 -> 0.0(0.0) | D11: =data!I356 -> . | E11: =data!J356 -> 124 | F11: =data!K356 -> 0.0(0.0) | G11: =data!L356 -> . | H11: =data!M356 -> 115 | I11: =data!N356 -> 0.0(0.0) | J11: =data!O356 -> .
A12: 70 이상 | B12: =data!G357 -> 399 | C12: =data!H357 -> 0.0(0.0) | D12: =data!I357 -> . | E12: =data!J357 -> 153 | F12: =data!K357 -> 0.0(0.0) | G12: =data!L357 -> . | H12: =data!M357 -> 246 | I12: =data!N357 -> 0.0(0.0) | J12: =data!O357 -> .
A14: 19-64 | B14: =data!G359 -> 370 | C14: =data!H359 -> 0.6(0.4) | D14: =data!I359 -> 69.3 | E14: =data!J359 -> 199 | F14: =data!K359 -> 0.5(0.5) | G14: =data!L359 -> 99.8 | H14: =data!M359 -> 171 | I14: =data!N359 -> 0.9(0.9) | J14: =data!O359 -> 98.8
A15: 65 이상 | B15: =data!G360 -> 514 | C15: =data!H360 -> 0.0(0.0) | D15: =data!I360 -> . | E15: =data!J360 -> 209 | F15: =data!K360 -> 0.0(0.0) | G15: =data!L360 -> . | H15: =data!M360 -> 305 | I15: =data!N360 -> 0.0(0.0) | J15: =data!O360 -> .
A16: 교육수준2)
A17: 무학 | B17: =data!G362 -> 169 | C17: =data!H362 -> 0.0(0.0) | D17: =data!I362 -> . | E17: =data!J362 -> 10 | F17: =data!K362 -> -(-) | G17: =data!L362 -> - | H17: =data!M362 -> 159 | I17: =data!N362 -> 0.0(0.0) | J17: =data!O362 -> .
A18: 초등학교 | B18: =data!G363 -> 239 | C18: =data!H363 -> 0.0(0.0) | D18: =data!I363 -> . | E18: =data!J363 -> 103 | F18: =data!K363 -> 0.0(0.0) | G18: =data!L363 -> . | H18: =data!M363 -> 136 | I18: =data!N363 -> 0.0(0.0) | J18: =data!O363 -> .
A19: 중학교 | B19: =data!G364 -> 165 | C19: =data!H364 -> 0.0(0.0) | D19: =data!I364 -> . | E19: =data!J364 -> 90 | F19: =data!K364 -> 0.0(0.0) | G19: =data!L364 -> . | H19: =data!M364 -> 75 | I19: =data!N364 -> 0.0(0.0) | J19: =data!O364 -> .
A20: 고등학교 | B20: =data!G365 -> 225 | C20: =data!H365 -> 1.1(0.7) | D20: =data!I365 -> 70.1 | E20: =data!J365 -> 150 | F20: =data!K365 -> 0.7(0.7) | G20: =data!L365 -> 100.6 | H20: =data!M365 -> 75 | I20: =data!N365 -> 1.9(1.8) | J20: =data!O365 -> 97.9
A21: 대학교 이상 | B21: =data!G366 -> 86 | C21: =data!H366 -> 0.0(0.0) | D21: =data!I366 -> . | E21: =data!J366 -> 55 | F21: =data!K366 -> 0.0(0.0) | G21: =data!L366 -> . | H21: =data!M366 -> 31 | I21: =data!N366 -> 0.0(0.0) | J21: =data!O366 -> .
A22: 직업
A23: 전문행정관리 | B23: =data!G368 -> 26 | C23: =data!H368 -> 0.0(0.0) | D23: =data!I368 -> . | E23: =data!J368 -> 17 | F23: =data!K368 -> -(-) | G23: =data!L368 -> - | H23: =data!M368 -> 9 | I23: =data!N368 -> -(-) | J23: =data!O368 -> -
A24: 사무직 | B24: =data!G369 -> 19 | C24: =data!H369 -> -(-) | D24: =data!I369 -> - | E24: =data!J369 -> 5 | F24: =data!K369 -> -(-) | G24: =data!L369 -> - | H24: =data!M369 -> 14 | I24: =data!N369 -> -(-) | J24: =data!O369 -> -
A25: 판매･서비스직 | B25: =data!G370 -> 71 | C25: =data!H370 -> 2.2(2.2) | D25: =data!I370 -> 98.6 | E25: =data!J370 -> 15 | F25: =data!K370 -> -(-) | G25: =data!L370 -> - | H25: =data!M370 -> 56 | I25: =data!N370 -> 2.9(2.8) | J25: =data!O370 -> 97.4
A26: 농림어업 | B26: =data!G371 -> 344 | C26: =data!H371 -> 0.0(0.0) | D26: =data!I371 -> . | E26: =data!J371 -> 181 | F26: =data!K371 -> 0.0(0.0) | G26: =data!L371 -> . | H26: =data!M371 -> 163 | I26: =data!N371 -> 0.0(0.0) | J26: =data!O371 -> .
A27: 기능단순노무직 | B27: =data!G372 -> 164 | C27: =data!H372 -> 0.8(0.8) | D27: =data!I372 -> 99.7 | E27: =data!J372 -> 81 | F27: =data!K372 -> 1.3(1.3) | G27: =data!L372 -> 99.3 | H27: =data!M372 -> 83 | I27: =data!N372 -> 0.0(0.0) | J27: =data!O372 -> .
A28: 기타3) | B28: =data!G373 -> 260 | C28: =data!H373 -> 0.0(0.0) | D28: =data!I373 -> . | E28: =data!J373 -> 109 | F28: =data!K373 -> 0.0(0.0) | G28: =data!L373 -> . | H28: =data!M373 -> 151 | I28: =data!N373 -> 0.0(0.0) | J28: =data!O373 -> .
A29: 월 가구소득
A30: 100만원 미만 | B30: =data!G375 -> 315 | C30: =data!H375 -> 0.0(0.0) | D30: =data!I375 -> . | E30: =data!J375 -> 120 | F30: =data!K375 -> 0.0(0.0) | G30: =data!L375 -> . | H30: =data!M375 -> 195 | I30: =data!N375 -> 0.0(0.0) | J30: =data!O375 -> .
A31: 100-200만원 미만 | B31: =data!G376 -> 185 | C31: =data!H376 -> 0.0(0.0) | D31: =data!I376 -> . | E31: =data!J376 -> 86 | F31: =data!K376 -> 0.0(0.0) | G31: =data!L376 -> . | H31: =data!M376 -> 99 | I31: =data!N376 -> 0.0(0.0) | J31: =data!O376 -> .
A32: 200-300만원 미만 | B32: =data!G377 -> 101 | C32: =data!H377 -> 0.0(0.0) | D32: =data!I377 -> . | E32: =data!J377 -> 51 | F32: =data!K377 -> 0.0(0.0) | G32: =data!L377 -> . | H32: =data!M377 -> 50 | I32: =data!N377 -> 0.0(0.0) | J32: =data!O377 -> .
A33: 300-400만원 미만 | B33: =data!G378 -> 72 | C33: =data!H378 -> 0.0(0.0) | D33: =data!I378 -> . | E33: =data!J378 -> 35 | F33: =data!K378 -> 0.0(0.0) | G33: =data!L378 -> . | H33: =data!M378 -> 37 | I33: =data!N378 -> 0.0(0.0) | J33: =data!O378 -> .
A34: 400만원 이상 | B34: =data!G379 -> 211 | C34: =data!H379 -> 1.2(0.8) | D34: =data!I379 -> 69.0 | E34: =data!J379 -> 116 | F34: =data!K379 -> 1.0(1.0) | G34: =data!L379 -> 101.2 | H34: =data!M379 -> 95 | I34: =data!N379 -> 1.6(1.6) | J34: =data!O379 -> 98.7
A35: 작년 대비 가구소득 변화
A36: 줄어들었다 | B36: =data!G381 -> 260 | C36: =data!H381 -> 0.6(0.6) | D36: =data!I381 -> 96.5 | E36: =data!J381 -> 134 | F36: =data!K381 -> 0.0(0.0) | G36: =data!L381 -> . | H36: =data!M381 -> 126 | I36: =data!N381 -> 1.5(1.5) | J36: =data!O381 -> 97.6
A37: 변함없다 | B37: =data!G382 -> 530 | C37: =data!H382 -> 0.0(0.0) | D37: =data!I382 -> . | E37: =data!J382 -> 228 | F37: =data!K382 -> 0.0(0.0) | G37: =data!L382 -> . | H37: =data!M382 -> 302 | I37: =data!N382 -> 0.0(0.0) | J37: =data!O382 -> .
A38: 늘어났다 | B38: =data!G383 -> 94 | C38: =data!H383 -> 1.4(1.4) | D38: =data!I383 -> 100.9 | E38: =data!J383 -> 46 | F38: =data!K383 -> 2.5(2.5) | G38: =data!L383 -> 102.4 | H38: =data!M383 -> 48 | I38: =data!N383 -> 0.0(0.0) | J38: =data!O383 -> .
A39: 거주유형
A40: 동
A41: 읍〮면 | B41: =data!G386 -> 884 | C41: =data!H386 -> 0.4(0.3) | D41: =data!I386 -> 70.0 | E41: =data!J386 -> 408 | F41: =data!K386 -> 0.3(0.3) | G41: =data!L386 -> 99.7 | H41: =data!M386 -> 476 | I41: =data!N386 -> 0.4(0.4) | J41: =data!O386 -> 99.7
A43: 주 1) 궐련형 전자담배 현재흡연율 : (평생 궐련형 전자담배를 흡연한 적이 있는 사람으로서 현재 흡연하는 사람(“매일 피움” 또는 “가끔 피움”)의 수 / 조사대상 응답자 수) × 100
A44: 2) 교육수준 : 각 해당 교육 수준 기관의 졸업자 및 그 이상 학력의 재학, 수료, 중퇴, 휴학한 자를 포함
A45: 3) 기타 : 군인, 학생, 주부, 무직

Sheet <표>액상형전자담배평생사용률
A1: <표 22> 액상형 전자담배 평생사용률1)
A2: (단위: %)
A3: 구분 | B3: 전체 | E3: 남자 | H3: 여자
B4: N | C4: %(표준오차) | D4: 상대표준오차 | E4: N | F4: %(표준오차) | G4: 상대표준오차 | H4: N | I4: %(표준오차) | J4: 상대표준오차
A5: 전체 | B5: =data!G387 -> 884 | C5: =data!H387 -> 0.9(0.5) | D5: =data!I387 -> 51.4 | E5: =data!J387 -> 408 | F5: =data!K387 -> 1.8(0.9) | G5: =data!L387 -> 50.8 | H5: =data!M387 -> 476 | I5: =data!N387 -> 0.0(0.0) | J5: =data!O387 -> .
A6: 연령
A7: 19-29 | B7: =data!G389 -> 19 | C7: =data!H389 -> -(-) | D7: =data!I389 -> - | E7: =data!J389 -> 13 | F7: =data!K389 -> -(-) | G7: =data!L389 -> - | H7: =data!M389 -> 6 | I7: =data!N389 -> -(-) | J7: =data!O389 -> -
A8: 30-39 | B8: =data!G390 -> 19 | C8: =data!H390 -> -(-) | D8: =data!I390 -> - | E8: =data!J390 -> 10 | F8: =data!K390 -> -(-) | G8: =data!L390 -> - | H8: =data!M390 -> 9 | I8: =data!N390 -> -(-) | J8: =data!O390 -> -
A9: 40-49 | B9: =data!G391 -> 59 | C9: =data!H391 -> 2.2(2.2) | D9: =data!I391 -> 98.5 | E9: =data!J391 -> 30 | F9: =data!K391 -> 3.3(3.2) | G9: =data!L391 -> 96.4 | H9: =data!M391 -> 29 | I9: =data!N391 -> 0.0(0.0) | J9: =data!O391 -> .
A10: 50-59 | B10: =data!G392 -> 149 | C10: =data!H392 -> 1.7(1.1) | D10: =data!I392 -> 66.3 | E10: =data!J392 -> 78 | F10: =data!K392 -> 2.7(1.8) | G10: =data!L392 -> 65.8 | H10: =data!M392 -> 71 | I10: =data!N392 -> 0.0(0.0) | J10: =data!O392 -> .
A11: 60-69 | B11: =data!G393 -> 239 | C11: =data!H393 -> 0.0(0.0) | D11: =data!I393 -> . | E11: =data!J393 -> 124 | F11: =data!K393 -> 0.0(0.0) | G11: =data!L393 -> . | H11: =data!M393 -> 115 | I11: =data!N393 -> 0.0(0.0) | J11: =data!O393 -> .
A12: 70 이상 | B12: =data!G394 -> 399 | C12: =data!H394 -> 0.0(0.0) | D12: =data!I394 -> . | E12: =data!J394 -> 153 | F12: =data!K394 -> 0.0(0.0) | G12: =data!L394 -> . | H12: =data!M394 -> 246 | I12: =data!N394 -> 0.0(0.0) | J12: =data!O394 -> .
A14: 19-64 | B14: =data!G396 -> 370 | C14: =data!H396 -> 1.7(0.9) | D14: =data!I396 -> 51.4 | E14: =data!J396 -> 199 | F14: =data!K396 -> 2.7(1.4) | G14: =data!L396 -> 50.5 | H14: =data!M396 -> 171 | I14: =data!N396 -> 0.0(0.0) | J14: =data!O396 -> .
A15: 65 이상 | B15: =data!G397 -> 514 | C15: =data!H397 -> 0.0(0.0) | D15: =data!I397 -> . | E15: =data!J397 -> 209 | F15: =data!K397 -> 0.0(0.0) | G15: =data!L397 -> . | H15: =data!M397 -> 305 | I15: =data!N397 -> 0.0(0.0) | J15: =data!O397 -> .
A16: 교육수준2)
A17: 무학 | B17: =data!G399 -> 169 | C17: =data!H399 -> 0.0(0.0) | D17: =data!I399 -> . | E17: =data!J399 -> 10 | F17: =data!K399 -> -(-) | G17: =data!L399 -> - | H17: =data!M399 -> 159 | I17: =data!N399 -> 0.0(0.0) | J17: =data!O399 -> .
A18: 초등학교 | B18: =data!G400 -> 239 | C18: =data!H400 -> 0.0(0.0) | D18: =data!I400 -> . | E18: =data!J400 -> 103 | F18: =data!K400 -> 0.0(0.0) | G18: =data!L400 -> . | H18: =data!M400 -> 136 | I18: =data!N400 -> 0.0(0.0) | J18: =data!O400 -> .
A19: 중학교 | B19: =data!G401 -> 165 | C19: =data!H401 -> 0.0(0.0) | D19: =data!I401 -> . | E19: =data!J401 -> 90 | F19: =data!K401 -> 0.0(0.0) | G19: =data!L401 -> . | H19: =data!M401 -> 75 | I19: =data!N401 -> 0.0(0.0) | J19: =data!O401 -> .
A20: 고등학교 | B20: =data!G402 -> 225 | C20: =data!H402 -> 2.0(1.2) | D20: =data!I402 -> 59.9 | E20: =data!J402 -> 150 | F20: =data!K402 -> 2.9(1.7) | G20: =data!L402 -> 58.8 | H20: =data!M402 -> 75 | I20: =data!N402 -> 0.0(0.0) | J20: =data!O402 -> .
A21: 대학교 이상 | B21: =data!G403 -> 86 | C21: =data!H403 -> 1.7(1.8) | D21: =data!I403 -> 102.2 | E21: =data!J403 -> 55 | F21: =data!K403 -> 2.6(2.6) | G21: =data!L403 -> 101.2 | H21: =data!M403 -> 31 | I21: =data!N403 -> 0.0(0.0) | J21: =data!O403 -> .
A22: 직업
A23: 전문행정관리 | B23: =data!G405 -> 26 | C23: =data!H405 -> 0.0(0.0) | D23: =data!I405 -> . | E23: =data!J405 -> 17 | F23: =data!K405 -> -(-) | G23: =data!L405 -> - | H23: =data!M405 -> 9 | I23: =data!N405 -> -(-) | J23: =data!O405 -> -
A24: 사무직 | B24: =data!G406 -> 19 | C24: =data!H406 -> -(-) | D24: =data!I406 -> - | E24: =data!J406 -> 5 | F24: =data!K406 -> -(-) | G24: =data!L406 -> - | H24: =data!M406 -> 14 | I24: =data!N406 -> -(-) | J24: =data!O406 -> -
A25: 판매･서비스직 | B25: =data!G407 -> 71 | C25: =data!H407 -> 1.9(1.9) | D25: =data!I407 -> 97.7 | E25: =data!J407 -> 15 | F25: =data!K407 -> -(-) | G25: =data!L407 -> - | H25: =data!M407 -> 56 | I25: =data!N407 -> 0.0(0.0) | J25: =data!O407 -> .
A26: 농림어업 | B26: =data!G408 -> 344 | C26: =data!H408 -> 0.7(0.7) | D26: =data!I408 -> 98.0 | E26: =data!J408 -> 181 | F26: =data!K408 -> 1.1(1.1) | G26: =data!L408 -> 97.6 | H26: =data!M408 -> 163 | I26: =data!N408 -> 0.0(0.0) | J26: =data!O408 -> .
A27: 기능단순노무직 | B27: =data!G409 -> 164 | C27: =data!H409 -> 2.5(1.8) | D27: =data!I409 -> 72.5 | E27: =data!J409 -> 81 | F27: =data!K409 -> 4.0(2.8) | G27: =data!L409 -> 70.9 | H27: =data!M409 -> 83 | I27: =data!N409 -> 0.0(0.0) | J27: =data!O409 -> .
A28: 기타3) | B28: =data!G410 -> 260 | C28: =data!H410 -> 0.0(0.0) | D28: =data!I410 -> . | E28: =data!J410 -> 109 | F28: =data!K410 -> 0.0(0.0) | G28: =data!L410 -> . | H28: =data!M410 -> 151 | I28: =data!N410 -> 0.0(0.0) | J28: =data!O410 -> .
A29: 월 가구소득
A30: 100만원 미만 | B30: =data!G412 -> 315 | C30: =data!H412 -> 1.7(1.2) | D30: =data!I412 -> 71.9 | E30: =data!J412 -> 120 | F30: =data!K412 -> 3.9(2.6) | G30: =data!L412 -> 68.7 | H30: =data!M412 -> 195 | I30: =data!N412 -> 0.0(0.0) | J30: =data!O412 -> .
A31: 100-200만원 미만 | B31: =data!G413 -> 185 | C31: =data!H413 -> 0.0(0.0) | D31: =data!I413 -> . | E31: =data!J413 -> 86 | F31: =data!K413 -> 0.0(0.0) | G31: =data!L413 -> . | H31: =data!M413 -> 99 | I31: =data!N413 -> 0.0(0.0) | J31: =data!O413 -> .
A32: 200-300만원 미만 | B32: =data!G414 -> 101 | C32: =data!H414 -> 0.0(0.0) | D32: =data!I414 -> . | E32: =data!J414 -> 51 | F32: =data!K414 -> 0.0(0.0) | G32: =data!L414 -> . | H32: =data!M414 -> 50 | I32: =data!N414 -> 0.0(0.0) | J32: =data!O414 -> .
A33: 300-400만원 미만 | B33: =data!G415 -> 72 | C33: =data!H415 -> 0.0(0.0) | D33: =data!I415 -> . | E33: =data!J415 -> 35 | F33: =data!K415 -> 0.0(0.0) | G33: =data!L415 -> . | H33: =data!M415 -> 37 | I33: =data!N415 -> 0.0(0.0) | J33: =data!O415 -> .
A34: 400만원 이상 | B34: =data!G416 -> 211 | C34: =data!H416 -> 1.4(1.0) | D34: =data!I416 -> 71.6 | E34: =data!J416 -> 116 | F34: =data!K416 -> 2.3(1.7) | G34: =data!L416 -> 71.9 | H34: =data!M416 -> 95 | I34: =data!N416 -> 0.0(0.0) | J34: =data!O416 -> .
A35: 작년 대비 가구소득 변화
A36: 줄어들었다 | B36: =data!G418 -> 260 | C36: =data!H418 -> 2.5(1.4) | D36: =data!I418 -> 57.4 | E36: =data!J418 -> 134 | F36: =data!K418 -> 4.1(2.3) | G36: =data!L418 -> 56.7 | H36: =data!M418 -> 126 | I36: =data!N418 -> 0.0(0.0) | J36: =data!O418 -> .
A37: 변함없다 | B37: =data!G419 -> 530 | C37: =data!H419 -> 0.3(0.3) | D37: =data!I419 -> 100.7 | E37: =data!J419 -> 228 | F37: =data!K419 -> 0.6(0.6) | G37: =data!L419 -> 101.4 | H37: =data!M419 -> 302 | I37: =data!N419 -> 0.0(0.0) | J37: =data!O419 -> .
A38: 늘어났다 | B38: =data!G420 -> 94 | C38: =data!H420 -> 0.0(0.0) | D38: =data!I420 -> . | E38: =data!J420 -> 46 | F38: =data!K420 -> 0.0(0.0) | G38: =data!L420 -> . | H38: =data!M420 -> 48 | I38: =data!N420 -> 0.0(0.0) | J38: =data!O420 -> .
A39: 거주유형
A40: 동
A41: 읍〮면 | B41: =data!G423 -> 884 | C41: =data!H423 -> 0.9(0.5) | D41: =data!I423 -> 51.4 | E41: =data!J423 -> 408 | F41: =data!K423 -> 1.8(0.9) | G41: =data!L423 -> 50.8 | H41: =data!M423 -> 476 | I41: =data!N423 -> 0.0(0.0) | J41: =data!O423 -> .
A43: 주 1) 액상형 전자담배 평생사용률 : (평생 니코틴이 포함된 액상형 전자담배를 사용한 적이 있는 사람의 수 / 조사대상 응답자 수) × 100
A44: 2) 교육수준 : 각 해당 교육 수준 기관의 졸업자 및 그 이상 학력의 재학, 수료, 중퇴, 휴학한 자를 포함
A45: 3) 기타 : 군인, 학생, 주부, 무직

Sheet <표>액상형전자담배현재사용률
A1: <표 23> 액상형 전자담배 현재사용률1)
A2: (단위: %)
A3: 구분 | B3: 전체 | E3: 남자 | H3: 여자
B4: N | C4: %(표준오차) | D4: 상대표준오차 | E4: N | F4: %(표준오차) | G4: 상대표준오차 | H4: N | I4: %(표준오차) | J4: 상대표준오차
A5: 전체 | B5: =data!G424 -> 884 | C5: =data!H424 -> 0.2(0.2) | D5: =data!I424 -> 100.6 | E5: =data!J424 -> 408 | F5: =data!K424 -> 0.3(0.3) | G5: =data!L424 -> 101.0 | H5: =data!M424 -> 476 | I5: =data!N424 -> 0.0(0.0) | J5: =data!O424 -> .
A6: 연령
A7: 19-29 | B7: =data!G426 -> 19 | C7: =data!H426 -> -(-) | D7: =data!I426 -> - | E7: =data!J426 -> 13 | F7: =data!K426 -> -(-) | G7: =data!L426 -> - | H7: =data!M426 -> 6 | I7: =data!N426 -> -(-) | J7: =data!O426 -> -
A8: 30-39 | B8: =data!G427 -> 19 | C8: =data!H427 -> -(-) | D8: =data!I427 -> - | E8: =data!J427 -> 10 | F8: =data!K427 -> -(-) | G8: =data!L427 -> - | H8: =data!M427 -> 9 | I8: =data!N427 -> -(-) | J8: =data!O427 -> -
A9: 40-49 | B9: =data!G428 -> 59 | C9: =data!H428 -> 0.0(0.0) | D9: =data!I428 -> . | E9: =data!J428 -> 30 | F9: =data!K428 -> 0.0(0.0) | G9: =data!L428 -> . | H9: =data!M428 -> 29 | I9: =data!N428 -> 0.0(0.0) | J9: =data!O428 -> .
A10: 50-59 | B10: =data!G429 -> 149 | C10: =data!H429 -> 0.8(0.8) | D10: =data!I429 -> 101.0 | E10: =data!J429 -> 78 | F10: =data!K429 -> 1.4(1.4) | G10: =data!L429 -> 100.9 | H10: =data!M429 -> 71 | I10: =data!N429 -> 0.0(0.0) | J10: =data!O429 -> .
A11: 60-69 | B11: =data!G430 -> 239 | C11: =data!H430 -> 0.0(0.0) | D11: =data!I430 -> . | E11: =data!J430 -> 124 | F11: =data!K430 -> 0.0(0.0) | G11: =data!L430 -> . | H11: =data!M430 -> 115 | I11: =data!N430 -> 0.0(0.0) | J11: =data!O430 -> .
A12: 70 이상 | B12: =data!G431 -> 399 | C12: =data!H431 -> 0.0(0.0) | D12: =data!I431 -> . | E12: =data!J431 -> 153 | F12: =data!K431 -> 0.0(0.0) | G12: =data!L431 -> . | H12: =data!M431 -> 246 | I12: =data!N431 -> 0.0(0.0) | J12: =data!O431 -> .
A14: 19-64 | B14: =data!G433 -> 370 | C14: =data!H433 -> 0.3(0.3) | D14: =data!I433 -> 101.2 | E14: =data!J433 -> 199 | F14: =data!K433 -> 0.5(0.5) | G14: =data!L433 -> 101.3 | H14: =data!M433 -> 171 | I14: =data!N433 -> 0.0(0.0) | J14: =data!O433 -> .
A15: 65 이상 | B15: =data!G434 -> 514 | C15: =data!H434 -> 0.0(0.0) | D15: =data!I434 -> . | E15: =data!J434 -> 209 | F15: =data!K434 -> 0.0(0.0) | G15: =data!L434 -> . | H15: =data!M434 -> 305 | I15: =data!N434 -> 0.0(0.0) | J15: =data!O434 -> .
A16: 교육수준2)
A17: 무학 | B17: =data!G436 -> 169 | C17: =data!H436 -> 0.0(0.0) | D17: =data!I436 -> . | E17: =data!J436 -> 10 | F17: =data!K436 -> -(-) | G17: =data!L436 -> - | H17: =data!M436 -> 159 | I17: =data!N436 -> 0.0(0.0) | J17: =data!O436 -> .
A18: 초등학교 | B18: =data!G437 -> 239 | C18: =data!H437 -> 0.0(0.0) | D18: =data!I437 -> . | E18: =data!J437 -> 103 | F18: =data!K437 -> 0.0(0.0) | G18: =data!L437 -> . | H18: =data!M437 -> 136 | I18: =data!N437 -> 0.0(0.0) | J18: =data!O437 -> .
A19: 중학교 | B19: =data!G438 -> 165 | C19: =data!H438 -> 0.0(0.0) | D19: =data!I438 -> . | E19: =data!J438 -> 90 | F19: =data!K438 -> 0.0(0.0) | G19: =data!L438 -> . | H19: =data!M438 -> 75 | I19: =data!N438 -> 0.0(0.0) | J19: =data!O438 -> .
A20: 고등학교 | B20: =data!G439 -> 225 | C20: =data!H439 -> 0.5(0.5) | D20: =data!I439 -> 101.1 | E20: =data!J439 -> 150 | F20: =data!K439 -> 0.7(0.7) | G20: =data!L439 -> 101.2 | H20: =data!M439 -> 75 | I20: =data!N439 -> 0.0(0.0) | J20: =data!O439 -> .
A21: 대학교 이상 | B21: =data!G440 -> 86 | C21: =data!H440 -> 0.0(0.0) | D21: =data!I440 -> . | E21: =data!J440 -> 55 | F21: =data!K440 -> 0.0(0.0) | G21: =data!L440 -> . | H21: =data!M440 -> 31 | I21: =data!N440 -> 0.0(0.0) | J21: =data!O440 -> .
A22: 직업
A23: 전문행정관리 | B23: =data!G442 -> 26 | C23: =data!H442 -> 0.0(0.0) | D23: =data!I442 -> . | E23: =data!J442 -> 17 | F23: =data!K442 -> -(-) | G23: =data!L442 -> - | H23: =data!M442 -> 9 | I23: =data!N442 -> -(-) | J23: =data!O442 -> -
A24: 사무직 | B24: =data!G443 -> 19 | C24: =data!H443 -> -(-) | D24: =data!I443 -> - | E24: =data!J443 -> 5 | F24: =data!K443 -> -(-) | G24: =data!L443 -> - | H24: =data!M443 -> 14 | I24: =data!N443 -> -(-) | J24: =data!O443 -> -
A25: 판매･서비스직 | B25: =data!G444 -> 71 | C25: =data!H444 -> 0.0(0.0) | D25: =data!I444 -> . | E25: =data!J444 -> 15 | F25: =data!K444 -> -(-) | G25: =data!L444 -> - | H25: =data!M444 -> 56 | I25: =data!N444 -> 0.0(0.0) | J25: =data!O444 -> .
A26: 농림어업 | B26: =data!G445 -> 344 | C26: =data!H445 -> 0.0(0.0) | D26: =data!I445 -> . | E26: =data!J445 -> 181 | F26: =data!K445 -> 0.0(0.0) | G26: =data!L445 -> . | H26: =data!M445 -> 163 | I26: =data!N445 -> 0.0(0.0) | J26: =data!O445 -> .
A27: 기능단순노무직 | B27: =data!G446 -> 164 | C27: =data!H446 -> 0.8(0.8) | D27: =data!I446 -> 100.7 | E27: =data!J446 -> 81 | F27: =data!K446 -> 1.3(1.3) | G27: =data!L446 -> 101.2 | H27: =data!M446 -> 83 | I27: =data!N446 -> 0.0(0.0) | J27: =data!O446 -> .
A28: 기타3) | B28: =data!G447 -> 260 | C28: =data!H447 -> 0.0(0.0) | D28: =data!I447 -> . | E28: =data!J447 -> 109 | F28: =data!K447 -> 0.0(0.0) | G28: =data!L447 -> . | H28: =data!M447 -> 151 | I28: =data!N447 -> 0.0(0.0) | J28: =data!O447 -> .
A29: 월 가구소득
A30: 100만원 미만 | B30: =data!G449 -> 315 | C30: =data!H449 -> 0.5(0.5) | D30: =data!I449 -> 99.7 | E30: =data!J449 -> 120 | F30: =data!K449 -> 1.2(1.2) | G30: =data!L449 -> 100.8 | H30: =data!M449 -> 195 | I30: =data!N449 -> 0.0(0.0) | J30: =data!O449 -> .
A31: 100-200만원 미만 | B31: =data!G450 -> 185 | C31: =data!H450 -> 0.0(0.0) | D31: =data!I450 -> . | E31: =data!J450 -> 86 | F31: =data!K450 -> 0.0(0.0) | G31: =data!L450 -> . | H31: =data!M450 -> 99 | I31: =data!N450 -> 0.0(0.0) | J31: =data!O450 -> .
A32: 200-300만원 미만 | B32: =data!G451 -> 101 | C32: =data!H451 -> 0.0(0.0) | D32: =data!I451 -> . | E32: =data!J451 -> 51 | F32: =data!K451 -> 0.0(0.0) | G32: =data!L451 -> . | H32: =data!M451 -> 50 | I32: =data!N451 -> 0.0(0.0) | J32: =data!O451 -> .
A33: 300-400만원 미만 | B33: =data!G452 -> 72 | C33: =data!H452 -> 0.0(0.0) | D33: =data!I452 -> . | E33: =data!J452 -> 35 | F33: =data!K452 -> 0.0(0.0) | G33: =data!L452 -> . | H33: =data!M452 -> 37 | I33: =data!N452 -> 0.0(0.0) | J33: =data!O452 -> .
A34: 400만원 이상 | B34: =data!G453 -> 211 | C34: =data!H453 -> 0.0(0.0) | D34: =data!I453 -> . | E34: =data!J453 -> 116 | F34: =data!K453 -> 0.0(0.0) | G34: =data!L453 -> . | H34: =data!M453 -> 95 | I34: =data!N453 -> 0.0(0.0) | J34: =data!O453 -> .
A35: 작년 대비 가구소득 변화
A36: 줄어들었다 | B36: =data!G455 -> 260 | C36: =data!H455 -> 0.0(0.0) | D36: =data!I455 -> . | E36: =data!J455 -> 134 | F36: =data!K455 -> 0.0(0.0) | G36: =data!L455 -> . | H36: =data!M455 -> 126 | I36: =data!N455 -> 0.0(0.0) | J36: =data!O455 -> .
A37: 변함없다 | B37: =data!G456 -> 530 | C37: =data!H456 -> 0.3(0.3) | D37: =data!I456 -> 100.7 | E37: =data!J456 -> 228 | F37: =data!K456 -> 0.6(0.6) | G37: =data!L456 -> 101.4 | H37: =data!M456 -> 302 | I37: =data!N456 -> 0.0(0.0) | J37: =data!O456 -> .
A38: 늘어났다 | B38: =data!G457 -> 94 | C38: =data!H457 -> 0.0(0.0) | D38: =data!I457 -> . | E38: =data!J457 -> 46 | F38: =data!K457 -> 0.0(0.0) | G38: =data!L457 -> . | H38: =data!M457 -> 48 | I38: =data!N457 -> 0.0(0.0) | J38: =data!O457 -> .
A39: 거주유형
A40: 동
A41: 읍〮면 | B41: =data!G460 -> 884 | C41: =data!H460 -> 0.2(0.2) | D41: =data!I460 -> 100.6 | E41: =data!J460 -> 408 | F41: =data!K460 -> 0.3(0.3) | G41: =data!L460 -> 101.0 | H41: =data!M460 -> 476 | I41: =data!N460 -> 0.0(0.0) | J41: =data!O460 -> .
A43: 주 1) 액상형 전자담배 현재사용률 : (최근 1달 동안 니코틴이 포함된 액상형 전자담배를 사용한 적이 있는 사람의 수 / 조사대상 응답자 수) × 100
A44: 2) 교육수준 : 각 해당 교육 수준 기관의 졸업자 및 그 이상 학력의 재학, 수료, 중퇴, 휴학한 자를 포함
A45: 3) 기타 : 군인, 학생, 주부, 무직

Sheet <표>현재흡연자의금연시도율
A1: <표 24> 현재흡연자의 금연시도율1)
A2: (단위: %)
A3: 구분 | B3: 전체 | E3: 남자 | H3: 여자
B4: N | C4: %(표준오차) | D4: 상대표준오차 | E4: N | F4: %(표준오차) | G4: 상대표준오차 | H4: N | I4: %(표준오차) | J4: 상대표준오차
A5: 전체 | B5: =data!G461 -> 121 | C5: =data!H461 -> 48.8(4.0) | D5: =data!I461 -> 8.3 | E5: =data!J461 -> 111 | F5: =data!K461 -> 50.0(4.1) | G5: =data!L461 -> 8.3 | H5: =data!M461 -> 10 | I5: =data!N461 -> -(-) | J5: =data!O461 -> -
A6: 연령
A7: 19-29 | B7: =data!G463 -> 2 | C7: =data!H463 -> -(-) | D7: =data!I463 -> - | E7: =data!J463 -> 2 | F7: =data!K463 -> -(-) | G7: =data!L463 -> - | H7: =data!M463 -> 0 | I7: =data!N463 -> -(-) | J7: =data!O463 -> -
A8: 30-39 | B8: =data!G464 -> 4 | C8: =data!H464 -> -(-) | D8: =data!I464 -> - | E8: =data!J464 -> 4 | F8: =data!K464 -> -(-) | G8: =data!L464 -> - | H8: =data!M464 -> 0 | I8: =data!N464 -> -(-) | J8: =data!O464 -> -
A9: 40-49 | B9: =data!G465 -> 19 | C9: =data!H465 -> -(-) | D9: =data!I465 -> - | E9: =data!J465 -> 18 | F9: =data!K465 -> -(-) | G9: =data!L465 -> - | H9: =data!M465 -> 1 | I9: =data!N465 -> -(-) | J9: =data!O465 -> -
A10: 50-59 | B10: =data!G466 -> 38 | C10: =data!H466 -> 53.4(8.4) | D10: =data!I466 -> 15.7 | E10: =data!J466 -> 37 | F10: =data!K466 -> 54.4(8.5) | G10: =data!L466 -> 15.7 | H10: =data!M466 -> 1 | I10: =data!N466 -> -(-) | J10: =data!O466 -> -
A11: 60-69 | B11: =data!G467 -> 36 | C11: =data!H467 -> 50.8(8.7) | D11: =data!I467 -> 17.1 | E11: =data!J467 -> 30 | F11: =data!K467 -> 56.8(9.2) | G11: =data!L467 -> 16.2 | H11: =data!M467 -> 6 | I11: =data!N467 -> -(-) | J11: =data!O467 -> -
A12: 70 이상 | B12: =data!G468 -> 22 | C12: =data!H468 -> 58.2(9.3) | D12: =data!I468 -> 15.9 | E12: =data!J468 -> 20 | F12: =data!K468 -> 54.6(9.7) | G12: =data!L468 -> 17.8 | H12: =data!M468 -> 2 | I12: =data!N468 -> -(-) | J12: =data!O468 -> -
A14: 19-64 | B14: =data!G470 -> 87 | C14: =data!H470 -> 48.0(5.1) | D14: =data!I470 -> 10.5 | E14: =data!J470 -> 82 | F14: =data!K470 -> 49.3(5.2) | G14: =data!L470 -> 10.6 | H14: =data!M470 -> 5 | I14: =data!N470 -> -(-) | J14: =data!O470 -> -
A15: 65 이상 | B15: =data!G471 -> 34 | C15: =data!H471 -> 52.5(7.3) | D15: =data!I471 -> 13.9 | E15: =data!J471 -> 29 | F15: =data!K471 -> 54.3(8.0) | G15: =data!L471 -> 14.7 | H15: =data!M471 -> 5 | I15: =data!N471 -> -(-) | J15: =data!O471 -> -
A16: 교육수준2)
A17: 무학 | B17: =data!G473 -> 6 | C17: =data!H473 -> -(-) | D17: =data!I473 -> - | E17: =data!J473 -> 3 | F17: =data!K473 -> -(-) | G17: =data!L473 -> - | H17: =data!M473 -> 3 | I17: =data!N473 -> -(-) | J17: =data!O473 -> -
A18: 초등학교 | B18: =data!G474 -> 20 | C18: =data!H474 -> 45.7(13.9) | D18: =data!I474 -> 30.3 | E18: =data!J474 -> 18 | F18: =data!K474 -> -(-) | G18: =data!L474 -> - | H18: =data!M474 -> 2 | I18: =data!N474 -> -(-) | J18: =data!O474 -> -
A19: 중학교 | B19: =data!G475 -> 22 | C19: =data!H475 -> 53.5(11.4) | D19: =data!I475 -> 21.4 | E19: =data!J475 -> 19 | F19: =data!K475 -> -(-) | G19: =data!L475 -> - | H19: =data!M475 -> 3 | I19: =data!N475 -> -(-) | J19: =data!O475 -> -
A20: 고등학교 | B20: =data!G476 -> 58 | C20: =data!H476 -> 42.6(6.8) | D20: =data!I476 -> 16.0 | E20: =data!J476 -> 56 | F20: =data!K476 -> 43.8(6.9) | G20: =data!L476 -> 15.8 | H20: =data!M476 -> 2 | I20: =data!N476 -> -(-) | J20: =data!O476 -> -
A21: 대학교 이상 | B21: =data!G477 -> 15 | C21: =data!H477 -> -(-) | D21: =data!I477 -> - | E21: =data!J477 -> 15 | F21: =data!K477 -> -(-) | G21: =data!L477 -> - | H21: =data!M477 -> 0 | I21: =data!N477 -> -(-) | J21: =data!O477 -> -
A22: 직업
A23: 전문행정관리 | B23: =data!G479 -> 2 | C23: =data!H479 -> -(-) | D23: =data!I479 -> - | E23: =data!J479 -> 2 | F23: =data!K479 -> -(-) | G23: =data!L479 -> - | H23: =data!M479 -> 0 | I23: =data!N479 -> -(-) | J23: =data!O479 -> -
A24: 사무직 | B24: =data!G480 -> 2 | C24: =data!H480 -> -(-) | D24: =data!I480 -> - | E24: =data!J480 -> 2 | F24: =data!K480 -> -(-) | G24: =data!L480 -> - | H24: =data!M480 -> 0 | I24: =data!N480 -> -(-) | J24: =data!O480 -> -
A25: 판매･서비스직 | B25: =data!G481 -> 4 | C25: =data!H481 -> -(-) | D25: =data!I481 -> - | E25: =data!J481 -> 1 | F25: =data!K481 -> -(-) | G25: =data!L481 -> - | H25: =data!M481 -> 3 | I25: =data!N481 -> -(-) | J25: =data!O481 -> -
A26: 농림어업 | B26: =data!G482 -> 60 | C26: =data!H482 -> 46.4(6.5) | D26: =data!I482 -> 14.1 | E26: =data!J482 -> 59 | F26: =data!K482 -> 46.8(6.5) | G26: =data!L482 -> 13.9 | H26: =data!M482 -> 1 | I26: =data!N482 -> -(-) | J26: =data!O482 -> -
A27: 기능단순노무직 | B27: =data!G483 -> 34 | C27: =data!H483 -> 47.6(9.6) | D27: =data!I483 -> 20.1 | E27: =data!J483 -> 32 | F27: =data!K483 -> 46.1(9.7) | G27: =data!L483 -> 21.1 | H27: =data!M483 -> 2 | I27: =data!N483 -> -(-) | J27: =data!O483 -> -
A28: 기타3) | B28: =data!G484 -> 19 | C28: =data!H484 -> -(-) | D28: =data!I484 -> - | E28: =data!J484 -> 15 | F28: =data!K484 -> -(-) | G28: =data!L484 -> - | H28: =data!M484 -> 4 | I28: =data!N484 -> -(-) | J28: =data!O484 -> -
A29: 월 가구소득
A30: 100만원 미만 | B30: =data!G486 -> 32 | C30: =data!H486 -> 54.3(8.0) | D30: =data!I486 -> 14.8 | E30: =data!J486 -> 28 | F30: =data!K486 -> 56.5(8.4) | G30: =data!L486 -> 14.9 | H30: =data!M486 -> 4 | I30: =data!N486 -> -(-) | J30: =data!O486 -> -
A31: 100-200만원 미만 | B31: =data!G487 -> 26 | C31: =data!H487 -> 49.9(11.8) | D31: =data!I487 -> 23.6 | E31: =data!J487 -> 23 | F31: =data!K487 -> 48.9(12.1) | G31: =data!L487 -> 24.8 | H31: =data!M487 -> 3 | I31: =data!N487 -> -(-) | J31: =data!O487 -> -
A32: 200-300만원 미만 | B32: =data!G488 -> 15 | C32: =data!H488 -> -(-) | D32: =data!I488 -> - | E32: =data!J488 -> 15 | F32: =data!K488 -> -(-) | G32: =data!L488 -> - | H32: =data!M488 -> 0 | I32: =data!N488 -> -(-) | J32: =data!O488 -> -
A33: 300-400만원 미만 | B33: =data!G489 -> 9 | C33: =data!H489 -> -(-) | D33: =data!I489 -> - | E33: =data!J489 -> 9 | F33: =data!K489 -> -(-) | G33: =data!L489 -> - | H33: =data!M489 -> 0 | I33: =data!N489 -> -(-) | J33: =data!O489 -> -
A34: 400만원 이상 | B34: =data!G490 -> 39 | C34: =data!H490 -> 42.9(9.0) | D34: =data!I490 -> 21.0 | E34: =data!J490 -> 36 | F34: =data!K490 -> 45.5(9.4) | G34: =data!L490 -> 20.6 | H34: =data!M490 -> 3 | I34: =data!N490 -> -(-) | J34: =data!O490 -> -
A35: 작년 대비 가구소득 변화
A36: 줄어들었다 | B36: =data!G492 -> 47 | C36: =data!H492 -> 50.8(8.3) | D36: =data!I492 -> 16.4 | E36: =data!J492 -> 42 | F36: =data!K492 -> 53.5(8.4) | G36: =data!L492 -> 15.8 | H36: =data!M492 -> 5 | I36: =data!N492 -> -(-) | J36: =data!O492 -> -
A37: 변함없다 | B37: =data!G493 -> 61 | C37: =data!H493 -> 50.9(5.6) | D37: =data!I493 -> 11.0 | E37: =data!J493 -> 56 | F37: =data!K493 -> 51.6(5.8) | G37: =data!L493 -> 11.3 | H37: =data!M493 -> 5 | I37: =data!N493 -> -(-) | J37: =data!O493 -> -
A38: 늘어났다 | B38: =data!G494 -> 13 | C38: =data!H494 -> -(-) | D38: =data!I494 -> - | E38: =data!J494 -> 13 | F38: =data!K494 -> -(-) | G38: =data!L494 -> - | H38: =data!M494 -> 0 | I38: =data!N494 -> -(-) | J38: =data!O494 -> -
A39: 거주유형
A40: 동
A41: 읍〮면 | B41: =data!G497 -> 121 | C41: =data!H497 -> 48.8(4.0) | D41: =data!I497 -> 8.3 | E41: =data!J497 -> 111 | F41: =data!K497 -> 50.0(4.1) | G41: =data!L497 -> 8.3 | H41: =data!M497 -> 10 | I41: =data!N497 -> -(-) | J41: =data!O497 -> -
A43: 주 1) 현재흡연자의 금연시도율 : (담배 종류와 상관없이 최근 1년 동안 24시간 이상 금연을 시도한 적이 있는 사람의 수 / 담배종류와 상관없이 현재흡연자(일반담배(궐련) 및 궐련형 전자담배 “매일 피움” 또는 “가끔 피움”, 니코틴이 포함된 액상형 전자담배 “예”)의 수) × 100
A44: 2) 교육수준 : 각 해당 교육 수준 기관의 졸업자 및 그 이상 학력의 재학, 수료, 중퇴, 휴학한 자를 포함
A45: 3) 기타 : 군인, 학생, 주부, 무직

Sheet <표>현재흡연자의1개월내금연계획률
A1: <표 25> 현재흡연자의 1개월 내 금연계획률1)
A2: (단위: %)
A3: 구분 | B3: 전체 | E3: 남자 | H3: 여자
B4: N | C4: %(표준오차) | D4: 상대표준오차 | E4: N | F4: %(표준오차) | G4: 상대표준오차 | H4: N | I4: %(표준오차) | J4: 상대표준오차
A5: 전체 | B5: =data!G498 -> 121 | C5: =data!H498 -> 0.9(0.9) | D5: =data!I498 -> 100.0 | E5: =data!J498 -> 111 | F5: =data!K498 -> 0.9(1.0) | G5: =data!L498 -> 100.3 | H5: =data!M498 -> 10 | I5: =data!N498 -> -(-) | J5: =data!O498 -> -
A6: 연령
A7: 19-29 | B7: =data!G500 -> 2 | C7: =data!H500 -> -(-) | D7: =data!I500 -> - | E7: =data!J500 -> 2 | F7: =data!K500 -> -(-) | G7: =data!L500 -> - | H7: =data!M500 -> 0 | I7: =data!N500 -> -(-) | J7: =data!O500 -> -
A8: 30-39 | B8: =data!G501 -> 4 | C8: =data!H501 -> -(-) | D8: =data!I501 -> - | E8: =data!J501 -> 4 | F8: =data!K501 -> -(-) | G8: =data!L501 -> - | H8: =data!M501 -> 0 | I8: =data!N501 -> -(-) | J8: =data!O501 -> -
A9: 40-49 | B9: =data!G502 -> 19 | C9: =data!H502 -> -(-) | D9: =data!I502 -> - | E9: =data!J502 -> 18 | F9: =data!K502 -> -(-) | G9: =data!L502 -> - | H9: =data!M502 -> 1 | I9: =data!N502 -> -(-) | J9: =data!O502 -> -
A10: 50-59 | B10: =data!G503 -> 38 | C10: =data!H503 -> 2.8(2.8) | D10: =data!I503 -> 100.8 | E10: =data!J503 -> 37 | F10: =data!K503 -> 2.8(2.9) | G10: =data!L503 -> 100.7 | H10: =data!M503 -> 1 | I10: =data!N503 -> -(-) | J10: =data!O503 -> -
A11: 60-69 | B11: =data!G504 -> 36 | C11: =data!H504 -> 0.0(0.0) | D11: =data!I504 -> . | E11: =data!J504 -> 30 | F11: =data!K504 -> 0.0(0.0) | G11: =data!L504 -> . | H11: =data!M504 -> 6 | I11: =data!N504 -> -(-) | J11: =data!O504 -> -
A12: 70 이상 | B12: =data!G505 -> 22 | C12: =data!H505 -> 0.0(0.0) | D12: =data!I505 -> . | E12: =data!J505 -> 20 | F12: =data!K505 -> 0.0(0.0) | G12: =data!L505 -> . | H12: =data!M505 -> 2 | I12: =data!N505 -> -(-) | J12: =data!O505 -> -
A14: 19-64 | B14: =data!G507 -> 87 | C14: =data!H507 -> 1.1(1.1) | D14: =data!I507 -> 100.4 | E14: =data!J507 -> 82 | F14: =data!K507 -> 1.1(1.1) | G14: =data!L507 -> 100.9 | H14: =data!M507 -> 5 | I14: =data!N507 -> -(-) | J14: =data!O507 -> -
A15: 65 이상 | B15: =data!G508 -> 34 | C15: =data!H508 -> 0.0(0.0) | D15: =data!I508 -> . | E15: =data!J508 -> 29 | F15: =data!K508 -> 0.0(0.0) | G15: =data!L508 -> . | H15: =data!M508 -> 5 | I15: =data!N508 -> -(-) | J15: =data!O508 -> -
A16: 교육수준2)
A17: 무학 | B17: =data!G510 -> 6 | C17: =data!H510 -> -(-) | D17: =data!I510 -> - | E17: =data!J510 -> 3 | F17: =data!K510 -> -(-) | G17: =data!L510 -> - | H17: =data!M510 -> 3 | I17: =data!N510 -> -(-) | J17: =data!O510 -> -
A18: 초등학교 | B18: =data!G511 -> 20 | C18: =data!H511 -> 0.0(0.0) | D18: =data!I511 -> . | E18: =data!J511 -> 18 | F18: =data!K511 -> -(-) | G18: =data!L511 -> - | H18: =data!M511 -> 2 | I18: =data!N511 -> -(-) | J18: =data!O511 -> -
A19: 중학교 | B19: =data!G512 -> 22 | C19: =data!H512 -> 0.0(0.0) | D19: =data!I512 -> . | E19: =data!J512 -> 19 | F19: =data!K512 -> -(-) | G19: =data!L512 -> - | H19: =data!M512 -> 3 | I19: =data!N512 -> -(-) | J19: =data!O512 -> -
A20: 고등학교 | B20: =data!G513 -> 58 | C20: =data!H513 -> 0.0(0.0) | D20: =data!I513 -> . | E20: =data!J513 -> 56 | F20: =data!K513 -> 0.0(0.0) | G20: =data!L513 -> . | H20: =data!M513 -> 2 | I20: =data!N513 -> -(-) | J20: =data!O513 -> -
A21: 대학교 이상 | B21: =data!G514 -> 15 | C21: =data!H514 -> -(-) | D21: =data!I514 -> - | E21: =data!J514 -> 15 | F21: =data!K514 -> -(-) | G21: =data!L514 -> - | H21: =data!M514 -> 0 | I21: =data!N514 -> -(-) | J21: =data!O514 -> -
A22: 직업
A23: 전문행정관리 | B23: =data!G516 -> 2 | C23: =data!H516 -> -(-) | D23: =data!I516 -> - | E23: =data!J516 -> 2 | F23: =data!K516 -> -(-) | G23: =data!L516 -> - | H23: =data!M516 -> 0 | I23: =data!N516 -> -(-) | J23: =data!O516 -> -
A24: 사무직 | B24: =data!G517 -> 2 | C24: =data!H517 -> -(-) | D24: =data!I517 -> - | E24: =data!J517 -> 2 | F24: =data!K517 -> -(-) | G24: =data!L517 -> - | H24: =data!M517 -> 0 | I24: =data!N517 -> -(-) | J24: =data!O517 -> -
A25: 판매･서비스직 | B25: =data!G518 -> 4 | C25: =data!H518 -> -(-) | D25: =data!I518 -> - | E25: =data!J518 -> 1 | F25: =data!K518 -> -(-) | G25: =data!L518 -> - | H25: =data!M518 -> 3 | I25: =data!N518 -> -(-) | J25: =data!O518 -> -
A26: 농림어업 | B26: =data!G519 -> 60 | C26: =data!H519 -> 0.0(0.0) | D26: =data!I519 -> . | E26: =data!J519 -> 59 | F26: =data!K519 -> 0.0(0.0) | G26: =data!L519 -> . | H26: =data!M519 -> 1 | I26: =data!N519 -> -(-) | J26: =data!O519 -> -
A27: 기능단순노무직 | B27: =data!G520 -> 34 | C27: =data!H520 -> 2.8(2.8) | D27: =data!I520 -> 100.5 | E27: =data!J520 -> 32 | F27: =data!K520 -> 2.9(2.9) | G27: =data!L520 -> 100.6 | H27: =data!M520 -> 2 | I27: =data!N520 -> -(-) | J27: =data!O520 -> -
A28: 기타3) | B28: =data!G521 -> 19 | C28: =data!H521 -> -(-) | D28: =data!I521 -> - | E28: =data!J521 -> 15 | F28: =data!K521 -> -(-) | G28: =data!L521 -> - | H28: =data!M521 -> 4 | I28: =data!N521 -> -(-) | J28: =data!O521 -> -
A29: 월 가구소득
A30: 100만원 미만 | B30: =data!G523 -> 32 | C30: =data!H523 -> 0.0(0.0) | D30: =data!I523 -> . | E30: =data!J523 -> 28 | F30: =data!K523 -> 0.0(0.0) | G30: =data!L523 -> . | H30: =data!M523 -> 4 | I30: =data!N523 -> -(-) | J30: =data!O523 -> -
A31: 100-200만원 미만 | B31: =data!G524 -> 26 | C31: =data!H524 -> 4.7(4.5) | D31: =data!I524 -> 96.9 | E31: =data!J524 -> 23 | F31: =data!K524 -> 5.0(4.8) | G31: =data!L524 -> 97.0 | H31: =data!M524 -> 3 | I31: =data!N524 -> -(-) | J31: =data!O524 -> -
A32: 200-300만원 미만 | B32: =data!G525 -> 15 | C32: =data!H525 -> -(-) | D32: =data!I525 -> - | E32: =data!J525 -> 15 | F32: =data!K525 -> -(-) | G32: =data!L525 -> - | H32: =data!M525 -> 0 | I32: =data!N525 -> -(-) | J32: =data!O525 -> -
A33: 300-400만원 미만 | B33: =data!G526 -> 9 | C33: =data!H526 -> -(-) | D33: =data!I526 -> - | E33: =data!J526 -> 9 | F33: =data!K526 -> -(-) | G33: =data!L526 -> - | H33: =data!M526 -> 0 | I33: =data!N526 -> -(-) | J33: =data!O526 -> -
A34: 400만원 이상 | B34: =data!G527 -> 39 | C34: =data!H527 -> 0.0(0.0) | D34: =data!I527 -> . | E34: =data!J527 -> 36 | F34: =data!K527 -> 0.0(0.0) | G34: =data!L527 -> . | H34: =data!M527 -> 3 | I34: =data!N527 -> -(-) | J34: =data!O527 -> -
A35: 작년 대비 가구소득 변화
A36: 줄어들었다 | B36: =data!G529 -> 47 | C36: =data!H529 -> 2.4(2.3) | D36: =data!I529 -> 97.1 | E36: =data!J529 -> 42 | F36: =data!K529 -> 2.6(2.5) | G36: =data!L529 -> 98.0 | H36: =data!M529 -> 5 | I36: =data!N529 -> -(-) | J36: =data!O529 -> -
A37: 변함없다 | B37: =data!G530 -> 61 | C37: =data!H530 -> 0.0(0.0) | D37: =data!I530 -> . | E37: =data!J530 -> 56 | F37: =data!K530 -> 0.0(0.0) | G37: =data!L530 -> . | H37: =data!M530 -> 5 | I37: =data!N530 -> -(-) | J37: =data!O530 -> -
A38: 늘어났다 | B38: =data!G531 -> 13 | C38: =data!H531 -> -(-) | D38: =data!I531 -> - | E38: =data!J531 -> 13 | F38: =data!K531 -> -(-) | G38: =data!L531 -> - | H38: =data!M531 -> 0 | I38: =data!N531 -> -(-) | J38: =data!O531 -> -
A39: 거주유형
A40: 동
A41: 읍〮면 | B41: =data!G534 -> 121 | C41: =data!H534 -> 0.9(0.9) | D41: =data!I534 -> 100.0 | E41: =data!J534 -> 111 | F41: =data!K534 -> 0.9(1.0) | G41: =data!L534 -> 100.3 | H41: =data!M534 -> 10 | I41: =data!N534 -> -(-) | J41: =data!O534 -> -
A43: 주 1) 현재흡연자의 1개월 내 금연계획률 : (담배 종류와 상관없이 1개월 내 금연계획이 있는 사람의 수 / 담배 종류와 상관없이 현재흡연자(일반담배 및 궐련형 전자담배 “매일 피움” 또는 “가끔 피움”, 니코틴이 포함된 액상형 전자담배 “예”)의 수) × 100
A44: 2) 교육수준 : 각 해당 교육 수준 기관의 졸업자 및 그 이상 학력의 재학, 수료, 중퇴, 휴학한 자를 포함
A45: 3) 기타 : 군인, 학생, 주부, 무직

Sheet <표>현재비흡연자의가정실내간접흡연노출률
A1: <표 26> 현재비흡연자의 가정실내 간접흡연 노출률1)
A2: (단위: %)
A3: 구분 | B3: 전체 | E3: 남자 | H3: 여자
B4: N | C4: %(표준오차) | D4: 상대표준오차 | E4: N | F4: %(표준오차) | G4: 상대표준오차 | H4: N | I4: %(표준오차) | J4: 상대표준오차
A5: 전체 | B5: =data!G535 -> 763 | C5: =data!H535 -> 2.4(0.7) | D5: =data!I535 -> 28.8 | E5: =data!J535 -> 297 | F5: =data!K535 -> 2.4(1.2) | G5: =data!L535 -> 49.6 | H5: =data!M535 -> 466 | I5: =data!N535 -> 2.4(0.7) | J5: =data!O535 -> 29.5
A6: 연령
A7: 19-29 | B7: =data!G537 -> 17 | C7: =data!H537 -> -(-) | D7: =data!I537 -> - | E7: =data!J537 -> 11 | F7: =data!K537 -> -(-) | G7: =data!L537 -> - | H7: =data!M537 -> 6 | I7: =data!N537 -> -(-) | J7: =data!O537 -> -
A8: 30-39 | B8: =data!G538 -> 15 | C8: =data!H538 -> -(-) | D8: =data!I538 -> - | E8: =data!J538 -> 6 | F8: =data!K538 -> -(-) | G8: =data!L538 -> - | H8: =data!M538 -> 9 | I8: =data!N538 -> -(-) | J8: =data!O538 -> -
A9: 40-49 | B9: =data!G539 -> 40 | C9: =data!H539 -> 3.6(2.3) | D9: =data!I539 -> 63.9 | E9: =data!J539 -> 12 | F9: =data!K539 -> -(-) | G9: =data!L539 -> - | H9: =data!M539 -> 28 | I9: =data!N539 -> 6.7(4.4) | J9: =data!O539 -> 65.9
A10: 50-59 | B10: =data!G540 -> 111 | C10: =data!H540 -> 1.3(1.3) | D10: =data!I540 -> 99.9 | E10: =data!J540 -> 41 | F10: =data!K540 -> 0.0(0.0) | G10: =data!L540 -> . | H10: =data!M540 -> 70 | I10: =data!N540 -> 2.5(2.5) | J10: =data!O540 -> 99.0
A11: 60-69 | B11: =data!G541 -> 203 | C11: =data!H541 -> 3.2(1.1) | D11: =data!I541 -> 34.9 | E11: =data!J541 -> 94 | F11: =data!K541 -> 1.0(1.0) | G11: =data!L541 -> 99.8 | H11: =data!M541 -> 109 | I11: =data!N541 -> 5.3(1.9) | J11: =data!O541 -> 36.1
A12: 70 이상 | B12: =data!G542 -> 377 | C12: =data!H542 -> 0.5(0.4) | D12: =data!I542 -> 70.5 | E12: =data!J542 -> 133 | F12: =data!K542 -> 0.0(0.0) | G12: =data!L542 -> . | H12: =data!M542 -> 244 | I12: =data!N542 -> 0.9(0.6) | J12: =data!O542 -> 70.7
A14: 19-64 | B14: =data!G544 -> 283 | C14: =data!H544 -> 4.1(1.3) | D14: =data!I544 -> 31.4 | E14: =data!J544 -> 117 | F14: =data!K544 -> 4.3(2.0) | G14: =data!L544 -> 47.4 | H14: =data!M544 -> 166 | I14: =data!N544 -> 3.9(1.4) | J14: =data!O544 -> 35.6
A15: 65 이상 | B15: =data!G545 -> 480 | C15: =data!H545 -> 0.6(0.4) | D15: =data!I545 -> 57.5 | E15: =data!J545 -> 180 | F15: =data!K545 -> 0.0(0.0) | G15: =data!L545 -> . | H15: =data!M545 -> 300 | I15: =data!N545 -> 1.1(0.6) | J15: =data!O545 -> 57.8
A16: 교육수준2)
A17: 무학 | B17: =data!G547 -> 163 | C17: =data!H547 -> 0.6(0.6) | D17: =data!I547 -> 100.1 | E17: =data!J547 -> 7 | F17: =data!K547 -> -(-) | G17: =data!L547 -> - | H17: =data!M547 -> 156 | I17: =data!N547 -> 0.7(0.7) | J17: =data!O547 -> 100.1
A18: 초등학교 | B18: =data!G548 -> 219 | C18: =data!H548 -> 1.3(0.8) | D18: =data!I548 -> 59.4 | E18: =data!J548 -> 85 | F18: =data!K548 -> 0.0(0.0) | G18: =data!L548 -> . | H18: =data!M548 -> 134 | I18: =data!N548 -> 2.1(1.3) | J18: =data!O548 -> 58.6
A19: 중학교 | B19: =data!G549 -> 143 | C19: =data!H549 -> 1.9(1.1) | D19: =data!I549 -> 58.3 | E19: =data!J549 -> 71 | F19: =data!K549 -> 0.0(0.0) | G19: =data!L549 -> . | H19: =data!M549 -> 72 | I19: =data!N549 -> 4.0(2.4) | J19: =data!O549 -> 58.2
A20: 고등학교 | B20: =data!G550 -> 167 | C20: =data!H550 -> 4.6(1.9) | D20: =data!I550 -> 41.1 | E20: =data!J550 -> 94 | F20: =data!K550 -> 6.1(2.9) | G20: =data!L550 -> 47.1 | H20: =data!M550 -> 73 | I20: =data!N550 -> 2.4(1.7) | J20: =data!O550 -> 71.4
A21: 대학교 이상 | B21: =data!G551 -> 71 | C21: =data!H551 -> 2.2(1.6) | D21: =data!I551 -> 75.2 | E21: =data!J551 -> 40 | F21: =data!K551 -> 0.0(0.0) | G21: =data!L551 -> . | H21: =data!M551 -> 31 | I21: =data!N551 -> 5.1(3.7) | J21: =data!O551 -> 72.4
A22: 직업
A23: 전문행정관리 | B23: =data!G553 -> 24 | C23: =data!H553 -> 5.2(5.0) | D23: =data!I553 -> 97.1 | E23: =data!J553 -> 15 | F23: =data!K553 -> -(-) | G23: =data!L553 -> - | H23: =data!M553 -> 9 | I23: =data!N553 -> -(-) | J23: =data!O553 -> -
A24: 사무직 | B24: =data!G554 -> 17 | C24: =data!H554 -> -(-) | D24: =data!I554 -> - | E24: =data!J554 -> 3 | F24: =data!K554 -> -(-) | G24: =data!L554 -> - | H24: =data!M554 -> 14 | I24: =data!N554 -> -(-) | J24: =data!O554 -> -
A25: 판매･서비스직 | B25: =data!G555 -> 67 | C25: =data!H555 -> 2.7(2.0) | D25: =data!I555 -> 74.5 | E25: =data!J555 -> 14 | F25: =data!K555 -> -(-) | G25: =data!L555 -> - | H25: =data!M555 -> 53 | I25: =data!N555 -> 3.6(2.6) | J25: =data!O555 -> 72.5
A26: 농림어업 | B26: =data!G556 -> 284 | C26: =data!H556 -> 3.9(1.8) | D26: =data!I556 -> 46.8 | E26: =data!J556 -> 122 | F26: =data!K556 -> 3.5(2.8) | G26: =data!L556 -> 81.1 | H26: =data!M556 -> 162 | I26: =data!N556 -> 4.2(1.4) | J26: =data!O556 -> 32.9
A27: 기능단순노무직 | B27: =data!G557 -> 130 | C27: =data!H557 -> 2.4(2.3) | D27: =data!I557 -> 94.4 | E27: =data!J557 -> 49 | F27: =data!K557 -> 4.9(4.4) | G27: =data!L557 -> 89.9 | H27: =data!M557 -> 81 | I27: =data!N557 -> 0.0(0.0) | J27: =data!O557 -> .
A28: 기타3) | B28: =data!G558 -> 241 | C28: =data!H558 -> 0.4(0.4) | D28: =data!I558 -> 98.2 | E28: =data!J558 -> 94 | F28: =data!K558 -> 0.0(0.0) | G28: =data!L558 -> . | H28: =data!M558 -> 147 | I28: =data!N558 -> 0.6(0.6) | J28: =data!O558 -> 100.4
A29: 월 가구소득
A30: 100만원 미만 | B30: =data!G560 -> 283 | C30: =data!H560 -> 0.7(0.5) | D30: =data!I560 -> 70.7 | E30: =data!J560 -> 92 | F30: =data!K560 -> 0.0(0.0) | G30: =data!L560 -> . | H30: =data!M560 -> 191 | I30: =data!N560 -> 1.0(0.8) | J30: =data!O560 -> 72.0
A31: 100-200만원 미만 | B31: =data!G561 -> 159 | C31: =data!H561 -> 1.4(1.1) | D31: =data!I561 -> 75.3 | E31: =data!J561 -> 63 | F31: =data!K561 -> 1.1(1.2) | G31: =data!L561 -> 101.5 | H31: =data!M561 -> 96 | I31: =data!N561 -> 1.7(1.7) | J31: =data!O561 -> 100.4
A32: 200-300만원 미만 | B32: =data!G562 -> 86 | C32: =data!H562 -> 1.7(1.2) | D32: =data!I562 -> 72.2 | E32: =data!J562 -> 36 | F32: =data!K562 -> 0.0(0.0) | G32: =data!L562 -> . | H32: =data!M562 -> 50 | I32: =data!N562 -> 3.1(2.2) | J32: =data!O562 -> 70.9
A33: 300-400만원 미만 | B33: =data!G563 -> 63 | C33: =data!H563 -> 1.2(1.2) | D33: =data!I563 -> 101.3 | E33: =data!J563 -> 26 | F33: =data!K563 -> 0.0(0.0) | G33: =data!L563 -> . | H33: =data!M563 -> 37 | I33: =data!N563 -> 2.0(2.0) | J33: =data!O563 -> 101.3
A34: 400만원 이상 | B34: =data!G564 -> 172 | C34: =data!H564 -> 5.6(2.3) | D34: =data!I564 -> 40.6 | E34: =data!J564 -> 80 | F34: =data!K564 -> 6.5(3.3) | G34: =data!L564 -> 50.7 | H34: =data!M564 -> 92 | I34: =data!N564 -> 4.7(2.1) | J34: =data!O564 -> 45.9
A35: 작년 대비 가구소득 변화
A36: 줄어들었다 | B36: =data!G566 -> 213 | C36: =data!H566 -> 1.3(0.6) | D36: =data!I566 -> 50.9 | E36: =data!J566 -> 92 | F36: =data!K566 -> 0.7(0.7) | G36: =data!L566 -> 100.1 | H36: =data!M566 -> 121 | I36: =data!N566 -> 1.9(1.1) | J36: =data!O566 -> 58.5
A37: 변함없다 | B37: =data!G567 -> 469 | C37: =data!H567 -> 2.0(1.1) | D37: =data!I567 -> 57.7 | E37: =data!J567 -> 172 | F37: =data!K567 -> 2.1(2.1) | G37: =data!L567 -> 97.3 | H37: =data!M567 -> 297 | I37: =data!N567 -> 1.9(0.8) | J37: =data!O567 -> 40.4
A38: 늘어났다 | B38: =data!G568 -> 81 | C38: =data!H568 -> 6.9(3.5) | D38: =data!I568 -> 50.4 | E38: =data!J568 -> 33 | F38: =data!K568 -> 8.4(5.9) | G38: =data!L568 -> 70.3 | H38: =data!M568 -> 48 | I38: =data!N568 -> 5.8(4.0) | J38: =data!O568 -> 69.6
A39: 거주유형
A40: 동
A41: 읍〮면 | B41: =data!G571 -> 763 | C41: =data!H571 -> 2.4(0.7) | D41: =data!I571 -> 28.8 | E41: =data!J571 -> 297 | F41: =data!K571 -> 2.4(1.2) | G41: =data!L571 -> 49.6 | H41: =data!M571 -> 466 | I41: =data!N571 -> 2.4(0.7) | J41: =data!O571 -> 29.5
A43: 주 1) 현재비흡연자의 가정실내 간접흡연 노출률 : (담배 종류와 상관없이 현재비흡연자(과거흡연자 포함)가 최근 1주일 동안 가정의 실내에서 다른 사람이 피우는 담배연기를 맡은 적이 있는 사람의 수 / 현재비흡연자(과거흡연자 포함)의 수) × 100
A44: 2) 교육수준 : 각 해당 교육 수준 기관의 졸업자 및 그 이상 학력의 재학, 수료, 중퇴, 휴학한 자를 포함
A45: 3) 기타 : 군인, 학생, 주부, 무직

Sheet <표>현재비흡연자의직장실내간접흡연노출률
A1: <표 27> 현재비흡연자의 직장실내 간접흡연 노출률1)
A2: (단위: %)
A3: 구분 | B3: 전체 | E3: 남자 | H3: 여자
B4: N | C4: %(표준오차) | D4: 상대표준오차 | E4: N | F4: %(표준오차) | G4: 상대표준오차 | H4: N | I4: %(표준오차) | J4: 상대표준오차
A5: 전체 | B5: =data!G572 -> 523 | C5: =data!H572 -> 7.9(1.8) | D5: =data!I572 -> 23.1 | E5: =data!J572 -> 204 | F5: =data!K572 -> 4.9(1.7) | G5: =data!L572 -> 33.8 | H5: =data!M572 -> 319 | I5: =data!N572 -> 10.4(2.8) | J5: =data!O572 -> 27.5
A6: 연령
A7: 19-29 | B7: =data!G574 -> 13 | C7: =data!H574 -> -(-) | D7: =data!I574 -> - | E7: =data!J574 -> 8 | F7: =data!K574 -> -(-) | G7: =data!L574 -> - | H7: =data!M574 -> 5 | I7: =data!N574 -> -(-) | J7: =data!O574 -> -
A8: 30-39 | B8: =data!G575 -> 13 | C8: =data!H575 -> -(-) | D8: =data!I575 -> - | E8: =data!J575 -> 6 | F8: =data!K575 -> -(-) | G8: =data!L575 -> - | H8: =data!M575 -> 7 | I8: =data!N575 -> -(-) | J8: =data!O575 -> -
A9: 40-49 | B9: =data!G576 -> 36 | C9: =data!H576 -> 4.1(2.9) | D9: =data!I576 -> 69.1 | E9: =data!J576 -> 11 | F9: =data!K576 -> -(-) | G9: =data!L576 -> - | H9: =data!M576 -> 25 | I9: =data!N576 -> 7.7(5.3) | J9: =data!O576 -> 69.8
A10: 50-59 | B10: =data!G577 -> 94 | C10: =data!H577 -> 7.9(2.4) | D10: =data!I577 -> 30.2 | E10: =data!J577 -> 35 | F10: =data!K577 -> 5.0(3.2) | G10: =data!L577 -> 64.6 | H10: =data!M577 -> 59 | I10: =data!N577 -> 10.5(3.8) | J10: =data!O577 -> 36.5
A11: 60-69 | B11: =data!G578 -> 161 | C11: =data!H578 -> 5.5(2.0) | D11: =data!I578 -> 36.1 | E11: =data!J578 -> 77 | F11: =data!K578 -> 6.3(2.8) | G11: =data!L578 -> 43.9 | H11: =data!M578 -> 84 | I11: =data!N578 -> 4.7(2.2) | J11: =data!O578 -> 47.3
A12: 70 이상 | B12: =data!G579 -> 206 | C12: =data!H579 -> 4.3(1.4) | D12: =data!I579 -> 33.2 | E12: =data!J579 -> 67 | F12: =data!K579 -> 4.0(2.8) | G12: =data!L579 -> 70.6 | H12: =data!M579 -> 139 | I12: =data!N579 -> 4.5(1.9) | J12: =data!O579 -> 42.7
A14: 19-64 | B14: =data!G581 -> 235 | C14: =data!H581 -> 9.8(2.7) | D14: =data!I581 -> 28.1 | E14: =data!J581 -> 98 | F14: =data!K581 -> 4.7(2.2) | G14: =data!L581 -> 47.9 | H14: =data!M581 -> 137 | I14: =data!N581 -> 14.8(4.8) | J14: =data!O581 -> 32.1
A15: 65 이상 | B15: =data!G582 -> 288 | C15: =data!H582 -> 5.2(1.2) | D15: =data!I582 -> 24.0 | E15: =data!J582 -> 106 | F15: =data!K582 -> 5.4(2.4) | G15: =data!L582 -> 44.6 | H15: =data!M582 -> 182 | I15: =data!N582 -> 5.0(1.6) | J15: =data!O582 -> 31.6
A16: 교육수준2)
A17: 무학 | B17: =data!G584 -> 88 | C17: =data!H584 -> 7.7(3.1) | D17: =data!I584 -> 40.3 | E17: =data!J584 -> 4 | F17: =data!K584 -> -(-) | G17: =data!L584 -> - | H17: =data!M584 -> 84 | I17: =data!N584 -> 7.1(3.2) | J17: =data!O584 -> 45.4
A18: 초등학교 | B18: =data!G585 -> 149 | C18: =data!H585 -> 2.5(1.2) | D18: =data!I585 -> 47.8 | E18: =data!J585 -> 50 | F18: =data!K585 -> 1.7(1.7) | G18: =data!L585 -> 100.2 | H18: =data!M585 -> 99 | I18: =data!N585 -> 2.9(1.6) | J18: =data!O585 -> 56.3
A19: 중학교 | B19: =data!G586 -> 104 | C19: =data!H586 -> 9.1(2.9) | D19: =data!I586 -> 31.5 | E19: =data!J586 -> 49 | F19: =data!K586 -> 8.0(4.2) | G19: =data!L586 -> 52.2 | H19: =data!M586 -> 55 | I19: =data!N586 -> 10.2(4.3) | J19: =data!O586 -> 42.0
A20: 고등학교 | B20: =data!G587 -> 127 | C20: =data!H587 -> 7.4(2.5) | D20: =data!I587 -> 33.2 | E20: =data!J587 -> 70 | F20: =data!K587 -> 6.1(3.2) | G20: =data!L587 -> 53.1 | H20: =data!M587 -> 57 | I20: =data!N587 -> 9.3(4.5) | J20: =data!O587 -> 49.0
A21: 대학교 이상 | B21: =data!G588 -> 55 | C21: =data!H588 -> 14.2(6.6) | D21: =data!I588 -> 46.6 | E21: =data!J588 -> 31 | F21: =data!K588 -> 1.6(1.6) | G21: =data!L588 -> 101.3 | H21: =data!M588 -> 24 | I21: =data!N588 -> 31.5(11.9) | J21: =data!O588 -> 37.6
A22: 직업
A23: 전문행정관리 | B23: =data!G590 -> 24 | C23: =data!H590 -> 10.1(9.5) | D23: =data!I590 -> 94.9 | E23: =data!J590 -> 15 | F23: =data!K590 -> -(-) | G23: =data!L590 -> - | H23: =data!M590 -> 9 | I23: =data!N590 -> -(-) | J23: =data!O590 -> -
A24: 사무직 | B24: =data!G591 -> 17 | C24: =data!H591 -> -(-) | D24: =data!I591 -> - | E24: =data!J591 -> 3 | F24: =data!K591 -> -(-) | G24: =data!L591 -> - | H24: =data!M591 -> 14 | I24: =data!N591 -> -(-) | J24: =data!O591 -> -
A25: 판매･서비스직 | B25: =data!G592 -> 67 | C25: =data!H592 -> 7.3(4.1) | D25: =data!I592 -> 56.3 | E25: =data!J592 -> 14 | F25: =data!K592 -> -(-) | G25: =data!L592 -> - | H25: =data!M592 -> 53 | I25: =data!N592 -> 8.2(5.3) | J25: =data!O592 -> 64.7
A26: 농림어업 | B26: =data!G593 -> 284 | C26: =data!H593 -> 8.0(1.8) | D26: =data!I593 -> 22.9 | E26: =data!J593 -> 122 | F26: =data!K593 -> 5.1(1.9) | G26: =data!L593 -> 37.9 | H26: =data!M593 -> 162 | I26: =data!N593 -> 11.1(3.3) | J26: =data!O593 -> 30.1
A27: 기능단순노무직 | B27: =data!G594 -> 130 | C27: =data!H594 -> 2.2(1.2) | D27: =data!I594 -> 53.4 | E27: =data!J594 -> 49 | F27: =data!K594 -> 1.8(1.9) | G27: =data!L594 -> 101.1 | H27: =data!M594 -> 81 | I27: =data!N594 -> 2.5(1.6) | J27: =data!O594 -> 65.1
A28: 기타3) | B28: =data!G595 -> 1 | C28: =data!H595 -> -(-) | D28: =data!I595 -> - | E28: =data!J595 -> 1 | F28: =data!K595 -> -(-) | G28: =data!L595 -> - | H28: =data!M595 -> 0 | I28: =data!N595 -> -(-) | J28: =data!O595 -> -
A29: 월 가구소득
A30: 100만원 미만 | B30: =data!G597 -> 140 | C30: =data!H597 -> 8.1(2.4) | D30: =data!I597 -> 30.2 | E30: =data!J597 -> 39 | F30: =data!K597 -> 7.1(4.4) | G30: =data!L597 -> 61.0 | H30: =data!M597 -> 101 | I30: =data!N597 -> 8.6(2.7) | J30: =data!O597 -> 31.8
A31: 100-200만원 미만 | B31: =data!G598 -> 111 | C31: =data!H598 -> 3.0(1.7) | D31: =data!I598 -> 58.1 | E31: =data!J598 -> 41 | F31: =data!K598 -> 4.5(3.2) | G31: =data!L598 -> 71.4 | H31: =data!M598 -> 70 | I31: =data!N598 -> 1.7(1.7) | J31: =data!O598 -> 99.7
A32: 200-300만원 미만 | B32: =data!G599 -> 72 | C32: =data!H599 -> 8.2(3.8) | D32: =data!I599 -> 46.7 | E32: =data!J599 -> 31 | F32: =data!K599 -> 2.0(2.0) | G32: =data!L599 -> 100.0 | H32: =data!M599 -> 41 | I32: =data!N599 -> 14.0(6.9) | J32: =data!O599 -> 49.4
A33: 300-400만원 미만 | B33: =data!G600 -> 47 | C33: =data!H600 -> 5.4(2.9) | D33: =data!I600 -> 54.2 | E33: =data!J600 -> 21 | F33: =data!K600 -> 4.0(3.8) | G33: =data!L600 -> 95.5 | H33: =data!M600 -> 26 | I33: =data!N600 -> 6.5(4.6) | J33: =data!O600 -> 70.5
A34: 400만원 이상 | B34: =data!G601 -> 153 | C34: =data!H601 -> 10.9(4.0) | D34: =data!I601 -> 36.5 | E34: =data!J601 -> 72 | F34: =data!K601 -> 5.4(3.1) | G34: =data!L601 -> 57.5 | H34: =data!M601 -> 81 | I34: =data!N601 -> 16.6(7.2) | J34: =data!O601 -> 43.2
A35: 작년 대비 가구소득 변화
A36: 줄어들었다 | B36: =data!G603 -> 170 | C36: =data!H603 -> 10.7(4.1) | D36: =data!I603 -> 38.5 | E36: =data!J603 -> 75 | F36: =data!K603 -> 5.5(2.4) | G36: =data!L603 -> 43.1 | H36: =data!M603 -> 95 | I36: =data!N603 -> 16.6(7.7) | J36: =data!O603 -> 46.1
A37: 변함없다 | B37: =data!G604 -> 285 | C37: =data!H604 -> 4.3(1.3) | D37: =data!I604 -> 31.1 | E37: =data!J604 -> 101 | F37: =data!K604 -> 1.4(1.0) | G37: =data!L604 -> 72.3 | H37: =data!M604 -> 184 | I37: =data!N604 -> 6.3(2.2) | J37: =data!O604 -> 34.8
A38: 늘어났다 | B38: =data!G605 -> 68 | C38: =data!H605 -> 14.7(5.2) | D38: =data!I605 -> 35.8 | E38: =data!J605 -> 28 | F38: =data!K605 -> 14.9(5.9) | G38: =data!L605 -> 39.6 | H38: =data!M605 -> 40 | I38: =data!N605 -> 14.4(7.5) | J38: =data!O605 -> 51.7
A39: 거주유형
A40: 동
A41: 읍〮면 | B41: =data!G608 -> 523 | C41: =data!H608 -> 7.9(1.8) | D41: =data!I608 -> 23.1 | E41: =data!J608 -> 204 | F41: =data!K608 -> 4.9(1.7) | G41: =data!L608 -> 33.8 | H41: =data!M608 -> 319 | I41: =data!N608 -> 10.4(2.8) | J41: =data!O608 -> 27.5
A43: 주 1) 현재비흡연자의 직장실내 간접흡연 노출률 : (담배 종류와 상관없이 현재 일을 하고 있는 현재비흡연자(과거흡연자 포함)가 최근 1주일 동안 직장의 실내에서 다른 사람이 피우는 담배연기를 맡은 적이 있는 사람의 수 / 일을 하고 있는 현재비흡연자(과거흡연자 포함)의 수) × 100
A44: 2) 교육수준 : 각 해당 교육 수준 기관의 졸업자 및 그 이상 학력의 재학, 수료, 중퇴, 휴학한 자를 포함
A45: 3) 기타 : 군인, 학생, 주부, 무직

Sheet <표>평생음주율
A1: <표 28> 평생음주율1)
A2: (단위: %)
A3: 구분 | B3: 전체 | E3: 남자 | H3: 여자
B4: N | C4: %(표준오차) | D4: 상대표준오차 | E4: N | F4: %(표준오차) | G4: 상대표준오차 | H4: N | I4: %(표준오차) | J4: 상대표준오차
A5: 전체 | B5: =data!G609 -> 884 | C5: =data!H609 -> 68.6(2.0) | D5: =data!I609 -> 2.9 | E5: =data!J609 -> 408 | F5: =data!K609 -> 81.6(2.4) | G5: =data!L609 -> 2.9 | H5: =data!M609 -> 476 | I5: =data!N609 -> 53.4(2.8) | J5: =data!O609 -> 5.2
A6: 연령
A7: 19-29 | B7: =data!G611 -> 19 | C7: =data!H611 -> -(-) | D7: =data!I611 -> - | E7: =data!J611 -> 13 | F7: =data!K611 -> -(-) | G7: =data!L611 -> - | H7: =data!M611 -> 6 | I7: =data!N611 -> -(-) | J7: =data!O611 -> -
A8: 30-39 | B8: =data!G612 -> 19 | C8: =data!H612 -> -(-) | D8: =data!I612 -> - | E8: =data!J612 -> 10 | F8: =data!K612 -> -(-) | G8: =data!L612 -> - | H8: =data!M612 -> 9 | I8: =data!N612 -> -(-) | J8: =data!O612 -> -
A9: 40-49 | B9: =data!G613 -> 59 | C9: =data!H613 -> 77.6(6.4) | D9: =data!I613 -> 8.2 | E9: =data!J613 -> 30 | F9: =data!K613 -> 83.3(6.6) | G9: =data!L613 -> 7.9 | H9: =data!M613 -> 29 | I9: =data!N613 -> 66.3(8.8) | J9: =data!O613 -> 13.2
A10: 50-59 | B10: =data!G614 -> 149 | C10: =data!H614 -> 79.1(3.5) | D10: =data!I614 -> 4.4 | E10: =data!J614 -> 78 | F10: =data!K614 -> 86.0(4.2) | G10: =data!L614 -> 4.8 | H10: =data!M614 -> 71 | I10: =data!N614 -> 67.7(5.1) | J10: =data!O614 -> 7.5
A11: 60-69 | B11: =data!G615 -> 239 | C11: =data!H615 -> 71.9(2.9) | D11: =data!I615 -> 4.0 | E11: =data!J615 -> 124 | F11: =data!K615 -> 87.6(2.8) | G11: =data!L615 -> 3.2 | H11: =data!M615 -> 115 | I11: =data!N615 -> 52.8(4.7) | J11: =data!O615 -> 9.0
A12: 70 이상 | B12: =data!G616 -> 399 | C12: =data!H616 -> 56.0(2.7) | D12: =data!I616 -> 4.8 | E12: =data!J616 -> 153 | F12: =data!K616 -> 81.8(3.2) | G12: =data!L616 -> 3.9 | H12: =data!M616 -> 246 | I12: =data!N616 -> 38.1(3.3) | J12: =data!O616 -> 8.7
A14: 19-64 | B14: =data!G618 -> 370 | C14: =data!H618 -> 75.9(2.9) | D14: =data!I618 -> 3.8 | E14: =data!J618 -> 199 | F14: =data!K618 -> 80.2(3.5) | G14: =data!L618 -> 4.3 | H14: =data!M618 -> 171 | I14: =data!N618 -> 68.8(3.9) | J14: =data!O618 -> 5.7
A15: 65 이상 | B15: =data!G619 -> 514 | C15: =data!H619 -> 59.2(2.4) | D15: =data!I619 -> 4.0 | E15: =data!J619 -> 209 | F15: =data!K619 -> 84.2(2.5) | G15: =data!L619 -> 3.0 | H15: =data!M619 -> 305 | I15: =data!N619 -> 40.0(3.0) | J15: =data!O619 -> 7.4
A16: 교육수준2)
A17: 무학 | B17: =data!G621 -> 169 | C17: =data!H621 -> 43.3(4.2) | D17: =data!I621 -> 9.7 | E17: =data!J621 -> 10 | F17: =data!K621 -> -(-) | G17: =data!L621 -> - | H17: =data!M621 -> 159 | I17: =data!N621 -> 41.7(4.3) | J17: =data!O621 -> 10.3
A18: 초등학교 | B18: =data!G622 -> 239 | C18: =data!H622 -> 58.3(3.2) | D18: =data!I622 -> 5.5 | E18: =data!J622 -> 103 | F18: =data!K622 -> 81.1(3.8) | G18: =data!L622 -> 4.7 | H18: =data!M622 -> 136 | I18: =data!N622 -> 39.4(4.4) | J18: =data!O622 -> 11.1
A19: 중학교 | B19: =data!G623 -> 165 | C19: =data!H623 -> 73.8(3.5) | D19: =data!I623 -> 4.8 | E19: =data!J623 -> 90 | F19: =data!K623 -> 86.0(3.6) | G19: =data!L623 -> 4.2 | H19: =data!M623 -> 75 | I19: =data!N623 -> 56.4(6.1) | J19: =data!O623 -> 10.8
A20: 고등학교 | B20: =data!G624 -> 225 | C20: =data!H624 -> 80.8(3.7) | D20: =data!I624 -> 4.6 | E20: =data!J624 -> 150 | F20: =data!K624 -> 84.7(4.3) | G20: =data!L624 -> 5.1 | H20: =data!M624 -> 75 | I20: =data!N624 -> 71.3(7.0) | J20: =data!O624 -> 9.8
A21: 대학교 이상 | B21: =data!G625 -> 86 | C21: =data!H625 -> 73.5(6.3) | D21: =data!I625 -> 8.6 | E21: =data!J625 -> 55 | F21: =data!K625 -> 72.4(8.4) | G21: =data!L625 -> 11.6 | H21: =data!M625 -> 31 | I21: =data!N625 -> 75.8(8.0) | J21: =data!O625 -> 10.6
A22: 직업
A23: 전문행정관리 | B23: =data!G627 -> 26 | C23: =data!H627 -> 76.7(9.0) | D23: =data!I627 -> 11.7 | E23: =data!J627 -> 17 | F23: =data!K627 -> -(-) | G23: =data!L627 -> - | H23: =data!M627 -> 9 | I23: =data!N627 -> -(-) | J23: =data!O627 -> -
A24: 사무직 | B24: =data!G628 -> 19 | C24: =data!H628 -> -(-) | D24: =data!I628 -> - | E24: =data!J628 -> 5 | F24: =data!K628 -> -(-) | G24: =data!L628 -> - | H24: =data!M628 -> 14 | I24: =data!N628 -> -(-) | J24: =data!O628 -> -
A25: 판매･서비스직 | B25: =data!G629 -> 71 | C25: =data!H629 -> 73.5(6.9) | D25: =data!I629 -> 9.4 | E25: =data!J629 -> 15 | F25: =data!K629 -> -(-) | G25: =data!L629 -> - | H25: =data!M629 -> 56 | I25: =data!N629 -> 65.0(8.7) | J25: =data!O629 -> 13.3
A26: 농림어업 | B26: =data!G630 -> 344 | C26: =data!H630 -> 71.2(2.7) | D26: =data!I630 -> 3.8 | E26: =data!J630 -> 181 | F26: =data!K630 -> 84.6(3.3) | G26: =data!L630 -> 3.9 | H26: =data!M630 -> 163 | I26: =data!N630 -> 48.8(4.2) | J26: =data!O630 -> 8.7
A27: 기능단순노무직 | B27: =data!G631 -> 164 | C27: =data!H631 -> 74.4(4.0) | D27: =data!I631 -> 5.4 | E27: =data!J631 -> 81 | F27: =data!K631 -> 83.7(4.8) | G27: =data!L631 -> 5.7 | H27: =data!M631 -> 83 | I27: =data!N631 -> 58.7(6.5) | J27: =data!O631 -> 11.0
A28: 기타3) | B28: =data!G632 -> 260 | C28: =data!H632 -> 53.2(3.4) | D28: =data!I632 -> 6.3 | E28: =data!J632 -> 109 | F28: =data!K632 -> 70.5(4.7) | G28: =data!L632 -> 6.7 | H28: =data!M632 -> 151 | I28: =data!N632 -> 38.6(4.2) | J28: =data!O632 -> 10.8
A29: 월 가구소득
A30: 100만원 미만 | B30: =data!G634 -> 315 | C30: =data!H634 -> 61.9(3.4) | D30: =data!I634 -> 5.5 | E30: =data!J634 -> 120 | F30: =data!K634 -> 87.3(3.2) | G30: =data!L634 -> 3.7 | H30: =data!M634 -> 195 | I30: =data!N634 -> 41.5(4.5) | J30: =data!O634 -> 10.8
A31: 100-200만원 미만 | B31: =data!G635 -> 185 | C31: =data!H635 -> 61.2(5.4) | D31: =data!I635 -> 8.8 | E31: =data!J635 -> 86 | F31: =data!K635 -> 69.3(7.3) | G31: =data!L635 -> 10.5 | H31: =data!M635 -> 99 | I31: =data!N635 -> 50.8(6.0) | J31: =data!O635 -> 11.9
A32: 200-300만원 미만 | B32: =data!G636 -> 101 | C32: =data!H636 -> 63.3(5.2) | D32: =data!I636 -> 8.3 | E32: =data!J636 -> 51 | F32: =data!K636 -> 73.9(6.4) | G32: =data!L636 -> 8.7 | H32: =data!M636 -> 50 | I32: =data!N636 -> 48.5(7.7) | J32: =data!O636 -> 15.9
A33: 300-400만원 미만 | B33: =data!G637 -> 72 | C33: =data!H637 -> 81.9(4.9) | D33: =data!I637 -> 6.0 | E33: =data!J637 -> 35 | F33: =data!K637 -> 92.3(4.5) | G33: =data!L637 -> 4.9 | H33: =data!M637 -> 37 | I33: =data!N637 -> 70.8(8.4) | J33: =data!O637 -> 11.9
A34: 400만원 이상 | B34: =data!G638 -> 211 | C34: =data!H638 -> 78.7(4.3) | D34: =data!I638 -> 5.5 | E34: =data!J638 -> 116 | F34: =data!K638 -> 85.2(5.1) | G34: =data!L638 -> 6.0 | H34: =data!M638 -> 95 | I34: =data!N638 -> 68.5(5.8) | J34: =data!O638 -> 8.5
A35: 작년 대비 가구소득 변화
A36: 줄어들었다 | B36: =data!G640 -> 260 | C36: =data!H640 -> 72.6(3.3) | D36: =data!I640 -> 4.5 | E36: =data!J640 -> 134 | F36: =data!K640 -> 84.5(3.8) | G36: =data!L640 -> 4.5 | H36: =data!M640 -> 126 | I36: =data!N640 -> 54.3(5.2) | J36: =data!O640 -> 9.5
A37: 변함없다 | B37: =data!G641 -> 530 | C37: =data!H641 -> 63.0(2.5) | D37: =data!I641 -> 4.0 | E37: =data!J641 -> 228 | F37: =data!K641 -> 76.6(3.5) | G37: =data!L641 -> 4.5 | H37: =data!M641 -> 302 | I37: =data!N641 -> 49.6(3.4) | J37: =data!O641 -> 6.8
A38: 늘어났다 | B38: =data!G642 -> 94 | C38: =data!H642 -> 83.5(5.1) | D38: =data!I642 -> 6.1 | E38: =data!J642 -> 46 | F38: =data!K642 -> 93.6(3.7) | G38: =data!L642 -> 3.9 | H38: =data!M642 -> 48 | I38: =data!N642 -> 70.8(9.0) | J38: =data!O642 -> 12.7
A39: 거주유형
A40: 동
A41: 읍〮면 | B41: =data!G645 -> 884 | C41: =data!H645 -> 68.6(2.0) | D41: =data!I645 -> 2.9 | E41: =data!J645 -> 408 | F41: =data!K645 -> 81.6(2.4) | G41: =data!L645 -> 2.9 | H41: =data!M645 -> 476 | I41: =data!N645 -> 53.4(2.8) | J41: =data!O645 -> 5.2
A43: 주 1) 평생음주율 : (지금까지 살아오면서 1잔 이상의 술을 마신 적이 있는 사람의 수 / 조사대상 응답자 수) × 100
A44: 2) 교육수준 : 각 해당 교육 수준 기관의 졸업자 및 그 이상 학력의 재학, 수료, 중퇴, 휴학한 자를 포함
A45: 3) 기타 : 군인, 학생, 주부, 무직

Sheet <표>연간음주율
A1: <표 29> 연간음주율1)
A2: (단위: %)
A3: 구분 | B3: 전체 | E3: 남자 | H3: 여자
B4: N | C4: %(표준오차) | D4: 상대표준오차 | E4: N | F4: %(표준오차) | G4: 상대표준오차 | H4: N | I4: %(표준오차) | J4: 상대표준오차
A5: 전체 | B5: =data!G646 -> 884 | C5: =data!H646 -> 46.3(2.5) | D5: =data!I646 -> 5.3 | E5: =data!J646 -> 408 | F5: =data!K646 -> 58.2(3.3) | G5: =data!L646 -> 5.7 | H5: =data!M646 -> 476 | I5: =data!N646 -> 32.5(2.9) | J5: =data!O646 -> 9.0
A6: 연령
A7: 19-29 | B7: =data!G648 -> 19 | C7: =data!H648 -> -(-) | D7: =data!I648 -> - | E7: =data!J648 -> 13 | F7: =data!K648 -> -(-) | G7: =data!L648 -> - | H7: =data!M648 -> 6 | I7: =data!N648 -> -(-) | J7: =data!O648 -> -
A8: 30-39 | B8: =data!G649 -> 19 | C8: =data!H649 -> -(-) | D8: =data!I649 -> - | E8: =data!J649 -> 10 | F8: =data!K649 -> -(-) | G8: =data!L649 -> - | H8: =data!M649 -> 9 | I8: =data!N649 -> -(-) | J8: =data!O649 -> -
A9: 40-49 | B9: =data!G650 -> 59 | C9: =data!H650 -> 64.3(7.6) | D9: =data!I650 -> 11.7 | E9: =data!J650 -> 30 | F9: =data!K650 -> 66.7(8.9) | G9: =data!L650 -> 13.4 | H9: =data!M650 -> 29 | I9: =data!N650 -> 59.6(8.7) | J9: =data!O650 -> 14.6
A10: 50-59 | B10: =data!G651 -> 149 | C10: =data!H651 -> 60.1(4.9) | D10: =data!I651 -> 8.1 | E10: =data!J651 -> 78 | F10: =data!K651 -> 69.2(6.0) | G10: =data!L651 -> 8.7 | H10: =data!M651 -> 71 | I10: =data!N651 -> 45.2(6.3) | J10: =data!O651 -> 13.9
A11: 60-69 | B11: =data!G652 -> 239 | C11: =data!H652 -> 41.8(3.6) | D11: =data!I652 -> 8.5 | E11: =data!J652 -> 124 | F11: =data!K652 -> 57.5(5.3) | G11: =data!L652 -> 9.2 | H11: =data!M652 -> 115 | I11: =data!N652 -> 22.8(3.8) | J11: =data!O652 -> 16.8
A12: 70 이상 | B12: =data!G653 -> 399 | C12: =data!H653 -> 24.9(2.4) | D12: =data!I653 -> 9.8 | E12: =data!J653 -> 153 | F12: =data!K653 -> 39.4(4.3) | G12: =data!L653 -> 10.9 | H12: =data!M653 -> 246 | I12: =data!N653 -> 14.7(2.3) | J12: =data!O653 -> 15.5
A14: 19-64 | B14: =data!G655 -> 370 | C14: =data!H655 -> 61.2(3.5) | D14: =data!I655 -> 5.7 | E14: =data!J655 -> 199 | F14: =data!K655 -> 66.7(4.3) | G14: =data!L655 -> 6.4 | H14: =data!M655 -> 171 | I14: =data!N655 -> 52.3(4.6) | J14: =data!O655 -> 8.8
A15: 65 이상 | B15: =data!G656 -> 514 | C15: =data!H656 -> 27.1(2.5) | D15: =data!I656 -> 9.2 | E15: =data!J656 -> 209 | F15: =data!K656 -> 42.5(4.2) | G15: =data!L656 -> 9.8 | H15: =data!M656 -> 305 | I15: =data!N656 -> 15.2(2.0) | J15: =data!O656 -> 13.5
A16: 교육수준2)
A17: 무학 | B17: =data!G658 -> 169 | C17: =data!H658 -> 19.1(3.5) | D17: =data!I658 -> 18.4 | E17: =data!J658 -> 10 | F17: =data!K658 -> -(-) | G17: =data!L658 -> - | H17: =data!M658 -> 159 | I17: =data!N658 -> 17.7(3.6) | J17: =data!O658 -> 20.5
A18: 초등학교 | B18: =data!G659 -> 239 | C18: =data!H659 -> 24.9(3.1) | D18: =data!I659 -> 12.3 | E18: =data!J659 -> 103 | F18: =data!K659 -> 37.3(5.1) | G18: =data!L659 -> 13.6 | H18: =data!M659 -> 136 | I18: =data!N659 -> 14.7(3.1) | J18: =data!O659 -> 21.0
A19: 중학교 | B19: =data!G660 -> 165 | C19: =data!H660 -> 50.4(4.4) | D19: =data!I660 -> 8.7 | E19: =data!J660 -> 90 | F19: =data!K660 -> 59.7(6.3) | G19: =data!L660 -> 10.5 | H19: =data!M660 -> 75 | I19: =data!N660 -> 37.1(5.6) | J19: =data!O660 -> 15.2
A20: 고등학교 | B20: =data!G661 -> 225 | C20: =data!H661 -> 61.7(4.5) | D20: =data!I661 -> 7.2 | E20: =data!J661 -> 150 | F20: =data!K661 -> 66.6(5.1) | G20: =data!L661 -> 7.6 | H20: =data!M661 -> 75 | I20: =data!N661 -> 49.6(7.1) | J20: =data!O661 -> 14.3
A21: 대학교 이상 | B21: =data!G662 -> 86 | C21: =data!H662 -> 62.6(6.9) | D21: =data!I662 -> 11.0 | E21: =data!J662 -> 55 | F21: =data!K662 -> 58.4(9.0) | G21: =data!L662 -> 15.4 | H21: =data!M662 -> 31 | I21: =data!N662 -> 70.9(8.2) | J21: =data!O662 -> 11.6
A22: 직업
A23: 전문행정관리 | B23: =data!G664 -> 26 | C23: =data!H664 -> 59.4(9.6) | D23: =data!I664 -> 16.2 | E23: =data!J664 -> 17 | F23: =data!K664 -> -(-) | G23: =data!L664 -> - | H23: =data!M664 -> 9 | I23: =data!N664 -> -(-) | J23: =data!O664 -> -
A24: 사무직 | B24: =data!G665 -> 19 | C24: =data!H665 -> -(-) | D24: =data!I665 -> - | E24: =data!J665 -> 5 | F24: =data!K665 -> -(-) | G24: =data!L665 -> - | H24: =data!M665 -> 14 | I24: =data!N665 -> -(-) | J24: =data!O665 -> -
A25: 판매･서비스직 | B25: =data!G666 -> 71 | C25: =data!H666 -> 51.4(7.1) | D25: =data!I666 -> 13.9 | E25: =data!J666 -> 15 | F25: =data!K666 -> -(-) | G25: =data!L666 -> - | H25: =data!M666 -> 56 | I25: =data!N666 -> 44.1(7.7) | J25: =data!O666 -> 17.5
A26: 농림어업 | B26: =data!G667 -> 344 | C26: =data!H667 -> 48.6(3.6) | D26: =data!I667 -> 7.4 | E26: =data!J667 -> 181 | F26: =data!K667 -> 62.9(4.2) | G26: =data!L667 -> 6.6 | H26: =data!M667 -> 163 | I26: =data!N667 -> 24.6(4.1) | J26: =data!O667 -> 16.5
A27: 기능단순노무직 | B27: =data!G668 -> 164 | C27: =data!H668 -> 53.8(5.5) | D27: =data!I668 -> 10.3 | E27: =data!J668 -> 81 | F27: =data!K668 -> 65.6(6.2) | G27: =data!L668 -> 9.5 | H27: =data!M668 -> 83 | I27: =data!N668 -> 34.0(7.8) | J27: =data!O668 -> 22.9
A28: 기타3) | B28: =data!G669 -> 260 | C28: =data!H669 -> 26.3(3.0) | D28: =data!I669 -> 11.4 | E28: =data!J669 -> 109 | F28: =data!K669 -> 36.1(4.7) | G28: =data!L669 -> 13.0 | H28: =data!M669 -> 151 | I28: =data!N669 -> 18.0(3.9) | J28: =data!O669 -> 21.8
A29: 월 가구소득
A30: 100만원 미만 | B30: =data!G671 -> 315 | C30: =data!H671 -> 33.7(4.1) | D30: =data!I671 -> 12.2 | E30: =data!J671 -> 120 | F30: =data!K671 -> 54.1(5.9) | G30: =data!L671 -> 10.9 | H30: =data!M671 -> 195 | I30: =data!N671 -> 17.3(3.7) | J30: =data!O671 -> 21.3
A31: 100-200만원 미만 | B31: =data!G672 -> 185 | C31: =data!H672 -> 35.6(5.3) | D31: =data!I672 -> 15.0 | E31: =data!J672 -> 86 | F31: =data!K672 -> 43.2(7.2) | G31: =data!L672 -> 16.6 | H31: =data!M672 -> 99 | I31: =data!N672 -> 25.9(4.8) | J31: =data!O672 -> 18.5
A32: 200-300만원 미만 | B32: =data!G673 -> 101 | C32: =data!H673 -> 46.5(6.3) | D32: =data!I673 -> 13.6 | E32: =data!J673 -> 51 | F32: =data!K673 -> 59.4(7.5) | G32: =data!L673 -> 12.6 | H32: =data!M673 -> 50 | I32: =data!N673 -> 28.8(8.0) | J32: =data!O673 -> 27.9
A33: 300-400만원 미만 | B33: =data!G674 -> 72 | C33: =data!H674 -> 61.7(6.2) | D33: =data!I674 -> 10.1 | E33: =data!J674 -> 35 | F33: =data!K674 -> 74.5(7.2) | G33: =data!L674 -> 9.6 | H33: =data!M674 -> 37 | I33: =data!N674 -> 47.9(10.7) | J33: =data!O674 -> 22.4
A34: 400만원 이상 | B34: =data!G675 -> 211 | C34: =data!H675 -> 62.0(4.9) | D34: =data!I675 -> 7.9 | E34: =data!J675 -> 116 | F34: =data!K675 -> 66.1(6.2) | G34: =data!L675 -> 9.5 | H34: =data!M675 -> 95 | I34: =data!N675 -> 55.6(6.0) | J34: =data!O675 -> 10.8
A35: 작년 대비 가구소득 변화
A36: 줄어들었다 | B36: =data!G677 -> 260 | C36: =data!H677 -> 49.9(4.2) | D36: =data!I677 -> 8.4 | E36: =data!J677 -> 134 | F36: =data!K677 -> 61.3(5.5) | G36: =data!L677 -> 9.0 | H36: =data!M677 -> 126 | I36: =data!N677 -> 32.2(5.6) | J36: =data!O677 -> 17.4
A37: 변함없다 | B37: =data!G678 -> 530 | C37: =data!H678 -> 39.7(3.2) | D37: =data!I678 -> 8.0 | E37: =data!J678 -> 228 | F37: =data!K678 -> 52.0(4.3) | G37: =data!L678 -> 8.2 | H37: =data!M678 -> 302 | I37: =data!N678 -> 27.7(3.7) | J37: =data!O678 -> 13.2
A38: 늘어났다 | B38: =data!G679 -> 94 | C38: =data!H679 -> 66.7(7.8) | D38: =data!I679 -> 11.6 | E38: =data!J679 -> 46 | F38: =data!K679 -> 74.2(8.5) | G38: =data!L679 -> 11.5 | H38: =data!M679 -> 48 | I38: =data!N679 -> 57.2(9.9) | J38: =data!O679 -> 17.2
A39: 거주유형
A40: 동
A41: 읍〮면 | B41: =data!G682 -> 884 | C41: =data!H682 -> 46.3(2.5) | D41: =data!I682 -> 5.3 | E41: =data!J682 -> 408 | F41: =data!K682 -> 58.2(3.3) | G41: =data!L682 -> 5.7 | H41: =data!M682 -> 476 | I41: =data!N682 -> 32.5(2.9) | J41: =data!O682 -> 9.0
A43: 주 1) 연간음주율 : (최근 1년 동안 1회 이상 술을 마신 적이 있는 사람의 수 / 조사대상 응답자 수) × 100
A44: 2) 교육수준 : 각 해당 교육 수준 기관의 졸업자 및 그 이상 학력의 재학, 수료, 중퇴, 휴학한 자를 포함
A45: 3) 기타 : 군인, 학생, 주부, 무직

Sheet <표>월간음주율
A1: <표 30> 월간음주율1)
A2: (단위: %)
A3: 구분 | B3: 전체 | E3: 남자 | H3: 여자
B4: N | C4: %(표준오차) | D4: 상대표준오차 | E4: N | F4: %(표준오차) | G4: 상대표준오차 | H4: N | I4: %(표준오차) | J4: 상대표준오차
A5: 전체 | B5: =data!G683 -> 884 | C5: =data!H683 -> 39.3(2.6) | D5: =data!I683 -> 6.5 | E5: =data!J683 -> 408 | F5: =data!K683 -> 53.2(3.7) | G5: =data!L683 -> 6.9 | H5: =data!M683 -> 476 | I5: =data!N683 -> 23.1(2.9) | J5: =data!O683 -> 12.4
A6: 연령
A7: 19-29 | B7: =data!G685 -> 19 | C7: =data!H685 -> -(-) | D7: =data!I685 -> - | E7: =data!J685 -> 13 | F7: =data!K685 -> -(-) | G7: =data!L685 -> - | H7: =data!M685 -> 6 | I7: =data!N685 -> -(-) | J7: =data!O685 -> -
A8: 30-39 | B8: =data!G686 -> 19 | C8: =data!H686 -> -(-) | D8: =data!I686 -> - | E8: =data!J686 -> 10 | F8: =data!K686 -> -(-) | G8: =data!L686 -> - | H8: =data!M686 -> 9 | I8: =data!N686 -> -(-) | J8: =data!O686 -> -
A9: 40-49 | B9: =data!G687 -> 59 | C9: =data!H687 -> 53.5(7.7) | D9: =data!I687 -> 14.4 | E9: =data!J687 -> 30 | F9: =data!K687 -> 53.3(9.5) | G9: =data!L687 -> 17.8 | H9: =data!M687 -> 29 | I9: =data!N687 -> 53.7(9.0) | J9: =data!O687 -> 16.7
A10: 50-59 | B10: =data!G688 -> 149 | C10: =data!H688 -> 49.7(4.8) | D10: =data!I688 -> 9.7 | E10: =data!J688 -> 78 | F10: =data!K688 -> 63.2(6.5) | G10: =data!L688 -> 10.2 | H10: =data!M688 -> 71 | I10: =data!N688 -> 27.6(5.6) | J10: =data!O688 -> 20.2
A11: 60-69 | B11: =data!G689 -> 239 | C11: =data!H689 -> 35.0(3.4) | D11: =data!I689 -> 9.7 | E11: =data!J689 -> 124 | F11: =data!K689 -> 55.1(5.4) | G11: =data!L689 -> 9.7 | H11: =data!M689 -> 115 | I11: =data!N689 -> 10.4(2.6) | J11: =data!O689 -> 25.2
A12: 70 이상 | B12: =data!G690 -> 399 | C12: =data!H690 -> 21.0(2.4) | D12: =data!I690 -> 11.4 | E12: =data!J690 -> 153 | F12: =data!K690 -> 37.6(4.2) | G12: =data!L690 -> 11.3 | H12: =data!M690 -> 246 | I12: =data!N690 -> 9.4(1.9) | J12: =data!O690 -> 19.7
A14: 19-64 | B14: =data!G692 -> 370 | C14: =data!H692 -> 52.0(3.6) | D14: =data!I692 -> 7.0 | E14: =data!J692 -> 199 | F14: =data!K692 -> 59.7(4.9) | G14: =data!L692 -> 8.1 | H14: =data!M692 -> 171 | I14: =data!N692 -> 39.4(4.7) | J14: =data!O692 -> 11.9
A15: 65 이상 | B15: =data!G693 -> 514 | C15: =data!H693 -> 22.9(2.3) | D15: =data!I693 -> 10.1 | E15: =data!J693 -> 209 | F15: =data!K693 -> 41.2(4.1) | G15: =data!L693 -> 10.1 | H15: =data!M693 -> 305 | I15: =data!N693 -> 8.9(1.6) | J15: =data!O693 -> 17.4
A16: 교육수준2)
A17: 무학 | B17: =data!G695 -> 169 | C17: =data!H695 -> 15.0(3.2) | D17: =data!I695 -> 21.2 | E17: =data!J695 -> 10 | F17: =data!K695 -> -(-) | G17: =data!L695 -> - | H17: =data!M695 -> 159 | I17: =data!N695 -> 14.3(3.1) | J17: =data!O695 -> 21.8
A18: 초등학교 | B18: =data!G696 -> 239 | C18: =data!H696 -> 19.0(2.8) | D18: =data!I696 -> 14.7 | E18: =data!J696 -> 103 | F18: =data!K696 -> 32.6(4.8) | G18: =data!L696 -> 14.8 | H18: =data!M696 -> 136 | I18: =data!N696 -> 7.7(2.4) | J18: =data!O696 -> 31.5
A19: 중학교 | B19: =data!G697 -> 165 | C19: =data!H697 -> 40.3(4.2) | D19: =data!I697 -> 10.3 | E19: =data!J697 -> 90 | F19: =data!K697 -> 56.7(6.5) | G19: =data!L697 -> 11.4 | H19: =data!M697 -> 75 | I19: =data!N697 -> 17.0(4.6) | J19: =data!O697 -> 26.8
A20: 고등학교 | B20: =data!G698 -> 225 | C20: =data!H698 -> 55.0(4.6) | D20: =data!I698 -> 8.4 | E20: =data!J698 -> 150 | F20: =data!K698 -> 60.4(5.6) | G20: =data!L698 -> 9.4 | H20: =data!M698 -> 75 | I20: =data!N698 -> 41.9(7.2) | J20: =data!O698 -> 17.1
A21: 대학교 이상 | B21: =data!G699 -> 86 | C21: =data!H699 -> 53.8(7.3) | D21: =data!I699 -> 13.5 | E21: =data!J699 -> 55 | F21: =data!K699 -> 54.9(9.3) | G21: =data!L699 -> 16.9 | H21: =data!M699 -> 31 | I21: =data!N699 -> 51.4(11.1) | J21: =data!O699 -> 21.6
A22: 직업
A23: 전문행정관리 | B23: =data!G701 -> 26 | C23: =data!H701 -> 47.0(11.0) | D23: =data!I701 -> 23.3 | E23: =data!J701 -> 17 | F23: =data!K701 -> -(-) | G23: =data!L701 -> - | H23: =data!M701 -> 9 | I23: =data!N701 -> -(-) | J23: =data!O701 -> -
A24: 사무직 | B24: =data!G702 -> 19 | C24: =data!H702 -> -(-) | D24: =data!I702 -> - | E24: =data!J702 -> 5 | F24: =data!K702 -> -(-) | G24: =data!L702 -> - | H24: =data!M702 -> 14 | I24: =data!N702 -> -(-) | J24: =data!O702 -> -
A25: 판매･서비스직 | B25: =data!G703 -> 71 | C25: =data!H703 -> 43.3(7.3) | D25: =data!I703 -> 16.9 | E25: =data!J703 -> 15 | F25: =data!K703 -> -(-) | G25: =data!L703 -> - | H25: =data!M703 -> 56 | I25: =data!N703 -> 33.4(7.8) | J25: =data!O703 -> 23.3
A26: 농림어업 | B26: =data!G704 -> 344 | C26: =data!H704 -> 40.4(3.3) | D26: =data!I704 -> 8.3 | E26: =data!J704 -> 181 | F26: =data!K704 -> 55.2(4.5) | G26: =data!L704 -> 8.2 | H26: =data!M704 -> 163 | I26: =data!N704 -> 15.6(3.4) | J26: =data!O704 -> 22.0
A27: 기능단순노무직 | B27: =data!G705 -> 164 | C27: =data!H705 -> 50.1(5.2) | D27: =data!I705 -> 10.4 | E27: =data!J705 -> 81 | F27: =data!K705 -> 63.7(6.0) | G27: =data!L705 -> 9.4 | H27: =data!M705 -> 83 | I27: =data!N705 -> 27.3(7.0) | J27: =data!O705 -> 25.4
A28: 기타3) | B28: =data!G706 -> 260 | C28: =data!H706 -> 20.0(2.9) | D28: =data!I706 -> 14.7 | E28: =data!J706 -> 109 | F28: =data!K706 -> 30.2(4.4) | G28: =data!L706 -> 14.7 | H28: =data!M706 -> 151 | I28: =data!N706 -> 11.4(3.8) | J28: =data!O706 -> 33.4
A29: 월 가구소득
A30: 100만원 미만 | B30: =data!G708 -> 315 | C30: =data!H708 -> 27.6(4.2) | D30: =data!I708 -> 15.4 | E30: =data!J708 -> 120 | F30: =data!K708 -> 44.9(7.4) | G30: =data!L708 -> 16.5 | H30: =data!M708 -> 195 | I30: =data!N708 -> 13.7(3.6) | J30: =data!O708 -> 26.6
A31: 100-200만원 미만 | B31: =data!G709 -> 185 | C31: =data!H709 -> 30.6(5.3) | D31: =data!I709 -> 17.4 | E31: =data!J709 -> 86 | F31: =data!K709 -> 41.3(7.2) | G31: =data!L709 -> 17.4 | H31: =data!M709 -> 99 | I31: =data!N709 -> 17.0(4.6) | J31: =data!O709 -> 27.3
A32: 200-300만원 미만 | B32: =data!G710 -> 101 | C32: =data!H710 -> 42.8(6.5) | D32: =data!I710 -> 15.2 | E32: =data!J710 -> 51 | F32: =data!K710 -> 56.8(7.8) | G32: =data!L710 -> 13.7 | H32: =data!M710 -> 50 | I32: =data!N710 -> 23.5(7.9) | J32: =data!O710 -> 33.5
A33: 300-400만원 미만 | B33: =data!G711 -> 72 | C33: =data!H711 -> 50.9(5.6) | D33: =data!I711 -> 10.9 | E33: =data!J711 -> 35 | F33: =data!K711 -> 72.3(7.1) | G33: =data!L711 -> 9.9 | H33: =data!M711 -> 37 | I33: =data!N711 -> 28.0(9.5) | J33: =data!O711 -> 33.7
A34: 400만원 이상 | B34: =data!G712 -> 211 | C34: =data!H712 -> 52.4(5.5) | D34: =data!I712 -> 10.4 | E34: =data!J712 -> 116 | F34: =data!K712 -> 60.7(7.0) | G34: =data!L712 -> 11.5 | H34: =data!M712 -> 95 | I34: =data!N712 -> 39.4(7.2) | J34: =data!O712 -> 18.2
A35: 작년 대비 가구소득 변화
A36: 줄어들었다 | B36: =data!G714 -> 260 | C36: =data!H714 -> 43.4(4.5) | D36: =data!I714 -> 10.4 | E36: =data!J714 -> 134 | F36: =data!K714 -> 56.3(5.8) | G36: =data!L714 -> 10.3 | H36: =data!M714 -> 126 | I36: =data!N714 -> 23.4(6.0) | J36: =data!O714 -> 25.6
A37: 변함없다 | B37: =data!G715 -> 530 | C37: =data!H715 -> 32.4(3.0) | D37: =data!I715 -> 9.2 | E37: =data!J715 -> 228 | F37: =data!K715 -> 46.2(4.3) | G37: =data!L715 -> 9.4 | H37: =data!M715 -> 302 | I37: =data!N715 -> 18.8(3.3) | J37: =data!O715 -> 17.5
A38: 늘어났다 | B38: =data!G716 -> 94 | C38: =data!H716 -> 60.1(7.9) | D38: =data!I716 -> 13.1 | E38: =data!J716 -> 46 | F38: =data!K716 -> 72.4(9.4) | G38: =data!L716 -> 13.0 | H38: =data!M716 -> 48 | I38: =data!N716 -> 44.5(9.9) | J38: =data!O716 -> 22.2
A39: 거주유형
A40: 동
A41: 읍〮면 | B41: =data!G719 -> 884 | C41: =data!H719 -> 39.3(2.6) | D41: =data!I719 -> 6.5 | E41: =data!J719 -> 408 | F41: =data!K719 -> 53.2(3.7) | G41: =data!L719 -> 6.9 | H41: =data!M719 -> 476 | I41: =data!N719 -> 23.1(2.9) | J41: =data!O719 -> 12.4
A43: 주 1) 월간음주율 : (최근 1년 동안 한 달에 1회 이상 술을 마신 적이 있는 사람의 수 / 조사대상 응답자 수) × 100
A44: 2) 교육수준 : 각 해당 교육 수준 기관의 졸업자 및 그 이상 학력의 재학, 수료, 중퇴, 휴학한 자를 포함
A45: 3) 기타 : 군인, 학생, 주부, 무직

Sheet <표>고위험음주율
A1: <표 31> 고위험음주율1)
A2: (단위: %)
A3: 구분 | B3: 전체 | E3: 남자 | H3: 여자
B4: N | C4: %(표준오차) | D4: 상대표준오차 | E4: N | F4: %(표준오차) | G4: 상대표준오차 | H4: N | I4: %(표준오차) | J4: 상대표준오차
A5: 전체 | B5: =data!G720 -> 884 | C5: =data!H720 -> 10.8(1.3) | D5: =data!I720 -> 11.9 | E5: =data!J720 -> 408 | F5: =data!K720 -> 17.4(2.1) | G5: =data!L720 -> 12.3 | H5: =data!M720 -> 476 | I5: =data!N720 -> 3.0(1.5) | J5: =data!O720 -> 48.3
A6: 연령
A7: 19-29 | B7: =data!G722 -> 19 | C7: =data!H722 -> -(-) | D7: =data!I722 -> - | E7: =data!J722 -> 13 | F7: =data!K722 -> -(-) | G7: =data!L722 -> - | H7: =data!M722 -> 6 | I7: =data!N722 -> -(-) | J7: =data!O722 -> -
A8: 30-39 | B8: =data!G723 -> 19 | C8: =data!H723 -> -(-) | D8: =data!I723 -> - | E8: =data!J723 -> 10 | F8: =data!K723 -> -(-) | G8: =data!L723 -> - | H8: =data!M723 -> 9 | I8: =data!N723 -> -(-) | J8: =data!O723 -> -
A9: 40-49 | B9: =data!G724 -> 59 | C9: =data!H724 -> 16.2(4.5) | D9: =data!I724 -> 27.6 | E9: =data!J724 -> 30 | F9: =data!K724 -> 20.0(6.6) | G9: =data!L724 -> 33.2 | H9: =data!M724 -> 29 | I9: =data!N724 -> 8.6(4.3) | J9: =data!O724 -> 50.1
A10: 50-59 | B10: =data!G725 -> 149 | C10: =data!H725 -> 17.5(3.7) | D10: =data!I725 -> 21.2 | E10: =data!J725 -> 78 | F10: =data!K725 -> 27.2(5.7) | G10: =data!L725 -> 20.9 | H10: =data!M725 -> 71 | I10: =data!N725 -> 1.5(1.5) | J10: =data!O725 -> 99.1
A11: 60-69 | B11: =data!G726 -> 239 | C11: =data!H726 -> 10.2(2.6) | D11: =data!I726 -> 25.7 | E11: =data!J726 -> 124 | F11: =data!K726 -> 17.3(4.6) | G11: =data!L726 -> 26.5 | H11: =data!M726 -> 115 | I11: =data!N726 -> 1.7(1.2) | J11: =data!O726 -> 70.6
A12: 70 이상 | B12: =data!G727 -> 399 | C12: =data!H727 -> 1.8(0.8) | D12: =data!I727 -> 42.9 | E12: =data!J727 -> 153 | F12: =data!K727 -> 4.5(1.8) | G12: =data!L727 -> 41.1 | H12: =data!M727 -> 246 | I12: =data!N727 -> 0.0(0.0) | J12: =data!O727 -> .
A14: 19-64 | B14: =data!G729 -> 370 | C14: =data!H729 -> 16.8(2.2) | D14: =data!I729 -> 12.9 | E14: =data!J729 -> 199 | F14: =data!K729 -> 23.4(3.2) | G14: =data!L729 -> 13.5 | H14: =data!M729 -> 171 | I14: =data!N729 -> 6.1(3.0) | J14: =data!O729 -> 49.8
A15: 65 이상 | B15: =data!G730 -> 514 | C15: =data!H730 -> 3.0(1.0) | D15: =data!I730 -> 32.1 | E15: =data!J730 -> 209 | F15: =data!K730 -> 6.4(2.0) | G15: =data!L730 -> 30.8 | H15: =data!M730 -> 305 | I15: =data!N730 -> 0.3(0.3) | J15: =data!O730 -> 100.5
A16: 교육수준2)
A17: 무학 | B17: =data!G732 -> 169 | C17: =data!H732 -> 0.0(0.0) | D17: =data!I732 -> . | E17: =data!J732 -> 10 | F17: =data!K732 -> -(-) | G17: =data!L732 -> - | H17: =data!M732 -> 159 | I17: =data!N732 -> 0.0(0.0) | J17: =data!O732 -> .
A18: 초등학교 | B18: =data!G733 -> 239 | C18: =data!H733 -> 2.3(1.1) | D18: =data!I733 -> 46.8 | E18: =data!J733 -> 103 | F18: =data!K733 -> 5.1(2.3) | G18: =data!L733 -> 45.4 | H18: =data!M733 -> 136 | I18: =data!N733 -> 0.0(0.0) | J18: =data!O733 -> .
A19: 중학교 | B19: =data!G734 -> 165 | C19: =data!H734 -> 10.1(2.6) | D19: =data!I734 -> 25.8 | E19: =data!J734 -> 90 | F19: =data!K734 -> 17.2(4.5) | G19: =data!L734 -> 26.3 | H19: =data!M734 -> 75 | I19: =data!N734 -> 0.0(0.0) | J19: =data!O734 -> .
A20: 고등학교 | B20: =data!G735 -> 225 | C20: =data!H735 -> 17.6(2.8) | D20: =data!I735 -> 16.0 | E20: =data!J735 -> 150 | F20: =data!K735 -> 21.1(3.5) | G20: =data!L735 -> 16.3 | H20: =data!M735 -> 75 | I20: =data!N735 -> 8.8(4.9) | J20: =data!O735 -> 55.2
A21: 대학교 이상 | B21: =data!G736 -> 86 | C21: =data!H736 -> 18.1(4.7) | D21: =data!I736 -> 26.0 | E21: =data!J736 -> 55 | F21: =data!K736 -> 22.1(6.6) | G21: =data!L736 -> 30.0 | H21: =data!M736 -> 31 | I21: =data!N736 -> 10.3(6.0) | J21: =data!O736 -> 58.8
A22: 직업
A23: 전문행정관리 | B23: =data!G738 -> 26 | C23: =data!H738 -> 17.8(7.4) | D23: =data!I738 -> 41.3 | E23: =data!J738 -> 17 | F23: =data!K738 -> -(-) | G23: =data!L738 -> - | H23: =data!M738 -> 9 | I23: =data!N738 -> -(-) | J23: =data!O738 -> -
A24: 사무직 | B24: =data!G739 -> 19 | C24: =data!H739 -> -(-) | D24: =data!I739 -> - | E24: =data!J739 -> 5 | F24: =data!K739 -> -(-) | G24: =data!L739 -> - | H24: =data!M739 -> 14 | I24: =data!N739 -> -(-) | J24: =data!O739 -> -
A25: 판매･서비스직 | B25: =data!G740 -> 71 | C25: =data!H740 -> 13.9(5.6) | D25: =data!I740 -> 40.1 | E25: =data!J740 -> 15 | F25: =data!K740 -> -(-) | G25: =data!L740 -> - | H25: =data!M740 -> 56 | I25: =data!N740 -> 3.5(2.4) | J25: =data!O740 -> 69.8
A26: 농림어업 | B26: =data!G741 -> 344 | C26: =data!H741 -> 10.7(2.2) | D26: =data!I741 -> 20.7 | E26: =data!J741 -> 181 | F26: =data!K741 -> 15.9(3.4) | G26: =data!L741 -> 21.4 | H26: =data!M741 -> 163 | I26: =data!N741 -> 2.1(2.1) | J26: =data!O741 -> 99.3
A27: 기능단순노무직 | B27: =data!G742 -> 164 | C27: =data!H742 -> 16.3(4.0) | D27: =data!I742 -> 24.7 | E27: =data!J742 -> 81 | F27: =data!K742 -> 26.1(6.1) | G27: =data!L742 -> 23.6 | H27: =data!M742 -> 83 | I27: =data!N742 -> 0.0(0.0) | J27: =data!O742 -> .
A28: 기타3) | B28: =data!G743 -> 260 | C28: =data!H743 -> 6.1(2.3) | D28: =data!I743 -> 38.4 | E28: =data!J743 -> 109 | F28: =data!K743 -> 7.6(2.6) | G28: =data!L743 -> 34.9 | H28: =data!M743 -> 151 | I28: =data!N743 -> 4.8(3.6) | J28: =data!O743 -> 75.2
A29: 월 가구소득
A30: 100만원 미만 | B30: =data!G745 -> 315 | C30: =data!H745 -> 8.0(2.0) | D30: =data!I745 -> 25.5 | E30: =data!J745 -> 120 | F30: =data!K745 -> 17.2(4.0) | G30: =data!L745 -> 23.1 | H30: =data!M745 -> 195 | I30: =data!N745 -> 0.5(0.5) | J30: =data!O745 -> 99.8
A31: 100-200만원 미만 | B31: =data!G746 -> 185 | C31: =data!H746 -> 7.6(3.0) | D31: =data!I746 -> 38.8 | E31: =data!J746 -> 86 | F31: =data!K746 -> 12.6(5.0) | G31: =data!L746 -> 39.9 | H31: =data!M746 -> 99 | I31: =data!N746 -> 1.3(1.3) | J31: =data!O746 -> 99.8
A32: 200-300만원 미만 | B32: =data!G747 -> 101 | C32: =data!H747 -> 11.2(3.6) | D32: =data!I747 -> 32.3 | E32: =data!J747 -> 51 | F32: =data!K747 -> 13.4(5.4) | G32: =data!L747 -> 40.5 | H32: =data!M747 -> 50 | I32: =data!N747 -> 8.2(6.0) | J32: =data!O747 -> 72.3
A33: 300-400만원 미만 | B33: =data!G748 -> 72 | C33: =data!H748 -> 14.6(6.3) | D33: =data!I748 -> 43.3 | E33: =data!J748 -> 35 | F33: =data!K748 -> 15.5(7.8) | G33: =data!L748 -> 50.2 | H33: =data!M748 -> 37 | I33: =data!N748 -> 13.7(10.4) | J33: =data!O748 -> 76.2
A34: 400만원 이상 | B34: =data!G749 -> 211 | C34: =data!H749 -> 14.5(2.6) | D34: =data!I749 -> 18.1 | E34: =data!J749 -> 116 | F34: =data!K749 -> 22.5(4.2) | G34: =data!L749 -> 18.5 | H34: =data!M749 -> 95 | I34: =data!N749 -> 1.9(1.3) | J34: =data!O749 -> 67.4
A35: 작년 대비 가구소득 변화
A36: 줄어들었다 | B36: =data!G751 -> 260 | C36: =data!H751 -> 13.8(2.4) | D36: =data!I751 -> 17.8 | E36: =data!J751 -> 134 | F36: =data!K751 -> 21.5(3.8) | G36: =data!L751 -> 17.8 | H36: =data!M751 -> 126 | I36: =data!N751 -> 1.8(1.2) | J36: =data!O751 -> 68.8
A37: 변함없다 | B37: =data!G752 -> 530 | C37: =data!H752 -> 7.2(1.3) | D37: =data!I752 -> 18.7 | E37: =data!J752 -> 228 | F37: =data!K752 -> 12.9(2.5) | G37: =data!L752 -> 19.5 | H37: =data!M752 -> 302 | I37: =data!N752 -> 1.6(1.1) | J37: =data!O752 -> 69.6
A38: 늘어났다 | B38: =data!G753 -> 94 | C38: =data!H753 -> 19.3(5.5) | D38: =data!I753 -> 28.2 | E38: =data!J753 -> 46 | F38: =data!K753 -> 24.4(6.8) | G38: =data!L753 -> 28.1 | H38: =data!M753 -> 48 | I38: =data!N753 -> 12.9(9.6) | J38: =data!O753 -> 74.5
A39: 거주유형
A40: 동
A41: 읍〮면 | B41: =data!G756 -> 884 | C41: =data!H756 -> 10.8(1.3) | D41: =data!I756 -> 11.9 | E41: =data!J756 -> 408 | F41: =data!K756 -> 17.4(2.1) | G41: =data!L756 -> 12.3 | H41: =data!M756 -> 476 | I41: =data!N756 -> 3.0(1.5) | J41: =data!O756 -> 48.3
A43: 주 1) 고위험음주율 : (최근 1년 동안 한 번의 술자리에서 남자는 7잔(여자의 경우 5잔)이상을 주 2회 이상 마신다고 응답한 사람의 수 / 조사대상 응답자 수) × 100
A44: 2) 교육수준 : 각 해당 교육 수준 기관의 졸업자 및 그 이상 학력의 재학, 수료, 중퇴, 휴학한 자를 포함
A45: 3) 기타 : 군인, 학생, 주부, 무직

Sheet <표>연간음주자의고위험음주율
A1: <표 32> 연간음주자의 고위험음주율1)
A2: (단위: %)
A3: 구분 | B3: 전체 | E3: 남자 | H3: 여자
B4: N | C4: %(표준오차) | D4: 상대표준오차 | E4: N | F4: %(표준오차) | G4: 상대표준오차 | H4: N | I4: %(표준오차) | J4: 상대표준오차
A5: 전체 | B5: =data!G757 -> 344 | C5: =data!H757 -> 23.3(2.4) | D5: =data!I757 -> 10.2 | E5: =data!J757 -> 220 | F5: =data!K757 -> 29.9(3.2) | G5: =data!L757 -> 10.8 | H5: =data!M757 -> 124 | I5: =data!N757 -> 9.3(4.2) | J5: =data!O757 -> 45.7
A6: 연령
A7: 19-29 | B7: =data!G759 -> 12 | C7: =data!H759 -> -(-) | D7: =data!I759 -> - | E7: =data!J759 -> 7 | F7: =data!K759 -> -(-) | G7: =data!L759 -> - | H7: =data!M759 -> 5 | I7: =data!N759 -> -(-) | J7: =data!O759 -> -
A8: 30-39 | B8: =data!G760 -> 14 | C8: =data!H760 -> -(-) | D8: =data!I760 -> - | E8: =data!J760 -> 8 | F8: =data!K760 -> -(-) | G8: =data!L760 -> - | H8: =data!M760 -> 6 | I8: =data!N760 -> -(-) | J8: =data!O760 -> -
A9: 40-49 | B9: =data!G761 -> 38 | C9: =data!H761 -> 25.2(6.6) | D9: =data!I761 -> 26.3 | E9: =data!J761 -> 20 | F9: =data!K761 -> 30.0(9.4) | G9: =data!L761 -> 31.4 | H9: =data!M761 -> 18 | I9: =data!N761 -> -(-) | J9: =data!O761 -> -
A10: 50-59 | B10: =data!G762 -> 87 | C10: =data!H762 -> 29.0(5.2) | D10: =data!I762 -> 17.8 | E10: =data!J762 -> 54 | F10: =data!K762 -> 39.3(7.1) | G10: =data!L762 -> 18.1 | H10: =data!M762 -> 33 | I10: =data!N762 -> 3.3(3.3) | J10: =data!O762 -> 99.4
A11: 60-69 | B11: =data!G763 -> 98 | C11: =data!H763 -> 24.4(5.5) | D11: =data!I763 -> 22.6 | E11: =data!J763 -> 72 | F11: =data!K763 -> 30.0(7.1) | G11: =data!L763 -> 23.6 | H11: =data!M763 -> 26 | I11: =data!N763 -> 7.3(5.0) | J11: =data!O763 -> 69.4
A12: 70 이상 | B12: =data!G764 -> 95 | C12: =data!H764 -> 7.4(3.0) | D12: =data!I764 -> 40.3 | E12: =data!J764 -> 59 | F12: =data!K764 -> 11.4(4.3) | G12: =data!L764 -> 37.7 | H12: =data!M764 -> 36 | I12: =data!N764 -> 0.0(0.0) | J12: =data!O764 -> .
A14: 19-64 | B14: =data!G766 -> 210 | C14: =data!H766 -> 27.5(3.0) | D14: =data!I766 -> 10.9 | E14: =data!J766 -> 132 | F14: =data!K766 -> 35.1(4.2) | G14: =data!L766 -> 11.8 | H14: =data!M766 -> 78 | I14: =data!N766 -> 11.6(5.5) | J14: =data!O766 -> 47.6
A15: 65 이상 | B15: =data!G767 -> 134 | C15: =data!H767 -> 11.0(3.0) | D15: =data!I767 -> 27.7 | E15: =data!J767 -> 88 | F15: =data!K767 -> 15.0(4.1) | G15: =data!L767 -> 27.0 | H15: =data!M767 -> 46 | I15: =data!N767 -> 2.3(2.2) | J15: =data!O767 -> 99.2
A16: 교육수준2)
A17: 무학 | B17: =data!G769 -> 30 | C17: =data!H769 -> 0.0(0.0) | D17: =data!I769 -> . | E17: =data!J769 -> 3 | F17: =data!K769 -> -(-) | G17: =data!L769 -> - | H17: =data!M769 -> 27 | I17: =data!N769 -> 0.0(0.0) | J17: =data!O769 -> .
A18: 초등학교 | B18: =data!G770 -> 57 | C18: =data!H770 -> 9.3(4.1) | D18: =data!I770 -> 44.4 | E18: =data!J770 -> 38 | F18: =data!K770 -> 13.7(5.8) | G18: =data!L770 -> 42.1 | H18: =data!M770 -> 19 | I18: =data!N770 -> -(-) | J18: =data!O770 -> -
A19: 중학교 | B19: =data!G771 -> 79 | C19: =data!H771 -> 20.0(4.8) | D19: =data!I771 -> 24.1 | E19: =data!J771 -> 52 | F19: =data!K771 -> 28.7(7.3) | G19: =data!L771 -> 25.5 | H19: =data!M771 -> 27 | I19: =data!N771 -> 0.0(0.0) | J19: =data!O771 -> .
A20: 고등학교 | B20: =data!G772 -> 129 | C20: =data!H772 -> 28.5(4.0) | D20: =data!I772 -> 14.2 | E20: =data!J772 -> 96 | F20: =data!K772 -> 31.7(4.7) | G20: =data!L772 -> 14.9 | H20: =data!M772 -> 33 | I20: =data!N772 -> 17.8(9.2) | J20: =data!O772 -> 51.9
A21: 대학교 이상 | B21: =data!G773 -> 49 | C21: =data!H773 -> 28.9(6.4) | D21: =data!I773 -> 22.3 | E21: =data!J773 -> 31 | F21: =data!K773 -> 37.8(9.0) | G21: =data!L773 -> 23.7 | H21: =data!M773 -> 18 | I21: =data!N773 -> -(-) | J21: =data!O773 -> -
A22: 직업
A23: 전문행정관리 | B23: =data!G775 -> 15 | C23: =data!H775 -> -(-) | D23: =data!I775 -> - | E23: =data!J775 -> 8 | F23: =data!K775 -> -(-) | G23: =data!L775 -> - | H23: =data!M775 -> 7 | I23: =data!N775 -> -(-) | J23: =data!O775 -> -
A24: 사무직 | B24: =data!G776 -> 14 | C24: =data!H776 -> -(-) | D24: =data!I776 -> - | E24: =data!J776 -> 4 | F24: =data!K776 -> -(-) | G24: =data!L776 -> - | H24: =data!M776 -> 10 | I24: =data!N776 -> -(-) | J24: =data!O776 -> -
A25: 판매･서비스직 | B25: =data!G777 -> 36 | C25: =data!H777 -> 27.0(9.5) | D25: =data!I777 -> 35.1 | E25: =data!J777 -> 12 | F25: =data!K777 -> -(-) | G25: =data!L777 -> - | H25: =data!M777 -> 24 | I25: =data!N777 -> 7.9(5.5) | J25: =data!O777 -> 69.8
A26: 농림어업 | B26: =data!G778 -> 140 | C26: =data!H778 -> 22.1(4.2) | D26: =data!I778 -> 18.8 | E26: =data!J778 -> 104 | F26: =data!K778 -> 25.3(5.1) | G26: =data!L778 -> 20.2 | H26: =data!M778 -> 36 | I26: =data!N778 -> 8.6(8.0) | J26: =data!O778 -> 93.3
A27: 기능단순노무직 | B27: =data!G779 -> 73 | C27: =data!H779 -> 30.4(6.5) | D27: =data!I779 -> 21.2 | E27: =data!J779 -> 49 | F27: =data!K779 -> 39.8(7.8) | G27: =data!L779 -> 19.6 | H27: =data!M779 -> 24 | I27: =data!N779 -> 0.0(0.0) | J27: =data!O779 -> .
A28: 기타3) | B28: =data!G780 -> 66 | C28: =data!H780 -> 23.0(7.8) | D28: =data!I780 -> 33.9 | E28: =data!J780 -> 43 | F28: =data!K780 -> 21.0(7.0) | G28: =data!L780 -> 33.3 | H28: =data!M780 -> 23 | I28: =data!N780 -> 26.5(16.1) | J28: =data!O780 -> 60.6
A29: 월 가구소득
A30: 100만원 미만 | B30: =data!G782 -> 86 | C30: =data!H782 -> 23.6(5.0) | D30: =data!I782 -> 21.3 | E30: =data!J782 -> 56 | F30: =data!K782 -> 31.9(6.4) | G30: =data!L782 -> 20.0 | H30: =data!M782 -> 30 | I30: =data!N782 -> 2.9(2.9) | J30: =data!O782 -> 100.3
A31: 100-200만원 미만 | B31: =data!G783 -> 63 | C31: =data!H783 -> 21.4(7.1) | D31: =data!I783 -> 33.0 | E31: =data!J783 -> 38 | F31: =data!K783 -> 29.2(9.2) | G31: =data!L783 -> 31.5 | H31: =data!M783 -> 25 | I31: =data!N783 -> 5.0(4.9) | J31: =data!O783 -> 97.1
A32: 200-300만원 미만 | B32: =data!G784 -> 38 | C32: =data!H784 -> 24.2(6.5) | D32: =data!I784 -> 27.0 | E32: =data!J784 -> 27 | F32: =data!K784 -> 22.6(8.8) | G32: =data!L784 -> 38.7 | H32: =data!M784 -> 11 | I32: =data!N784 -> -(-) | J32: =data!O784 -> -
A33: 300-400만원 미만 | B33: =data!G785 -> 39 | C33: =data!H785 -> 23.7(9.5) | D33: =data!I785 -> 39.9 | E33: =data!J785 -> 25 | F33: =data!K785 -> 20.8(10.1) | G33: =data!L785 -> 48.5 | H33: =data!M785 -> 14 | I33: =data!N785 -> -(-) | J33: =data!O785 -> -
A34: 400만원 이상 | B34: =data!G786 -> 118 | C34: =data!H786 -> 23.4(3.4) | D34: =data!I786 -> 14.4 | E34: =data!J786 -> 74 | F34: =data!K786 -> 34.1(5.3) | G34: =data!L786 -> 15.7 | H34: =data!M786 -> 44 | I34: =data!N786 -> 3.5(2.3) | J34: =data!O786 -> 67.3
A35: 작년 대비 가구소득 변화
A36: 줄어들었다 | B36: =data!G788 -> 108 | C36: =data!H788 -> 27.6(4.3) | D36: =data!I788 -> 15.5 | E36: =data!J788 -> 75 | F36: =data!K788 -> 35.0(5.5) | G36: =data!L788 -> 15.8 | H36: =data!M788 -> 33 | I36: =data!N788 -> 5.6(3.6) | J36: =data!O788 -> 63.7
A37: 변함없다 | B37: =data!G789 -> 181 | C37: =data!H789 -> 18.1(3.0) | D37: =data!I789 -> 16.5 | E37: =data!J789 -> 114 | F37: =data!K789 -> 24.8(4.6) | G37: =data!L789 -> 18.5 | H37: =data!M789 -> 67 | I37: =data!N789 -> 5.7(3.8) | J37: =data!O789 -> 66.4
A38: 늘어났다 | B38: 44 | C38: =data!H790 -> 29.0(6.5) | D38: =data!I790 -> 22.5 | E38: =data!J790 -> 31 | F38: =data!K790 -> 32.9(7.8) | G38: =data!L790 -> 23.8 | H38: =data!M790 -> 24 | I38: =data!N790 -> 22.6(15.1) | J38: =data!O790 -> 66.7
A39: 거주유형
A40: 동
A41: 읍〮면 | B41: =data!G793 -> 344 | C41: =data!H793 -> 23.3(2.4) | D41: =data!I793 -> 10.2 | E41: =data!J793 -> 220 | F41: =data!K793 -> 29.9(3.2) | G41: =data!L793 -> 10.8 | H41: =data!M793 -> 124 | I41: =data!N793 -> 9.3(4.2) | J41: =data!O793 -> 45.7
A43: 주 1) 연간음주자의 고위험음주율 : (최근 1년 동안 한 번의 술자리에서 남자는 7잔(여자의 경우 5잔)이상을 주 2회 이상 마신다고 응답한 사람의 수 / 최근 1년 동안 음주한 사람의 수) × 100
A44: 2) 교육수준 : 각 해당 교육 수준 기관의 졸업자 및 그 이상 학력의 재학, 수료, 중퇴, 휴학한 자를 포함
A45: 3) 기타 : 군인, 학생, 주부, 무직

Sheet <표>월간폭음률
A1: <표 33> 월간폭음률1)
A2: (단위: %)
A3: 구분 | B3: 전체 | E3: 남자 | H3: 여자
B4: N | C4: %(표준오차) | D4: 상대표준오차 | E4: N | F4: %(표준오차) | G4: 상대표준오차 | H4: N | I4: %(표준오차) | J4: 상대표준오차
A5: 전체 | B5: =data!G794 -> 884 | C5: =data!H794 -> 20.7(1.9) | D5: =data!I794 -> 9.2 | E5: =data!J794 -> 408 | F5: =data!K794 -> 32.6(3.1) | G5: =data!L794 -> 9.6 | H5: =data!M794 -> 476 | I5: =data!N794 -> 6.7(2.1) | J5: =data!O794 -> 31.1
A6: 연령
A7: 19-29 | B7: =data!G796 -> 19 | C7: =data!H796 -> -(-) | D7: =data!I796 -> - | E7: =data!J796 -> 13 | F7: =data!K796 -> -(-) | G7: =data!L796 -> - | H7: =data!M796 -> 6 | I7: =data!N796 -> -(-) | J7: =data!O796 -> -
A8: 30-39 | B8: =data!G797 -> 19 | C8: =data!H797 -> -(-) | D8: =data!I797 -> - | E8: =data!J797 -> 10 | F8: =data!K797 -> -(-) | G8: =data!L797 -> - | H8: =data!M797 -> 9 | I8: =data!N797 -> -(-) | J8: =data!O797 -> -
A9: 40-49 | B9: =data!G798 -> 59 | C9: =data!H798 -> 41.7(7.6) | D9: =data!I798 -> 18.2 | E9: =data!J798 -> 30 | F9: =data!K798 -> 50.0(10.2) | G9: =data!L798 -> 20.4 | H9: =data!M798 -> 29 | I9: =data!N798 -> 25.2(7.7) | J9: =data!O798 -> 30.7
A10: 50-59 | B10: =data!G799 -> 149 | C10: =data!H799 -> 28.2(4.4) | D10: =data!I799 -> 15.7 | E10: =data!J799 -> 78 | F10: =data!K799 -> 42.1(6.3) | G10: =data!L799 -> 14.9 | H10: =data!M799 -> 71 | I10: =data!N799 -> 5.4(2.5) | J10: =data!O799 -> 46.8
A11: 60-69 | B11: =data!G800 -> 239 | C11: =data!H800 -> 17.4(2.8) | D11: =data!I800 -> 16.4 | E11: =data!J800 -> 124 | F11: =data!K800 -> 30.3(4.8) | G11: =data!L800 -> 15.8 | H11: =data!M800 -> 115 | I11: =data!N800 -> 1.7(1.2) | J11: =data!O800 -> 70.6
A12: 70 이상 | B12: =data!G801 -> 399 | C12: =data!H801 -> 5.2(1.4) | D12: =data!I801 -> 27.2 | E12: =data!J801 -> 153 | F12: =data!K801 -> 12.1(3.2) | G12: =data!L801 -> 26.4 | H12: =data!M801 -> 246 | I12: =data!N801 -> 0.3(0.3) | J12: =data!O801 -> 99.9
A14: 19-64 | B14: =data!G803 -> 370 | C14: =data!H803 -> 31.5(3.3) | D14: =data!I803 -> 10.3 | E14: =data!J803 -> 199 | F14: =data!K803 -> 42.4(4.7) | G14: =data!L803 -> 11.0 | H14: =data!M803 -> 171 | I14: =data!N803 -> 13.7(4.1) | J14: =data!O803 -> 29.5
A15: 65 이상 | B15: =data!G804 -> 514 | C15: =data!H804 -> 6.7(1.3) | D15: =data!I804 -> 20.0 | E15: =data!J804 -> 209 | F15: =data!K804 -> 14.6(2.8) | G15: =data!L804 -> 19.3 | H15: =data!M804 -> 305 | I15: =data!N804 -> 0.6(0.4) | J15: =data!O804 -> 71.5
A16: 교육수준2)
A17: 무학 | B17: =data!G806 -> 169 | C17: =data!H806 -> 1.1(0.8) | D17: =data!I806 -> 71.1 | E17: =data!J806 -> 10 | F17: =data!K806 -> -(-) | G17: =data!L806 -> - | H17: =data!M806 -> 159 | I17: =data!N806 -> 0.5(0.5) | J17: =data!O806 -> 100.2
A18: 초등학교 | B18: =data!G807 -> 239 | C18: =data!H807 -> 5.2(1.5) | D18: =data!I807 -> 29.5 | E18: =data!J807 -> 103 | F18: =data!K807 -> 11.4(3.2) | G18: =data!L807 -> 28.3 | H18: =data!M807 -> 136 | I18: =data!N807 -> 0.0(0.0) | J18: =data!O807 -> .
A19: 중학교 | B19: =data!G808 -> 165 | C19: =data!H808 -> 19.3(3.7) | D19: =data!I808 -> 19.2 | E19: =data!J808 -> 90 | F19: =data!K808 -> 32.9(6.3) | G19: =data!L808 -> 19.0 | H19: =data!M808 -> 75 | I19: =data!N808 -> 0.0(0.0) | J19: =data!O808 -> .
A20: 고등학교 | B20: =data!G809 -> 225 | C20: =data!H809 -> 34.2(4.4) | D20: =data!I809 -> 12.9 | E20: =data!J809 -> 150 | F20: =data!K809 -> 39.2(5.3) | G20: =data!L809 -> 13.5 | H20: =data!M809 -> 75 | I20: =data!N809 -> 22.3(6.6) | J20: =data!O809 -> 29.7
A21: 대학교 이상 | B21: =data!G810 -> 86 | C21: =data!H810 -> 31.4(6.7) | D21: =data!I810 -> 21.3 | E21: =data!J810 -> 55 | F21: =data!K810 -> 39.0(9.2) | G21: =data!L810 -> 23.5 | H21: =data!M810 -> 31 | I21: =data!N810 -> 16.6(9.5) | J21: =data!O810 -> 57.1
A22: 직업
A23: 전문행정관리 | B23: =data!G812 -> 26 | C23: =data!H812 -> 28.3(8.3) | D23: =data!I812 -> 29.3 | E23: =data!J812 -> 17 | F23: =data!K812 -> -(-) | G23: =data!L812 -> - | H23: =data!M812 -> 9 | I23: =data!N812 -> -(-) | J23: =data!O812 -> -
A24: 사무직 | B24: =data!G813 -> 19 | C24: =data!H813 -> -(-) | D24: =data!I813 -> - | E24: =data!J813 -> 5 | F24: =data!K813 -> -(-) | G24: =data!L813 -> - | H24: =data!M813 -> 14 | I24: =data!N813 -> -(-) | J24: =data!O813 -> -
A25: 판매･서비스직 | B25: =data!G814 -> 71 | C25: =data!H814 -> 22.5(5.9) | D25: =data!I814 -> 26.1 | E25: =data!J814 -> 15 | F25: =data!K814 -> -(-) | G25: =data!L814 -> - | H25: =data!M814 -> 56 | I25: =data!N814 -> 7.4(3.5) | J25: =data!O814 -> 47.5
A26: 농림어업 | B26: =data!G815 -> 344 | C26: =data!H815 -> 16.5(2.6) | D26: =data!I815 -> 15.9 | E26: =data!J815 -> 181 | F26: =data!K815 -> 26.4(4.1) | G26: =data!L815 -> 15.7 | H26: =data!M815 -> 163 | I26: =data!N815 -> 0.0(0.0) | J26: =data!O815 -> .
A27: 기능단순노무직 | B27: =data!G816 -> 164 | C27: =data!H816 -> 32.9(5.0) | D27: =data!I816 -> 15.2 | E27: =data!J816 -> 81 | F27: =data!K816 -> 49.7(6.2) | G27: =data!L816 -> 12.5 | H27: =data!M816 -> 83 | I27: =data!N816 -> 4.7(2.2) | J27: =data!O816 -> 46.3
A28: 기타3) | B28: =data!G817 -> 260 | C28: =data!H817 -> 9.3(2.5) | D28: =data!I817 -> 27.4 | E28: =data!J817 -> 109 | F28: =data!K817 -> 13.7(3.1) | G28: =data!L817 -> 23.0 | H28: =data!M817 -> 151 | I28: =data!N817 -> 5.5(3.6) | J28: =data!O817 -> 65.9
A29: 월 가구소득
A30: 100만원 미만 | B30: =data!G819 -> 315 | C30: =data!H819 -> 14.2(3.8) | D30: =data!I819 -> 26.6 | E30: =data!J819 -> 120 | F30: =data!K819 -> 30.5(7.1) | G30: =data!L819 -> 23.4 | H30: =data!M819 -> 195 | I30: =data!N819 -> 1.1(0.8) | J30: =data!O819 -> 71.0
A31: 100-200만원 미만 | B31: =data!G820 -> 185 | C31: =data!H820 -> 10.9(3.4) | D31: =data!I820 -> 31.5 | E31: =data!J820 -> 86 | F31: =data!K820 -> 17.2(5.3) | G31: =data!L820 -> 30.8 | H31: =data!M820 -> 99 | I31: =data!N820 -> 2.9(2.1) | J31: =data!O820 -> 71.3
A32: 200-300만원 미만 | B32: =data!G821 -> 101 | C32: =data!H821 -> 18.0(4.6) | D32: =data!I821 -> 25.3 | E32: =data!J821 -> 51 | F32: =data!K821 -> 26.9(6.5) | G32: =data!L821 -> 24.1 | H32: =data!M821 -> 50 | I32: =data!N821 -> 5.8(4.2) | J32: =data!O821 -> 71.1
A33: 300-400만원 미만 | B33: =data!G822 -> 72 | C33: =data!H822 -> 29.1(6.6) | D33: =data!I822 -> 22.7 | E33: =data!J822 -> 35 | F33: =data!K822 -> 40.4(10.1) | G33: =data!L822 -> 25.0 | H33: =data!M822 -> 37 | I33: =data!N822 -> 17.0(10.5) | J33: =data!O822 -> 61.7
A34: 400만원 이상 | B34: =data!G823 -> 211 | C34: =data!H823 -> 32.5(4.4) | D34: =data!I823 -> 13.7 | E34: =data!J823 -> 116 | F34: =data!K823 -> 44.0(6.2) | G34: =data!L823 -> 14.2 | H34: =data!M823 -> 95 | I34: =data!N823 -> 14.5(6.1) | J34: =data!O823 -> 42.3
A35: 작년 대비 가구소득 변화
A36: 줄어들었다 | B36: =data!G825 -> 260 | C36: =data!H825 -> 30.1(4.8) | D36: =data!I825 -> 15.9 | E36: =data!J825 -> 134 | F36: =data!K825 -> 44.0(6.6) | G36: =data!L825 -> 15.0 | H36: =data!M825 -> 126 | I36: =data!N825 -> 8.5(5.0) | J36: =data!O825 -> 58.6
A37: 변함없다 | B37: =data!G826 -> 530 | C37: =data!H826 -> 12.1(1.7) | D37: =data!I826 -> 14.3 | E37: =data!J826 -> 228 | F37: =data!K826 -> 21.3(2.7) | G37: =data!L826 -> 12.9 | H37: =data!M826 -> 302 | I37: =data!N826 -> 3.1(1.8) | J37: =data!O826 -> 59.5
A38: 늘어났다 | B38: =data!G827 -> 94 | C38: =data!H827 -> 35.5(5.9) | D38: =data!I827 -> 16.7 | E38: =data!J827 -> 46 | F38: =data!K827 -> 46.7(7.7) | G38: =data!L827 -> 16.5 | H38: =data!M827 -> 48 | I38: =data!N827 -> 21.3(10.7) | J38: =data!O827 -> 50.0
A39: 거주유형
A40: 동
A41: 읍〮면 | B41: =data!G830 -> 884 | C41: =data!H830 -> 20.7(1.9) | D41: =data!I830 -> 9.2 | E41: =data!J830 -> 408 | F41: =data!K830 -> 32.6(3.1) | G41: =data!L830 -> 9.6 | H41: =data!M830 -> 476 | I41: =data!N830 -> 6.7(2.1) | J41: =data!O830 -> 31.1
A43: 주 1) 월간폭음률 : (최근 1년 동안 한 번의 술자리에서 7잔(또는 맥주 5캔 정도) 이상을 월 1회 이상 마신 적이 있다고 응답한 남성 또는 한 번의 술자리에서 5잔(또는 맥주 3캔 정도) 이상을 월 1회 이상 마신적이 있다고 응답한 여성의 수 / 조사대상 응답자 수) × 100
A44: 2) 교육수준 : 각 해당 교육 수준 기관의 졸업자 및 그 이상 학력의 재학, 수료, 중퇴, 휴학한 자를 포함
A45: 3) 기타 : 군인, 학생, 주부, 무직

Sheet <표>연간절주또는금주시도율
A1: <표 34> 연간 절주 또는 금주시도율1)
A2: (단위: %)
A3: 구분 | B3: 전체 | E3: 남자 | H3: 여자
B4: N | C4: %(표준오차) | D4: 상대표준오차 | E4: N | F4: %(표준오차) | G4: 상대표준오차 | H4: N | I4: %(표준오차) | J4: 상대표준오차
A5: 전체 | B5: =data!G831 -> 344 | C5: =data!H831 -> 22.9(2.9) | D5: =data!I831 -> 12.6 | E5: =data!J831 -> 220 | F5: =data!K831 -> 29.9(3.9) | G5: =data!L831 -> 13.1 | H5: =data!M831 -> 124 | I5: =data!N831 -> 8.2(2.4) | J5: =data!O831 -> 29.1
A6: 연령
A7: 19-29 | B7: =data!G833 -> 12 | C7: =data!H833 -> -(-) | D7: =data!I833 -> - | E7: =data!J833 -> 7 | F7: =data!K833 -> -(-) | G7: =data!L833 -> - | H7: =data!M833 -> 5 | I7: =data!N833 -> -(-) | J7: =data!O833 -> -
A8: 30-39 | B8: =data!G834 -> 14 | C8: =data!H834 -> -(-) | D8: =data!I834 -> - | E8: =data!J834 -> 8 | F8: =data!K834 -> -(-) | G8: =data!L834 -> - | H8: =data!M834 -> 6 | I8: =data!N834 -> -(-) | J8: =data!O834 -> -
A9: 40-49 | B9: =data!G835 -> 38 | C9: =data!H835 -> 34.8(8.9) | D9: =data!I835 -> 25.5 | E9: =data!J835 -> 20 | F9: =data!K835 -> 40.0(11.1) | G9: =data!L835 -> 27.8 | H9: =data!M835 -> 18 | I9: =data!N835 -> -(-) | J9: =data!O835 -> -
A10: 50-59 | B10: =data!G836 -> 87 | C10: =data!H836 -> 28.8(4.9) | D10: =data!I836 -> 17.1 | E10: =data!J836 -> 54 | F10: =data!K836 -> 34.2(6.7) | G10: =data!L836 -> 19.7 | H10: =data!M836 -> 33 | I10: =data!N836 -> 15.3(6.8) | J10: =data!O836 -> 44.4
A11: 60-69 | B11: =data!G837 -> 98 | C11: =data!H837 -> 26.8(4.3) | D11: =data!I837 -> 16.0 | E11: =data!J837 -> 72 | F11: =data!K837 -> 34.3(5.4) | G11: =data!L837 -> 15.6 | H11: =data!M837 -> 26 | I11: =data!N837 -> 4.1(4.0) | J11: =data!O837 -> 98.7
A12: 70 이상 | B12: =data!G838 -> 95 | C12: =data!H838 -> 18.3(4.6) | D12: =data!I838 -> 25.2 | E12: =data!J838 -> 59 | F12: =data!K838 -> 26.6(6.1) | G12: =data!L838 -> 23.0 | H12: =data!M838 -> 36 | I12: =data!N838 -> 2.9(2.9) | J12: =data!O838 -> 98.1
A14: 19-64 | B14: =data!G840 -> 210 | C14: =data!H840 -> 23.6(3.4) | D14: =data!I840 -> 14.6 | E14: =data!J840 -> 132 | F14: =data!K840 -> 30.4(4.7) | G14: =data!L840 -> 15.5 | H14: =data!M840 -> 78 | I14: =data!N840 -> 9.4(3.0) | J14: =data!O840 -> 31.9
A15: 65 이상 | B15: =data!G841 -> 134 | C15: =data!H841 -> 21.0(3.8) | D15: =data!I841 -> 18.0 | E15: =data!J841 -> 88 | F15: =data!K841 -> 28.7(5.1) | G15: =data!L841 -> 17.7 | H15: =data!M841 -> 46 | I15: =data!N841 -> 4.6(3.2) | J15: =data!O841 -> 68.8
A16: 교육수준2)
A17: 무학 | B17: =data!G843 -> 30 | C17: =data!H843 -> 9.0(6.5) | D17: =data!I843 -> 72.5 | E17: =data!J843 -> 3 | F17: =data!K843 -> -(-) | G17: =data!L843 -> - | H17: =data!M843 -> 27 | I17: =data!N843 -> 3.7(3.7) | J17: =data!O843 -> 100.7
A18: 초등학교 | B18: =data!G844 -> 57 | C18: =data!H844 -> 21.7(5.9) | D18: =data!I844 -> 27.3 | E18: =data!J844 -> 38 | F18: =data!K844 -> 29.5(7.8) | G18: =data!L844 -> 26.3 | H18: =data!M844 -> 19 | I18: =data!N844 -> -(-) | J18: =data!O844 -> -
A19: 중학교 | B19: =data!G845 -> 79 | C19: =data!H845 -> 22.9(4.6) | D19: =data!I845 -> 20.2 | E19: =data!J845 -> 52 | F19: =data!K845 -> 23.3(5.9) | G19: =data!L845 -> 25.4 | H19: =data!M845 -> 27 | I19: =data!N845 -> 21.8(8.5) | J19: =data!O845 -> 39.0
A20: 고등학교 | B20: =data!G846 -> 129 | C20: =data!H846 -> 22.0(3.8) | D20: =data!I846 -> 17.3 | E20: =data!J846 -> 96 | F20: =data!K846 -> 27.4(4.8) | G20: =data!L846 -> 17.6 | H20: =data!M846 -> 33 | I20: =data!N846 -> 4.6(3.5) | J20: =data!O846 -> 74.9
A21: 대학교 이상 | B21: =data!G847 -> 49 | C21: =data!H847 -> 29.6(7.2) | D21: =data!I847 -> 24.3 | E21: =data!J847 -> 31 | F21: =data!K847 -> 43.1(11.6) | G21: =data!L847 -> 27.0 | H21: =data!M847 -> 18 | I21: =data!N847 -> -(-) | J21: =data!O847 -> -
A22: 직업
A23: 전문행정관리 | B23: =data!G849 -> 15 | C23: =data!H849 -> -(-) | D23: =data!I849 -> - | E23: =data!J849 -> 8 | F23: =data!K849 -> -(-) | G23: =data!L849 -> - | H23: =data!M849 -> 7 | I23: =data!N849 -> -(-) | J23: =data!O849 -> -
A24: 사무직 | B24: =data!G850 -> 14 | C24: =data!H850 -> -(-) | D24: =data!I850 -> - | E24: =data!J850 -> 4 | F24: =data!K850 -> -(-) | G24: =data!L850 -> - | H24: =data!M850 -> 10 | I24: =data!N850 -> -(-) | J24: =data!O850 -> -
A25: 판매･서비스직 | B25: =data!G851 -> 36 | C25: =data!H851 -> 23.2(8.3) | D25: =data!I851 -> 35.8 | E25: =data!J851 -> 12 | F25: =data!K851 -> -(-) | G25: =data!L851 -> - | H25: =data!M851 -> 24 | I25: =data!N851 -> 20.6(8.3) | J25: =data!O851 -> 40.4
A26: 농림어업 | B26: =data!G852 -> 140 | C26: =data!H852 -> 25.2(4.3) | D26: =data!I852 -> 17.2 | E26: =data!J852 -> 104 | F26: =data!K852 -> 29.9(5.0) | G26: =data!L852 -> 16.7 | H26: =data!M852 -> 36 | I26: =data!N852 -> 5.0(3.5) | J26: =data!O852 -> 70.5
A27: 기능단순노무직 | B27: =data!G853 -> 73 | C27: =data!H853 -> 24.2(5.2) | D27: =data!I853 -> 21.4 | E27: =data!J853 -> 49 | F27: =data!K853 -> 30.8(6.5) | G27: =data!L853 -> 21.2 | H27: =data!M853 -> 24 | I27: =data!N853 -> 3.1(3.2) | J27: =data!O853 -> 105.5
A28: 기타3) | B28: =data!G854 -> 66 | C28: =data!H854 -> 24.6(5.7) | D28: =data!I854 -> 23.1 | E28: =data!J854 -> 43 | F28: =data!K854 -> 33.2(7.6) | G28: =data!L854 -> 22.9 | H28: =data!M854 -> 23 | I28: =data!N854 -> 10.1(7.2) | J28: =data!O854 -> 71.5
A29: 월 가구소득
A30: 100만원 미만 | B30: =data!G856 -> 86 | C30: =data!H856 -> 20.7(5.6) | D30: =data!I856 -> 27.0 | E30: =data!J856 -> 56 | F30: =data!K856 -> 29.0(7.9) | G30: =data!L856 -> 27.3 | H30: =data!M856 -> 30 | I30: =data!N856 -> 0.0(0.0) | J30: =data!O856 -> .
A31: 100-200만원 미만 | B31: =data!G857 -> 63 | C31: =data!H857 -> 19.9(5.4) | D31: =data!I857 -> 27.2 | E31: =data!J857 -> 38 | F31: =data!K857 -> 27.5(7.3) | G31: =data!L857 -> 26.7 | H31: =data!M857 -> 25 | I31: =data!N857 -> 3.8(3.9) | J31: =data!O857 -> 101.3
A32: 200-300만원 미만 | B32: =data!G858 -> 38 | C32: =data!H858 -> 23.9(6.3) | D32: =data!I858 -> 26.3 | E32: =data!J858 -> 27 | F32: =data!K858 -> 30.3(8.0) | G32: =data!L858 -> 26.3 | H32: =data!M858 -> 11 | I32: =data!N858 -> -(-) | J32: =data!O858 -> -
A33: 300-400만원 미만 | B33: =data!G859 -> 39 | C33: =data!H859 -> 15.4(5.2) | D33: =data!I859 -> 33.9 | E33: =data!J859 -> 25 | F33: =data!K859 -> 19.7(8.2) | G33: =data!L859 -> 41.7 | H33: =data!M859 -> 14 | I33: =data!N859 -> -(-) | J33: =data!O859 -> -
A34: 400만원 이상 | B34: =data!G860 -> 118 | C34: =data!H860 -> 27.1(5.4) | D34: =data!I860 -> 19.8 | E34: =data!J860 -> 74 | F34: =data!K860 -> 34.2(7.3) | G34: =data!L860 -> 21.4 | H34: =data!M860 -> 44 | I34: =data!N860 -> 14.0(4.4) | J34: =data!O860 -> 31.4
A35: 작년 대비 가구소득 변화
A36: 줄어들었다 | B36: =data!G862 -> 108 | C36: =data!H862 -> 24.8(6.0) | D36: =data!I862 -> 24.1 | E36: =data!J862 -> 75 | F36: =data!K862 -> 33.2(8.1) | G36: =data!L862 -> 24.4 | H36: =data!M862 -> 33 | I36: =data!N862 -> 0.0(0.0) | J36: =data!O862 -> .
A37: 변함없다 | B37: =data!G863 -> 181 | C37: =data!H863 -> 23.5(4.0) | D37: =data!I863 -> 16.9 | E37: =data!J863 -> 114 | F37: =data!K863 -> 30.0(5.0) | G37: =data!L863 -> 16.8 | H37: =data!M863 -> 67 | I37: =data!N863 -> 11.6(4.1) | J37: =data!O863 -> 35.0
A38: 늘어났다 | B38: =data!G864 -> 55 | C38: =data!H864 -> 17.7(4.3) | D38: =data!I864 -> 23.9 | E38: =data!J864 -> 31 | F38: =data!K864 -> 22.5(5.6) | G38: =data!L864 -> 24.8 | H38: =data!M864 -> 24 | I38: =data!N864 -> 10.0(6.2) | J38: =data!O864 -> 62.3
A39: 거주유형
A40: 동
A41: 읍〮면 | B41: =data!G867 -> 344 | C41: =data!H867 -> 22.9(2.9) | D41: =data!I867 -> 12.6 | E41: =data!J867 -> 220 | F41: =data!K867 -> 29.9(3.9) | G41: =data!L867 -> 13.1 | H41: =data!M867 -> 124 | I41: =data!N867 -> 8.2(2.4) | J41: =data!O867 -> 29.1
A43: 주 1) 연간 절주 또는 금주시도율 : (최근 1년 동안 절주나 금주를 시도한 적이 있는 사람의 수 / 최근 1년 동안 음주한 사람의 수) × 100
A44: 2) 교육수준 : 각 해당 교육 수준 기관의 졸업자 및 그 이상 학력의 재학, 수료, 중퇴, 휴학한 자를 포함
A45: 3) 기타 : 군인, 학생, 주부, 무직

Sheet <표>운전자석안전벨트착용률
A1: <표 35> 운전자석 안전벨트 착용률1)
A2: (단위: %)
A3: 구분 | B3: 전체 | E3: 남자 | H3: 여자
B4: N | C4: %(표준오차) | D4: 상대표준오차 | E4: N | F4: %(표준오차) | G4: 상대표준오차 | H4: N | I4: %(표준오차) | J4: 상대표준오차
A5: 전체 | B5: =data!G868 -> 386 | C5: =data!H868 -> 59.8(3.0) | D5: =data!I868 -> 5.1 | E5: =data!J868 -> 273 | F5: =data!K868 -> 56.8(3.3) | G5: =data!L868 -> 5.9 | H5: =data!M868 -> 113 | I5: =data!N868 -> 68.3(5.3) | J5: =data!O868 -> 7.7
A6: 연령
A7: 19-29 | B7: =data!G870 -> 14 | C7: =data!H870 -> -(-) | D7: =data!I870 -> - | E7: =data!J870 -> 10 | F7: =data!K870 -> -(-) | G7: =data!L870 -> - | H7: =data!M870 -> 4 | I7: =data!N870 -> -(-) | J7: =data!O870 -> -
A8: 30-39 | B8: =data!G871 -> 14 | C8: =data!H871 -> -(-) | D8: =data!I871 -> - | E8: =data!J871 -> 9 | F8: =data!K871 -> -(-) | G8: =data!L871 -> - | H8: =data!M871 -> 5 | I8: =data!N871 -> -(-) | J8: =data!O871 -> -
A9: 40-49 | B9: =data!G872 -> 52 | C9: =data!H872 -> 52.0(8.1) | D9: =data!I872 -> 15.5 | E9: =data!J872 -> 27 | F9: =data!K872 -> 44.4(9.8) | G9: =data!L872 -> 22.0 | H9: =data!M872 -> 25 | I9: =data!N872 -> 67.5(10.9) | J9: =data!O872 -> 16.1
A10: 50-59 | B10: =data!G873 -> 109 | C10: =data!H873 -> 63.3(4.8) | D10: =data!I873 -> 7.6 | E10: =data!J873 -> 65 | F10: =data!K873 -> 58.8(5.5) | G10: =data!L873 -> 9.4 | H10: =data!M873 -> 44 | I10: =data!N873 -> 73.0(6.2) | J10: =data!O873 -> 8.5
A11: 60-69 | B11: =data!G874 -> 132 | C11: =data!H874 -> 62.1(4.6) | D11: =data!I874 -> 7.3 | E11: =data!J874 -> 103 | F11: =data!K874 -> 62.9(5.2) | G11: =data!L874 -> 8.3 | H11: =data!M874 -> 29 | I11: =data!N874 -> 58.8(9.2) | J11: =data!O874 -> 15.6
A12: 70 이상 | B12: =data!G875 -> 65 | C12: =data!H875 -> 58.1(7.2) | D12: =data!I875 -> 12.5 | E12: =data!J875 -> 59 | F12: =data!K875 -> 57.0(7.4) | G12: =data!L875 -> 13.0 | H12: =data!M875 -> 6 | I12: =data!N875 -> -(-) | J12: =data!O875 -> -
A14: 19-64 | B14: =data!G877 -> 263 | C14: =data!H877 -> 59.7(3.7) | D14: =data!I877 -> 6.2 | E14: =data!J877 -> 167 | F14: =data!K877 -> 55.5(4.3) | G14: =data!L877 -> 7.7 | H14: =data!M877 -> 96 | I14: =data!N877 -> 69.1(5.7) | J14: =data!O877 -> 8.3
A15: 65 이상 | B15: =data!G878 -> 123 | C15: =data!H878 -> 60.6(4.7) | D15: =data!I878 -> 7.7 | E15: =data!J878 -> 106 | F15: =data!K878 -> 60.6(4.8) | G15: =data!L878 -> 8.0 | H15: =data!M878 -> 17 | I15: =data!N878 -> -(-) | J15: =data!O878 -> -
A16: 교육수준2)
A17: 무학 | B17: =data!G880 -> 3 | C17: =data!H880 -> -(-) | D17: =data!I880 -> - | E17: =data!J880 -> 1 | F17: =data!K880 -> -(-) | G17: =data!L880 -> - | H17: =data!M880 -> 2 | I17: =data!N880 -> -(-) | J17: =data!O880 -> -
A18: 초등학교 | B18: =data!G881 -> 42 | C18: =data!H881 -> 51.3(8.1) | D18: =data!I881 -> 15.8 | E18: =data!J881 -> 31 | F18: =data!K881 -> 49.4(9.1) | G18: =data!L881 -> 18.5 | H18: =data!M881 -> 11 | I18: =data!N881 -> -(-) | J18: =data!O881 -> -
A19: 중학교 | B19: =data!G882 -> 95 | C19: =data!H882 -> 49.5(5.1) | D19: =data!I882 -> 10.2 | E19: =data!J882 -> 70 | F19: =data!K882 -> 53.3(5.6) | G19: =data!L882 -> 10.5 | H19: =data!M882 -> 25 | I19: =data!N882 -> 36.8(9.5) | J19: =data!O882 -> 25.9
A20: 고등학교 | B20: =data!G883 -> 169 | C20: =data!H883 -> 55.1(4.6) | D20: =data!I883 -> 8.3 | E20: =data!J883 -> 121 | F20: =data!K883 -> 48.4(5.0) | G20: =data!L883 -> 10.4 | H20: =data!M883 -> 48 | I20: =data!N883 -> 76.2(7.3) | J20: =data!O883 -> 9.6
A21: 대학교 이상 | B21: =data!G884 -> 77 | C21: =data!H884 -> 79.6(5.1) | D21: =data!I884 -> 6.4 | E21: =data!J884 -> 50 | F21: =data!K884 -> 80.0(7.0) | G21: =data!L884 -> 8.8 | H21: =data!M884 -> 27 | I21: =data!N884 -> 78.8(9.6) | J21: =data!O884 -> 12.2
A22: 직업
A23: 전문행정관리 | B23: =data!G886 -> 22 | C23: =data!H886 -> 80.4(7.6) | D23: =data!I886 -> 9.5 | E23: =data!J886 -> 15 | F23: =data!K886 -> -(-) | G23: =data!L886 -> - | H23: =data!M886 -> 7 | I23: =data!N886 -> -(-) | J23: =data!O886 -> -
A24: 사무직 | B24: =data!G887 -> 16 | C24: =data!H887 -> -(-) | D24: =data!I887 -> - | E24: =data!J887 -> 4 | F24: =data!K887 -> -(-) | G24: =data!L887 -> - | H24: =data!M887 -> 12 | I24: =data!N887 -> -(-) | J24: =data!O887 -> -
A25: 판매･서비스직 | B25: =data!G888 -> 48 | C25: =data!H888 -> 71.3(7.1) | D25: =data!I888 -> 10.0 | E25: =data!J888 -> 11 | F25: =data!K888 -> -(-) | G25: =data!L888 -> - | H25: =data!M888 -> 37 | I25: =data!N888 -> 72.1(8.4) | J25: =data!O888 -> 11.6
A26: 농림어업 | B26: =data!G889 -> 154 | C26: =data!H889 -> 50.0(5.0) | D26: =data!I889 -> 10.0 | E26: =data!J889 -> 130 | F26: =data!K889 -> 50.3(5.2) | G26: =data!L889 -> 10.4 | H26: =data!M889 -> 24 | I26: =data!N889 -> 47.9(10.0) | J26: =data!O889 -> 20.8
A27: 기능단순노무직 | B27: =data!G890 -> 87 | C27: =data!H890 -> 52.8(5.4) | D27: =data!I890 -> 10.3 | E27: =data!J890 -> 72 | F27: =data!K890 -> 51.7(5.7) | G27: =data!L890 -> 10.9 | H27: =data!M890 -> 15 | I27: =data!N890 -> -(-) | J27: =data!O890 -> -
A28: 기타3) | B28: =data!G891 -> 59 | C28: =data!H891 -> 74.5(7.2) | D28: =data!I891 -> 9.6 | E28: =data!J891 -> 41 | F28: =data!K891 -> 71.3(8.3) | G28: =data!L891 -> 11.6 | H28: =data!M891 -> 18 | I28: =data!N891 -> -(-) | J28: =data!O891 -> -
A29: 월 가구소득
A30: 100만원 미만 | B30: =data!G893 -> 62 | C30: =data!H893 -> 54.6(7.8) | D30: =data!I893 -> 14.3 | E30: =data!J893 -> 51 | F30: =data!K893 -> 48.5(8.6) | G30: =data!L893 -> 17.7 | H30: =data!M893 -> 11 | I30: =data!N893 -> -(-) | J30: =data!O893 -> -
A31: 100-200만원 미만 | B31: =data!G894 -> 70 | C31: =data!H894 -> 61.3(7.1) | D31: =data!I894 -> 11.5 | E31: =data!J894 -> 55 | F31: =data!K894 -> 61.8(7.9) | G31: =data!L894 -> 12.7 | H31: =data!M894 -> 15 | I31: =data!N894 -> -(-) | J31: =data!O894 -> -
A32: 200-300만원 미만 | B32: =data!G895 -> 59 | C32: =data!H895 -> 66.1(6.9) | D32: =data!I895 -> 10.4 | E32: =data!J895 -> 39 | F32: =data!K895 -> 57.6(7.6) | G32: =data!L895 -> 13.2 | H32: =data!M895 -> 20 | I32: =data!N895 -> 87.0(7.4) | J32: =data!O895 -> 8.5
A33: 300-400만원 미만 | B33: =data!G896 -> 44 | C33: =data!H896 -> 64.8(8.5) | D33: =data!I896 -> 13.1 | E33: =data!J896 -> 30 | F33: =data!K896 -> 61.9(9.6) | G33: =data!L896 -> 15.5 | H33: =data!M896 -> 14 | I33: =data!N896 -> -(-) | J33: =data!O896 -> -
A34: 400만원 이상 | B34: =data!G897 -> 151 | C34: =data!H897 -> 58.0(5.2) | D34: =data!I897 -> 8.9 | E34: =data!J897 -> 98 | F34: =data!K897 -> 56.7(5.3) | G34: =data!L897 -> 9.3 | H34: =data!M897 -> 53 | I34: =data!N897 -> 60.8(9.1) | J34: =data!O897 -> 14.9
A35: 작년 대비 가구소득 변화
A36: 줄어들었다 | B36: =data!G899 -> 131 | C36: =data!H899 -> 55.7(5.3) | D36: =data!I899 -> 9.5 | E36: =data!J899 -> 100 | F36: =data!K899 -> 55.3(5.4) | G36: =data!L899 -> 9.7 | H36: =data!M899 -> 31 | I36: =data!N899 -> 57.2(13.1) | J36: =data!O899 -> 22.9
A37: 변함없다 | B37: =data!G900 -> 191 | C37: =data!H900 -> 64.7(3.8) | D37: =data!I900 -> 5.9 | E37: =data!J900 -> 133 | F37: =data!K900 -> 59.5(5.2) | G37: =data!L900 -> 8.7 | H37: =data!M900 -> 58 | I37: =data!N900 -> 77.7(5.4) | J37: =data!O900 -> 6.9
A38: 늘어났다 | B38: =data!G901 -> 64 | C38: =data!H901 -> 55.4(6.7) | D38: =data!I901 -> 12.1 | E38: =data!J901 -> 40 | F38: =data!K901 -> 52.3(6.9) | G38: =data!L901 -> 13.2 | H38: =data!M901 -> 24 | I38: =data!N901 -> 61.4(13.0) | J38: =data!O901 -> 21.2
A39: 거주유형
A40: 동
A41: 읍〮면 | B41: =data!G904 -> 386 | C41: =data!H904 -> 59.8(3.0) | D41: =data!I904 -> 5.1 | E41: =data!J904 -> 273 | F41: =data!K904 -> 56.8(3.3) | G41: =data!L904 -> 5.9 | H41: =data!M904 -> 113 | I41: =data!N904 -> 68.3(5.3) | J41: =data!O904 -> 7.7
A43: 주 1) 운전자석 안전벨트 착용률 : (자동차 운전 시 안전벨트를 "항상 맨다"에 응답한 사람의 수 / 자동차 운전자 수) × 100
A44: 2) 교육수준 : 각 해당 교육 수준 기관의 졸업자 및 그 이상 학력의 재학, 수료, 중퇴, 휴학한 자를 포함
A45: 3) 기타 : 군인, 학생, 주부, 무직

Sheet <표>동승차량뒷좌석안전벨트착용률
A1: <표 36> 동승차량 뒷좌석 안전벨트 착용률1)
A2: (단위: %)
A3: 구분 | B3: 전체 | E3: 남자 | H3: 여자
B4: N | C4: %(표준오차) | D4: 상대표준오차 | E4: N | F4: %(표준오차) | G4: 상대표준오차 | H4: N | I4: %(표준오차) | J4: 상대표준오차
A5: 전체 | B5: =data!G905 -> 775 | C5: =data!H905 -> 27.1(2.0) | D5: =data!I905 -> 7.5 | E5: =data!J905 -> 341 | F5: =data!K905 -> 30.4(3.0) | G5: =data!L905 -> 9.7 | H5: =data!M905 -> 434 | I5: =data!N905 -> 23.5(2.3) | J5: =data!O905 -> 9.9
A6: 연령
A7: 19-29 | B7: =data!G907 -> 18 | C7: =data!H907 -> -(-) | D7: =data!I907 -> - | E7: =data!J907 -> 13 | F7: =data!K907 -> -(-) | G7: =data!L907 -> - | H7: =data!M907 -> 5 | I7: =data!N907 -> -(-) | J7: =data!O907 -> -
A8: 30-39 | B8: =data!G908 -> 18 | C8: =data!H908 -> -(-) | D8: =data!I908 -> - | E8: =data!J908 -> 9 | F8: =data!K908 -> -(-) | G8: =data!L908 -> - | H8: =data!M908 -> 9 | I8: =data!N908 -> -(-) | J8: =data!O908 -> -
A9: 40-49 | B9: =data!G909 -> 50 | C9: =data!H909 -> 27.1(6.3) | D9: =data!I909 -> 23.1 | E9: =data!J909 -> 25 | F9: =data!K909 -> 24.0(8.3) | G9: =data!L909 -> 34.4 | H9: =data!M909 -> 25 | I9: =data!N909 -> 33.2(9.7) | J9: =data!O909 -> 29.3
A10: 50-59 | B10: =data!G910 -> 122 | C10: =data!H910 -> 30.1(4.1) | D10: =data!I910 -> 13.5 | E10: =data!J910 -> 59 | F10: =data!K910 -> 34.2(5.4) | G10: =data!L910 -> 15.9 | H10: =data!M910 -> 63 | I10: =data!N910 -> 24.3(5.0) | J10: =data!O910 -> 20.5
A11: 60-69 | B11: =data!G911 -> 189 | C11: =data!H911 -> 29.9(3.5) | D11: =data!I911 -> 11.8 | E11: =data!J911 -> 92 | F11: =data!K911 -> 30.8(4.7) | G11: =data!L911 -> 15.2 | H11: =data!M911 -> 97 | I11: =data!N911 -> 28.9(4.5) | J11: =data!O911 -> 15.4
A12: 70 이상 | B12: =data!G912 -> 378 | C12: =data!H912 -> 27.6(2.6) | D12: =data!I912 -> 9.3 | E12: =data!J912 -> 143 | F12: =data!K912 -> 32.8(3.8) | G12: =data!L912 -> 11.7 | H12: =data!M912 -> 235 | I12: =data!N912 -> 24.1(2.8) | J12: =data!O912 -> 11.6
A14: 19-64 | B14: =data!G914 -> 301 | C14: =data!H914 -> 26.2(2.9) | D14: =data!I914 -> 10.9 | E14: =data!J914 -> 156 | F14: =data!K914 -> 28.9(3.9) | G14: =data!L914 -> 13.3 | H14: =data!M914 -> 145 | I14: =data!N914 -> 22.1(3.7) | J14: =data!O914 -> 16.9
A15: 65 이상 | B15: =data!G915 -> 474 | C15: =data!H915 -> 28.1(2.4) | D15: =data!I915 -> 8.4 | E15: =data!J915 -> 185 | F15: =data!K915 -> 32.8(3.5) | G15: =data!L915 -> 10.5 | H15: =data!M915 -> 289 | I15: =data!N915 -> 24.6(2.6) | J15: =data!O915 -> 10.4
A16: 교육수준2)
A17: 무학 | B17: =data!G917 -> 163 | C17: =data!H917 -> 20.6(4.0) | D17: =data!I917 -> 19.6 | E17: =data!J917 -> 10 | F17: =data!K917 -> -(-) | G17: =data!L917 -> - | H17: =data!M917 -> 153 | I17: =data!N917 -> 20.3(4.0) | J17: =data!O917 -> 19.7
A18: 초등학교 | B18: =data!G918 -> 214 | C18: =data!H918 -> 28.5(3.4) | D18: =data!I918 -> 12.0 | E18: =data!J918 -> 91 | F18: =data!K918 -> 33.1(4.6) | G18: =data!L918 -> 13.8 | H18: =data!M918 -> 123 | I18: =data!N918 -> 24.9(4.3) | J18: =data!O918 -> 17.5
A19: 중학교 | B19: =data!G919 -> 134 | C19: =data!H919 -> 30.4(4.1) | D19: =data!I919 -> 13.4 | E19: =data!J919 -> 68 | F19: =data!K919 -> 28.7(6.3) | G19: =data!L919 -> 21.8 | H19: =data!M919 -> 66 | I19: =data!N919 -> 32.3(6.4) | J19: =data!O919 -> 19.8
A20: 고등학교 | B20: =data!G920 -> 188 | C20: =data!H920 -> 24.7(3.2) | D20: =data!I920 -> 13.0 | E20: =data!J920 -> 125 | F20: =data!K920 -> 26.0(3.9) | G20: =data!L920 -> 14.8 | H20: =data!M920 -> 63 | I20: =data!N920 -> 21.3(5.7) | J20: =data!O920 -> 26.9
A21: 대학교 이상 | B21: =data!G921 -> 76 | C21: =data!H921 -> 33.6(6.7) | D21: =data!I921 -> 20.0 | E21: =data!J921 -> 47 | F21: =data!K921 -> 39.9(9.1) | G21: =data!L921 -> 22.8 | H21: =data!M921 -> 29 | I21: =data!N921 -> 22.0(8.1) | J21: =data!O921 -> 36.8
A22: 직업
A23: 전문행정관리 | B23: =data!G923 -> 21 | C23: =data!H923 -> 42.5(10.9) | D23: =data!I923 -> 25.6 | E23: =data!J923 -> 13 | F23: =data!K923 -> -(-) | G23: =data!L923 -> - | H23: =data!M923 -> 8 | I23: =data!N923 -> -(-) | J23: =data!O923 -> -
A24: 사무직 | B24: =data!G924 -> 17 | C24: =data!H924 -> -(-) | D24: =data!I924 -> - | E24: =data!J924 -> 5 | F24: =data!K924 -> -(-) | G24: =data!L924 -> - | H24: =data!M924 -> 12 | I24: =data!N924 -> -(-) | J24: =data!O924 -> -
A25: 판매･서비스직 | B25: =data!G925 -> 58 | C25: =data!H925 -> 39.7(7.3) | D25: =data!I925 -> 18.4 | E25: =data!J925 -> 13 | F25: =data!K925 -> -(-) | G25: =data!L925 -> - | H25: =data!M925 -> 45 | I25: =data!N925 -> 36.6(7.1) | J25: =data!O925 -> 19.3
A26: 농림어업 | B26: =data!G926 -> 298 | C26: =data!H926 -> 21.1(3.1) | D26: =data!I926 -> 14.8 | E26: =data!J926 -> 150 | F26: =data!K926 -> 25.2(4.4) | G26: =data!L926 -> 17.5 | H26: =data!M926 -> 148 | I26: =data!N926 -> 14.9(2.9) | J26: =data!O926 -> 19.8
A27: 기능단순노무직 | B27: =data!G927 -> 141 | C27: =data!H927 -> 21.1(3.5) | D27: =data!I927 -> 16.4 | E27: =data!J927 -> 61 | F27: =data!K927 -> 25.3(5.5) | G27: =data!L927 -> 21.8 | H27: =data!M927 -> 80 | I27: =data!N927 -> 15.4(4.7) | J27: =data!O927 -> 30.2
A28: 기타3) | B28: =data!G928 -> 240 | C28: =data!H928 -> 36.9(4.3) | D28: =data!I928 -> 11.7 | E28: =data!J928 -> 99 | F28: =data!K928 -> 40.5(6.2) | G28: =data!L928 -> 15.3 | H28: =data!M928 -> 141 | I28: =data!N928 -> 34.0(4.5) | J28: =data!O928 -> 13.3
A29: 월 가구소득
A30: 100만원 미만 | B30: =data!G930 -> 291 | C30: =data!H930 -> 28.2(3.6) | D30: =data!I930 -> 12.7 | E30: =data!J930 -> 109 | F30: =data!K930 -> 33.1(5.4) | G30: =data!L930 -> 16.4 | H30: =data!M930 -> 182 | I30: =data!N930 -> 24.5(3.8) | J30: =data!O930 -> 15.4
A31: 100-200만원 미만 | B31: =data!G931 -> 169 | C31: =data!H931 -> 28.1(4.2) | D31: =data!I931 -> 15.0 | E31: =data!J931 -> 77 | F31: =data!K931 -> 32.0(5.9) | G31: =data!L931 -> 18.5 | H31: =data!M931 -> 92 | I31: =data!N931 -> 23.3(4.3) | J31: =data!O931 -> 18.5
A32: 200-300만원 미만 | B32: =data!G932 -> 82 | C32: =data!H932 -> 25.7(6.1) | D32: =data!I932 -> 23.8 | E32: =data!J932 -> 38 | F32: =data!K932 -> 27.0(8.7) | G32: =data!L932 -> 32.3 | H32: =data!M932 -> 44 | I32: =data!N932 -> 24.1(6.2) | J32: =data!O932 -> 25.8
A33: 300-400만원 미만 | B33: =data!G933 -> 66 | C33: =data!H933 -> 31.3(6.8) | D33: =data!I933 -> 21.6 | E33: =data!J933 -> 31 | F33: =data!K933 -> 36.5(9.6) | G33: =data!L933 -> 26.3 | H33: =data!M933 -> 35 | I33: =data!N933 -> 25.9(7.8) | J33: =data!O933 -> 30.0
A34: 400만원 이상 | B34: =data!G934 -> 167 | C34: =data!H934 -> 24.0(3.7) | D34: =data!I934 -> 15.3 | E34: =data!J934 -> 86 | F34: =data!K934 -> 26.2(5.5) | G34: =data!L934 -> 20.9 | H34: =data!M934 -> 81 | I34: =data!N934 -> 21.0(5.2) | J34: =data!O934 -> 25.0
A35: 작년 대비 가구소득 변화
A36: 줄어들었다 | B36: =data!G936 -> 218 | C36: =data!H936 -> 27.0(3.7) | D36: =data!I936 -> 13.8 | E36: =data!J936 -> 106 | F36: =data!K936 -> 29.9(5.4) | G36: =data!L936 -> 17.9 | H36: =data!M936 -> 112 | I36: =data!N936 -> 22.8(4.8) | J36: =data!O936 -> 20.8
A37: 변함없다 | B37: =data!G937 -> 480 | C37: =data!H937 -> 27.9(2.7) | D37: =data!I937 -> 9.6 | E37: =data!J937 -> 202 | F37: =data!K937 -> 32.3(4.0) | G37: =data!L937 -> 12.4 | H37: =data!M937 -> 278 | I37: =data!N937 -> 23.8(2.5) | J37: =data!O937 -> 10.7
A38: 늘어났다 | B38: =data!G938 -> 77 | C38: =data!H938 -> 23.2(5.7) | D38: =data!I938 -> 24.5 | E38: =data!J938 -> 33 | F38: =data!K938 -> 22.8(7.2) | G38: =data!L938 -> 31.8 | H38: =data!M938 -> 44 | I38: =data!N938 -> 23.5(8.2) | J38: =data!O938 -> 34.9
A39: 거주유형
A40: 동
A41: 읍〮면 | B41: =data!G941 -> 775 | C41: =data!H941 -> 27.1(2.0) | D41: =data!I941 -> 7.5 | E41: =data!J941 -> 341 | F41: =data!K941 -> 30.4(3.0) | G41: =data!L941 -> 9.7 | H41: =data!M941 -> 434 | I41: =data!N941 -> 23.5(2.3) | J41: =data!O941 -> 9.9
A43: 주 1) 동승차량 뒷좌석 안전벨트 착용률 : (다른 사람이 운전하는 자동차나 택시 뒷좌석에 탈 때 안전벨트를 "항상 맨다"에 응답한 사람의 수 / 동승차량 뒷좌석 탑승자 수) × 100
A44: 2) 교육수준 : 각 해당 교육 수준 기관의 졸업자 및 그 이상 학력의 재학, 수료, 중퇴, 휴학한 자를 포함
A45: 3) 기타 : 군인, 학생, 주부, 무직

Sheet <표>오토바이 헬멧 착용률
A1: <표 37> 오토바이 헬멧 착용률1)
A2: (단위: %)
A3: 구분 | B3: 전체 | E3: 남자 | H3: 여자
B4: N | C4: %(표준오차) | D4: 상대표준오차 | E4: N | F4: %(표준오차) | G4: 상대표준오차 | H4: N | I4: %(표준오차) | J4: 상대표준오차
A5: 전체 | B5: =data!G942 -> 125 | C5: =data!H942 -> 25.8(4.6) | D5: =data!I942 -> 17.9 | E5: =data!J942 -> 98 | F5: =data!K942 -> 28.2(5.4) | G5: =data!L942 -> 19.1 | H5: =data!M942 -> 27 | I5: =data!N942 -> 15.4(7.7) | J5: =data!O942 -> 49.8
A6: 연령
A7: 19-29 | B7: =data!G944 -> 2 | C7: =data!H944 -> -(-) | D7: =data!I944 -> - | E7: =data!J944 -> 1 | F7: =data!K944 -> -(-) | G7: =data!L944 -> - | H7: =data!M944 -> 1 | I7: =data!N944 -> -(-) | J7: =data!O944 -> -
A8: 30-39 | B8: =data!G945 -> 4 | C8: =data!H945 -> -(-) | D8: =data!I945 -> - | E8: =data!J945 -> 3 | F8: =data!K945 -> -(-) | G8: =data!L945 -> - | H8: =data!M945 -> 1 | I8: =data!N945 -> -(-) | J8: =data!O945 -> -
A9: 40-49 | B9: =data!G946 -> 10 | C9: =data!H946 -> -(-) | D9: =data!I946 -> - | E9: =data!J946 -> 9 | F9: =data!K946 -> -(-) | G9: =data!L946 -> - | H9: =data!M946 -> 1 | I9: =data!N946 -> -(-) | J9: =data!O946 -> -
A10: 50-59 | B10: =data!G947 -> 24 | C10: =data!H947 -> 39.5(10.9) | D10: =data!I947 -> 27.7 | E10: =data!J947 -> 18 | F10: =data!K947 -> -(-) | G10: =data!L947 -> - | H10: =data!M947 -> 6 | I10: =data!N947 -> -(-) | J10: =data!O947 -> -
A11: 60-69 | B11: =data!G948 -> 43 | C11: =data!H948 -> 23.7(8.3) | D11: =data!I948 -> 35.1 | E11: =data!J948 -> 34 | F11: =data!K948 -> 27.2(9.5) | G11: =data!L948 -> 35.2 | H11: =data!M948 -> 9 | I11: =data!N948 -> -(-) | J11: =data!O948 -> -
A12: 70 이상 | B12: =data!G949 -> 42 | C12: =data!H949 -> 23.8(7.0) | D12: =data!I949 -> 29.5 | E12: =data!J949 -> 33 | F12: =data!K949 -> 27.4(8.5) | G12: =data!L949 -> 31.0 | H12: =data!M949 -> 9 | I12: =data!N949 -> -(-) | J12: =data!O949 -> -
A14: 19-64 | B14: =data!G951 -> 62 | C14: =data!H951 -> 29.6(6.8) | D14: =data!I951 -> 23.0 | E14: =data!J951 -> 50 | F14: =data!K951 -> 32.0(7.7) | G14: =data!L951 -> 24.2 | H14: =data!M951 -> 12 | I14: =data!N951 -> -(-) | J14: =data!O951 -> -
A15: 65 이상 | B15: =data!G952 -> 63 | C15: =data!H952 -> 18.7(5.2) | D15: =data!I952 -> 27.7 | E15: =data!J952 -> 48 | F15: =data!K952 -> 20.8(6.3) | G15: =data!L952 -> 30.4 | H15: =data!M952 -> 15 | I15: =data!N952 -> -(-) | J15: =data!O952 -> -
A16: 교육수준2)
A17: 무학 | B17: =data!G954 -> 6 | C17: =data!H954 -> -(-) | D17: =data!I954 -> - | E17: =data!J954 -> 3 | F17: =data!K954 -> -(-) | G17: =data!L954 -> - | H17: =data!M954 -> 3 | I17: =data!N954 -> -(-) | J17: =data!O954 -> -
A18: 초등학교 | B18: =data!G955 -> 44 | C18: =data!H955 -> 28.1(6.5) | D18: =data!I955 -> 23.1 | E18: =data!J955 -> 29 | F18: =data!K955 -> 36.2(9.4) | G18: =data!L955 -> 25.9 | H18: =data!M955 -> 15 | I18: =data!N955 -> -(-) | J18: =data!O955 -> -
A19: 중학교 | B19: =data!G956 -> 30 | C19: =data!H956 -> 10.5(6.3) | D19: =data!I956 -> 59.7 | E19: =data!J956 -> 26 | F19: =data!K956 -> 8.8(6.6) | G19: =data!L956 -> 75.4 | H19: =data!M956 -> 4 | I19: =data!N956 -> -(-) | J19: =data!O956 -> -
A20: 고등학교 | B20: =data!G957 -> 39 | C20: =data!H957 -> 37.5(9.8) | D20: =data!I957 -> 26.1 | E20: =data!J957 -> 35 | F20: =data!K957 -> 38.8(10.0) | G20: =data!L957 -> 25.7 | H20: =data!M957 -> 4 | I20: =data!N957 -> -(-) | J20: =data!O957 -> -
A21: 대학교 이상 | B21: =data!G958 -> 6 | C21: =data!H958 -> -(-) | D21: =data!I958 -> - | E21: =data!J958 -> 5 | F21: =data!K958 -> -(-) | G21: =data!L958 -> - | H21: =data!M958 -> 1 | I21: =data!N958 -> -(-) | J21: =data!O958 -> -
A22: 직업
A23: 전문행정관리 | B23: =data!G960 -> 1 | C23: =data!H960 -> -(-) | D23: =data!I960 -> - | E23: =data!J960 -> 1 | F23: =data!K960 -> -(-) | G23: =data!L960 -> - | H23: =data!M960 -> 0 | I23: =data!N960 -> -(-) | J23: =data!O960 -> -
A24: 사무직 | B24: =data!G961 -> 0 | C24: =data!H961 -> -(-) | D24: =data!I961 -> - | E24: =data!J961 -> 0 | F24: =data!K961 -> -(-) | G24: =data!L961 -> - | H24: =data!M961 -> 0 | I24: =data!N961 -> -(-) | J24: =data!O961 -> -
A25: 판매･서비스직 | B25: =data!G962 -> 5 | C25: =data!H962 -> -(-) | D25: =data!I962 -> - | E25: =data!J962 -> 2 | F25: =data!K962 -> -(-) | G25: =data!L962 -> - | H25: =data!M962 -> 3 | I25: =data!N962 -> -(-) | J25: =data!O962 -> -
A26: 농림어업 | B26: =data!G963 -> 64 | C26: =data!H963 -> 20.4(6.2) | D26: =data!I963 -> 30.3 | E26: =data!J963 -> 54 | F26: =data!K963 -> 22.3(6.9) | G26: =data!L963 -> 31.0 | H26: =data!M963 -> 10 | I26: =data!N963 -> -(-) | J26: =data!O963 -> -
A27: 기능단순노무직 | B27: =data!G964 -> 37 | C27: =data!H964 -> 23.4(8.9) | D27: =data!I964 -> 38.0 | E27: =data!J964 -> 25 | F27: =data!K964 -> 29.9(10.9) | G27: =data!L964 -> 36.5 | H27: =data!M964 -> 12 | I27: =data!N964 -> -(-) | J27: =data!O964 -> -
A28: 기타3) | B28: =data!G965 -> 18 | C28: =data!H965 -> -(-) | D28: =data!I965 -> - | E28: =data!J965 -> 16 | F28: =data!K965 -> -(-) | G28: =data!L965 -> - | H28: =data!M965 -> 2 | I28: =data!N965 -> -(-) | J28: =data!O965 -> -
A29: 월 가구소득
A30: 100만원 미만 | B30: =data!G967 -> 41 | C30: =data!H967 -> 22.5(6.4) | D30: =data!I967 -> 28.6 | E30: =data!J967 -> 33 | F30: =data!K967 -> 27.2(8.1) | G30: =data!L967 -> 29.8 | H30: =data!M967 -> 8 | I30: =data!N967 -> -(-) | J30: =data!O967 -> -
A31: 100-200만원 미만 | B31: =data!G968 -> 23 | C31: =data!H968 -> 23.0(11.3) | D31: =data!I968 -> 49.3 | E31: =data!J968 -> 18 | F31: =data!K968 -> -(-) | G31: =data!L968 -> - | H31: =data!M968 -> 5 | I31: =data!N968 -> -(-) | J31: =data!O968 -> -
A32: 200-300만원 미만 | B32: =data!G969 -> 15 | C32: =data!H969 -> -(-) | D32: =data!I969 -> - | E32: =data!J969 -> 9 | F32: =data!K969 -> -(-) | G32: =data!L969 -> - | H32: =data!M969 -> 6 | I32: =data!N969 -> -(-) | J32: =data!O969 -> -
A33: 300-400만원 미만 | B33: =data!G970 -> 10 | C33: =data!H970 -> -(-) | D33: =data!I970 -> - | E33: =data!J970 -> 7 | F33: =data!K970 -> -(-) | G33: =data!L970 -> - | H33: =data!M970 -> 3 | I33: =data!N970 -> -(-) | J33: =data!O970 -> -
A34: 400만원 이상 | B34: =data!G971 -> 36 | C34: =data!H971 -> 29.3(9.9) | D34: =data!I971 -> 33.8 | E34: =data!J971 -> 31 | F34: =data!K971 -> 28.2(10.8) | G34: =data!L971 -> 38.4 | H34: =data!M971 -> 5 | I34: =data!N971 -> -(-) | J34: =data!O971 -> -
A35: 작년 대비 가구소득 변화
A36: 줄어들었다 | B36: =data!G973 -> 47 | C36: =data!H973 -> 19.3(5.8) | D36: =data!I973 -> 30.3 | E36: =data!J973 -> 39 | F36: =data!K973 -> 16.1(5.8) | G36: =data!L973 -> 36.1 | H36: =data!M973 -> 8 | I36: =data!N973 -> -(-) | J36: =data!O973 -> -
A37: 변함없다 | B37: =data!G974 -> 66 | C37: =data!H974 -> 28.4(6.1) | D37: =data!I974 -> 21.4 | E37: =data!J974 -> 48 | F37: =data!K974 -> 36.0(6.9) | G37: =data!L974 -> 19.3 | H37: =data!M974 -> 18 | I37: =data!N974 -> -(-) | J37: =data!O974 -> -
A38: 늘어났다 | B38: =data!G975 -> 12 | C38: =data!H975 -> -(-) | D38: =data!I975 -> - | E38: =data!J975 -> 11 | F38: =data!K975 -> -(-) | G38: =data!L975 -> - | H38: =data!M975 -> 1 | I38: =data!N975 -> -(-) | J38: =data!O975 -> -
A39: 거주유형
A40: 동
A41: 읍〮면 | B41: =data!G978 -> 125 | C41: =data!H978 -> 25.8(4.6) | D41: =data!I978 -> 17.9 | E41: =data!J978 -> 98 | F41: =data!K978 -> 28.2(5.4) | G41: =data!L978 -> 19.1 | H41: =data!M978 -> 27 | I41: =data!N978 -> 15.4(7.7) | J41: =data!O978 -> 49.8
A43: 주 1) 오토바이 헬멧 착용률 : (오토바이를 탈 때 헬멧을 “항상 착용한다”에 응답한 사람의 수 / 오토바이 운전자 수) × 100
A44: 2) 교육수준 : 각 해당 교육 수준 기관의 졸업자 및 그 이상 학력의 재학, 수료, 중퇴, 휴학한 자를 포함
A45: 3) 기타 : 군인, 학생, 주부, 무직

Sheet <표>자동차또는오토바이운전자의연간음주운전경험률
A1: <표 38> 자동차 또는 오토바이 운전자의 연간 음주운전 경험률1)
A2: (단위: %)
A3: 구분 | B3: 전체 | E3: 남자 | H3: 여자
B4: N | C4: %(표준오차) | D4: 상대표준오차 | E4: N | F4: %(표준오차) | G4: 상대표준오차 | H4: N | I4: %(표준오차) | J4: 상대표준오차
A5: 전체 | B5: =data!G979 -> 448 | C5: =data!H979 -> 16.0(2.1) | D5: =data!I979 -> 12.9 | E5: =data!J979 -> 315 | F5: =data!K979 -> 19.0(2.4) | G5: =data!L979 -> 12.7 | H5: =data!M979 -> 133 | I5: =data!N979 -> 8.0(3.8) | J5: =data!O979 -> 47.1
A6: 연령
A7: 19-29 | B7: =data!G981 -> 14 | C7: =data!H981 -> -(-) | D7: =data!I981 -> - | E7: =data!J981 -> 10 | F7: =data!K981 -> -(-) | G7: =data!L981 -> - | H7: =data!M981 -> 4 | I7: =data!N981 -> -(-) | J7: =data!O981 -> -
A8: 30-39 | B8: =data!G982 -> 15 | C8: =data!H982 -> -(-) | D8: =data!I982 -> - | E8: =data!J982 -> 9 | F8: =data!K982 -> -(-) | G8: =data!L982 -> - | H8: =data!M982 -> 6 | I8: =data!N982 -> -(-) | J8: =data!O982 -> -
A9: 40-49 | B9: =data!G983 -> 55 | C9: =data!H983 -> 20.6(6.3) | D9: =data!I983 -> 30.4 | E9: =data!J983 -> 30 | F9: =data!K983 -> 23.3(7.6) | G9: =data!L983 -> 32.7 | H9: =data!M983 -> 25 | I9: =data!N983 -> 14.2(8.1) | J9: =data!O983 -> 57.2
A10: 50-59 | B10: =data!G984 -> 115 | C10: =data!H984 -> 24.3(3.5) | D10: =data!I984 -> 14.4 | E10: =data!J984 -> 69 | F10: =data!K984 -> 31.8(4.9) | G10: =data!L984 -> 15.3 | H10: =data!M984 -> 46 | I10: =data!N984 -> 7.3(4.5) | J10: =data!O984 -> 61.6
A11: 60-69 | B11: =data!G985 -> 150 | C11: =data!H985 -> 12.3(2.9) | D11: =data!I985 -> 23.8 | E11: =data!J985 -> 113 | F11: =data!K985 -> 15.9(3.7) | G11: =data!L985 -> 23.1 | H11: =data!M985 -> 37 | I11: =data!N985 -> 0.0(0.0) | J11: =data!O985 -> .
A12: 70 이상 | B12: =data!G986 -> 99 | C12: =data!H986 -> 14.0(4.3) | D12: =data!I986 -> 30.9 | E12: =data!J986 -> 84 | F12: =data!K986 -> 14.1(4.1) | G12: =data!L986 -> 29.0 | H12: =data!M986 -> 15 | I12: =data!N986 -> -(-) | J12: =data!O986 -> -
A14: 19-64 | B14: =data!G988 -> 283 | C14: =data!H988 -> 17.5(2.4) | D14: =data!I988 -> 13.9 | E14: =data!J988 -> 181 | F14: =data!K988 -> 21.5(3.1) | G14: =data!L988 -> 14.4 | H14: =data!M988 -> 102 | I14: =data!N988 -> 8.3(3.7) | J14: =data!O988 -> 44.8
A15: 65 이상 | B15: =data!G989 -> 165 | C15: =data!H989 -> 11.5(3.0) | D15: =data!I989 -> 26.5 | E15: =data!J989 -> 134 | F15: =data!K989 -> 12.4(3.0) | G15: =data!L989 -> 24.4 | H15: =data!M989 -> 31 | I15: =data!N989 -> 6.9(6.6) | J15: =data!O989 -> 95.7
A16: 교육수준2)
A17: 무학 | B17: =data!G991 -> 9 | C17: =data!H991 -> -(-) | D17: =data!I991 -> - | E17: =data!J991 -> 4 | F17: =data!K991 -> -(-) | G17: =data!L991 -> - | H17: =data!M991 -> 5 | I17: =data!N991 -> -(-) | J17: =data!O991 -> -
A18: 초등학교 | B18: =data!G992 -> 82 | C18: =data!H992 -> 13.6(4.3) | D18: =data!I992 -> 31.9 | E18: =data!J992 -> 57 | F18: =data!K992 -> 14.2(4.5) | G18: =data!L992 -> 31.9 | H18: =data!M992 -> 25 | I18: =data!N992 -> 12.2(8.5) | J18: =data!O992 -> 69.9
A19: 중학교 | B19: =data!G993 -> 101 | C19: =data!H993 -> 17.1(3.6) | D19: =data!I993 -> 21.0 | E19: =data!J993 -> 76 | F19: =data!K993 -> 21.8(4.6) | G19: =data!L993 -> 21.2 | H19: =data!M993 -> 25 | I19: =data!N993 -> 0.0(0.0) | J19: =data!O993 -> .
A20: 고등학교 | B20: =data!G994 -> 178 | C20: =data!H994 -> 18.3(3.2) | D20: =data!I994 -> 17.3 | E20: =data!J994 -> 128 | F20: =data!K994 -> 23.4(3.9) | G20: =data!L994 -> 16.8 | H20: =data!M994 -> 50 | I20: =data!N994 -> 1.4(1.4) | J20: =data!O994 -> 101.0
A21: 대학교 이상 | B21: =data!G995 -> 78 | C21: =data!H995 -> 13.3(5.5) | D21: =data!I995 -> 41.6 | E21: =data!J995 -> 50 | F21: =data!K995 -> 9.7(4.4) | G21: =data!L995 -> 45.6 | H21: =data!M995 -> 28 | I21: =data!N995 -> 20.0(9.8) | J21: =data!O995 -> 49.3
A22: 직업
A23: 전문행정관리 | B23: =data!G997 -> 22 | C23: =data!H997 -> 14.6(7.1) | D23: =data!I997 -> 48.6 | E23: =data!J997 -> 15 | F23: =data!K997 -> -(-) | G23: =data!L997 -> - | H23: =data!M997 -> 7 | I23: =data!N997 -> -(-) | J23: =data!O997 -> -
A24: 사무직 | B24: =data!G998 -> 16 | C24: =data!H998 -> -(-) | D24: =data!I998 -> - | E24: =data!J998 -> 4 | F24: =data!K998 -> -(-) | G24: =data!L998 -> - | H24: =data!M998 -> 12 | I24: =data!N998 -> -(-) | J24: =data!O998 -> -
A25: 판매･서비스직 | B25: =data!G999 -> 50 | C25: =data!H999 -> 6.1(3.5) | D25: =data!I999 -> 57.8 | E25: =data!J999 -> 12 | F25: =data!K999 -> -(-) | G25: =data!L999 -> - | H25: =data!M999 -> 38 | I25: =data!N999 -> 4.9(3.6) | J25: =data!O999 -> 73.3
A26: 농림어업 | B26: =data!G1000 -> 189 | C26: =data!H1000 -> 21.2(3.8) | D26: =data!I1000 -> 17.8 | E26: =data!J1000 -> 155 | F26: =data!K1000 -> 23.4(4.3) | G26: =data!L1000 -> 18.3 | H26: =data!M1000 -> 34 | I26: =data!N1000 -> 7.6(5.4) | J26: =data!O1000 -> 71.0
A27: 기능단순노무직 | B27: =data!G1001 -> 99 | C27: =data!H1001 -> 19.2(4.0) | D27: =data!I1001 -> 20.8 | E27: =data!J1001 -> 76 | F27: =data!K1001 -> 22.5(4.8) | G27: =data!L1001 -> 21.2 | H27: =data!M1001 -> 23 | I27: =data!N1001 -> 4.1(4.1) | J27: =data!O1001 -> 99.7
A28: 기타3) | B28: =data!G1002 -> 72 | C28: =data!H1002 -> 4.6(2.8) | D28: =data!I1002 -> 60.9 | E28: =data!J1002 -> 53 | F28: =data!K1002 -> 6.1(3.7) | G28: =data!L1002 -> 60.7 | H28: =data!M1002 -> 19 | I28: =data!N1002 -> -(-) | J28: =data!O1002 -> -
A29: 월 가구소득
A30: 100만원 미만 | B30: =data!G1004 -> 93 | C30: =data!H1004 -> 19.2(4.8) | D30: =data!I1004 -> 24.8 | E30: =data!J1004 -> 75 | F30: =data!K1004 -> 21.6(5.6) | G30: =data!L1004 -> 25.8 | H30: =data!M1004 -> 18 | I30: =data!N1004 -> -(-) | J30: =data!O1004 -> -
A31: 100-200만원 미만 | B31: =data!G1005 -> 80 | C31: =data!H1005 -> 15.7(4.5) | D31: =data!I1005 -> 28.7 | E31: =data!J1005 -> 60 | F31: =data!K1005 -> 17.8(5.3) | G31: =data!L1005 -> 29.4 | H31: =data!M1005 -> 20 | I31: =data!N1005 -> 6.2(6.1) | J31: =data!O1005 -> 97.7
A32: 200-300만원 미만 | B32: =data!G1006 -> 67 | C32: =data!H1006 -> 11.4(4.8) | D32: =data!I1006 -> 42.0 | E32: =data!J1006 -> 42 | F32: =data!K1006 -> 13.5(6.6) | G32: =data!L1006 -> 48.9 | H32: =data!M1006 -> 25 | I32: =data!N1006 -> 7.2(5.1) | J32: =data!O1006 -> 71.1
A33: 300-400만원 미만 | B33: =data!G1007 -> 49 | C33: =data!H1007 -> 26.6(7.4) | D33: =data!I1007 -> 27.7 | E33: =data!J1007 -> 32 | F33: =data!K1007 -> 32.7(9.3) | G33: =data!L1007 -> 28.3 | H33: =data!M1007 -> 17 | I33: =data!N1007 -> -(-) | J33: =data!O1007 -> -
A34: 400만원 이상 | B34: =data!G1008 -> 159 | C34: =data!H1008 -> 13.8(2.9) | D34: =data!I1008 -> 20.8 | E34: =data!J1008 -> 106 | F34: =data!K1008 -> 16.9(3.3) | G34: =data!L1008 -> 19.8 | H34: =data!M1008 -> 53 | I34: =data!N1008 -> 6.9(4.5) | J34: =data!O1008 -> 64.7
A35: 작년 대비 가구소득 변화
A36: 줄어들었다 | B36: =data!G1010 -> 153 | C36: =data!H1010 -> 14.7(2.9) | D36: =data!I1010 -> 20.0 | E36: =data!J1010 -> 116 | F36: =data!K1010 -> 18.7(3.9) | G36: =data!L1010 -> 20.6 | H36: =data!M1010 -> 37 | I36: =data!N1010 -> 0.0(0.0) | J36: =data!O1010 -> .
A37: 변함없다 | B37: =data!G1011 -> 229 | C37: =data!H1011 -> 16.7(3.4) | D37: =data!I1011 -> 20.1 | E37: =data!J1011 -> 157 | F37: =data!K1011 -> 20.2(4.2) | G37: =data!L1011 -> 20.6 | H37: =data!M1011 -> 72 | I37: =data!N1011 -> 8.1(5.7) | J37: =data!O1011 -> 69.8
A38: 늘어났다 | B38: =data!G1012 -> 66 | C38: =data!H1012 -> 17.0(4.2) | D38: =data!I1012 -> 24.7 | E38: =data!J1012 -> 42 | F38: =data!K1012 -> 15.9(4.6) | G38: =data!L1012 -> 28.8 | H38: =data!M1012 -> 24 | I38: =data!N1012 -> 19.2(7.5) | J38: =data!O1012 -> 38.9
A39: 거주유형
A40: 동
A41: 읍〮면 | B41: =data!G1015 -> 448 | C41: =data!H1015 -> 16.0(2.1) | D41: =data!I1015 -> 12.9 | E41: =data!J1015 -> 315 | F41: =data!K1015 -> 19.0(2.4) | G41: =data!L1015 -> 12.7 | H41: =data!M1015 -> 133 | I41: =data!N1015 -> 8.0(3.8) | J41: =data!O1015 -> 47.1
A43: 주 1) 자동차 또는 오토바이 운전자의 연간 음주운전 경험률 : (최근 1년 동안 조금이라도 술을 마신 후 자동차 또는 오토바이를 운전한 적이 있는 사람의 수 / 자동차 또는 오토바이 운전자 수) × 100
A44: 2) 교육수준 : 각 해당 교육 수준 기관의 졸업자 및 그 이상 학력의 재학, 수료, 중퇴, 휴학한 자를 포함
A45: 3) 기타 : 군인, 학생, 주부, 무직

Sheet <표>개인형이동장치 헬멧 착용률
A1: <표 39> 개인형이동장치 헬멧 착용률1)
A2: (단위: %)
A3: 구분 | B3: 전체 | E3: 남자 | H3: 여자
B4: N | C4: %(표준오차) | D4: 상대표준오차 | E4: N | F4: %(표준오차) | G4: 상대표준오차 | H4: N | I4: %(표준오차) | J4: 상대표준오차
A5: 전체 | B5: =data!G1016 -> 36 | C5: =data!H1016 -> 9.6(5.6) | D5: =data!I1016 -> 58.2 | E5: =data!J1016 -> 11 | F5: =data!K1016 -> -(-) | G5: =data!L1016 -> - | H5: =data!M1016 -> 25 | I5: =data!N1016 -> 8.3(5.9) | J5: =data!O1016 -> 71.1
A6: 연령
A7: 19-29 | B7: =data!G1018 -> 1 | C7: =data!H1018 -> -(-) | D7: =data!I1018 -> - | E7: =data!J1018 -> 1 | F7: =data!K1018 -> -(-) | G7: =data!L1018 -> - | H7: =data!M1018 -> 0 | I7: =data!N1018 -> -(-) | J7: =data!O1018 -> -
A8: 30-39 | B8: =data!G1019 -> 0 | C8: =data!H1019 -> -(-) | D8: =data!I1019 -> - | E8: =data!J1019 -> 0 | F8: =data!K1019 -> -(-) | G8: =data!L1019 -> - | H8: =data!M1019 -> 0 | I8: =data!N1019 -> -(-) | J8: =data!O1019 -> -
A9: 40-49 | B9: =data!G1020 -> 0 | C9: =data!H1020 -> -(-) | D9: =data!I1020 -> - | E9: =data!J1020 -> 0 | F9: =data!K1020 -> -(-) | G9: =data!L1020 -> - | H9: =data!M1020 -> 0 | I9: =data!N1020 -> -(-) | J9: =data!O1020 -> -
A10: 50-59 | B10: =data!G1021 -> 3 | C10: =data!H1021 -> -(-) | D10: =data!I1021 -> - | E10: =data!J1021 -> 2 | F10: =data!K1021 -> -(-) | G10: =data!L1021 -> - | H10: =data!M1021 -> 1 | I10: =data!N1021 -> -(-) | J10: =data!O1021 -> -
A11: 60-69 | B11: =data!G1022 -> 12 | C11: =data!H1022 -> -(-) | D11: =data!I1022 -> - | E11: =data!J1022 -> 2 | F11: =data!K1022 -> -(-) | G11: =data!L1022 -> - | H11: =data!M1022 -> 10 | I11: =data!N1022 -> -(-) | J11: =data!O1022 -> -
A12: 70 이상 | B12: =data!G1023 -> 20 | C12: =data!H1023 -> 5.2(4.7) | D12: =data!I1023 -> 89.5 | E12: =data!J1023 -> 6 | F12: =data!K1023 -> -(-) | G12: =data!L1023 -> - | H12: =data!M1023 -> 14 | I12: =data!N1023 -> -(-) | J12: =data!O1023 -> -
A14: 19-64 | B14: =data!G1025 -> 6 | C14: =data!H1025 -> -(-) | D14: =data!I1025 -> - | E14: =data!J1025 -> 4 | F14: =data!K1025 -> -(-) | G14: =data!L1025 -> - | H14: =data!M1025 -> 2 | I14: =data!N1025 -> -(-) | J14: =data!O1025 -> -
A15: 65 이상 | B15: =data!G1026 -> 30 | C15: =data!H1026 -> 6.9(4.7) | D15: =data!I1026 -> 68.3 | E15: =data!J1026 -> 7 | F15: =data!K1026 -> -(-) | G15: =data!L1026 -> - | H15: =data!M1026 -> 23 | I15: =data!N1026 -> 9.1(6.5) | J15: =data!O1026 -> 71.3
A16: 교육수준2)
A17: 무학 | B17: =data!G1028 -> 8 | C17: =data!H1028 -> -(-) | D17: =data!I1028 -> - | E17: =data!J1028 -> 1 | F17: =data!K1028 -> -(-) | G17: =data!L1028 -> - | H17: =data!M1028 -> 7 | I17: =data!N1028 -> -(-) | J17: =data!O1028 -> -
A18: 초등학교 | B18: =data!G1029 -> 18 | C18: =data!H1029 -> -(-) | D18: =data!I1029 -> - | E18: =data!J1029 -> 5 | F18: =data!K1029 -> -(-) | G18: =data!L1029 -> - | H18: =data!M1029 -> 13 | I18: =data!N1029 -> -(-) | J18: =data!O1029 -> -
A19: 중학교 | B19: =data!G1030 -> 8 | C19: =data!H1030 -> -(-) | D19: =data!I1030 -> - | E19: =data!J1030 -> 3 | F19: =data!K1030 -> -(-) | G19: =data!L1030 -> - | H19: =data!M1030 -> 5 | I19: =data!N1030 -> -(-) | J19: =data!O1030 -> -
A20: 고등학교 | B20: =data!G1031 -> 2 | C20: =data!H1031 -> -(-) | D20: =data!I1031 -> - | E20: =data!J1031 -> 2 | F20: =data!K1031 -> -(-) | G20: =data!L1031 -> - | H20: =data!M1031 -> 0 | I20: =data!N1031 -> -(-) | J20: =data!O1031 -> -
A21: 대학교 이상 | B21: =data!G1032 -> 0 | C21: =data!H1032 -> -(-) | D21: =data!I1032 -> - | E21: =data!J1032 -> 0 | F21: =data!K1032 -> -(-) | G21: =data!L1032 -> - | H21: =data!M1032 -> 0 | I21: =data!N1032 -> -(-) | J21: =data!O1032 -> -
A22: 직업
A23: 전문행정관리 | B23: =data!G1034 -> 0 | C23: =data!H1034 -> -(-) | D23: =data!I1034 -> - | E23: =data!J1034 -> 0 | F23: =data!K1034 -> -(-) | G23: =data!L1034 -> - | H23: =data!M1034 -> 0 | I23: =data!N1034 -> -(-) | J23: =data!O1034 -> -
A24: 사무직 | B24: =data!G1035 -> 0 | C24: =data!H1035 -> -(-) | D24: =data!I1035 -> - | E24: =data!J1035 -> 0 | F24: =data!K1035 -> -(-) | G24: =data!L1035 -> - | H24: =data!M1035 -> 0 | I24: =data!N1035 -> -(-) | J24: =data!O1035 -> -
A25: 판매･서비스직 | B25: =data!G1036 -> 0 | C25: =data!H1036 -> -(-) | D25: =data!I1036 -> - | E25: =data!J1036 -> 0 | F25: =data!K1036 -> -(-) | G25: =data!L1036 -> - | H25: =data!M1036 -> 0 | I25: =data!N1036 -> -(-) | J25: =data!O1036 -> -
A26: 농림어업 | B26: =data!G1037 -> 22 | C26: =data!H1037 -> 12.8(8.9) | D26: =data!I1037 -> 69.5 | E26: =data!J1037 -> 6 | F26: =data!K1037 -> -(-) | G26: =data!L1037 -> - | H26: =data!M1037 -> 16 | I26: =data!N1037 -> -(-) | J26: =data!O1037 -> -
A27: 기능단순노무직 | B27: =data!G1038 -> 7 | C27: =data!H1038 -> -(-) | D27: =data!I1038 -> - | E27: =data!J1038 -> 1 | F27: =data!K1038 -> -(-) | G27: =data!L1038 -> - | H27: =data!M1038 -> 6 | I27: =data!N1038 -> -(-) | J27: =data!O1038 -> -
A28: 기타3) | B28: =data!G1039 -> 7 | C28: =data!H1039 -> -(-) | D28: =data!I1039 -> - | E28: =data!J1039 -> 4 | F28: =data!K1039 -> -(-) | G28: =data!L1039 -> - | H28: =data!M1039 -> 3 | I28: =data!N1039 -> -(-) | J28: =data!O1039 -> -
A29: 월 가구소득
A30: 100만원 미만 | B30: =data!G1041 -> 19 | C30: =data!H1041 -> -(-) | D30: =data!I1041 -> - | E30: =data!J1041 -> 6 | F30: =data!K1041 -> -(-) | G30: =data!L1041 -> - | H30: =data!M1041 -> 13 | I30: =data!N1041 -> -(-) | J30: =data!O1041 -> -
A31: 100-200만원 미만 | B31: =data!G1042 -> 10 | C31: =data!H1042 -> -(-) | D31: =data!I1042 -> - | E31: =data!J1042 -> 2 | F31: =data!K1042 -> -(-) | G31: =data!L1042 -> - | H31: =data!M1042 -> 8 | I31: =data!N1042 -> -(-) | J31: =data!O1042 -> -
A32: 200-300만원 미만 | B32: =data!G1043 -> 5 | C32: =data!H1043 -> -(-) | D32: =data!I1043 -> - | E32: =data!J1043 -> 2 | F32: =data!K1043 -> -(-) | G32: =data!L1043 -> - | H32: =data!M1043 -> 3 | I32: =data!N1043 -> -(-) | J32: =data!O1043 -> -
A33: 300-400만원 미만 | B33: =data!G1044 -> 1 | C33: =data!H1044 -> -(-) | D33: =data!I1044 -> - | E33: =data!J1044 -> 0 | F33: =data!K1044 -> -(-) | G33: =data!L1044 -> - | H33: =data!M1044 -> 1 | I33: =data!N1044 -> -(-) | J33: =data!O1044 -> -
A34: 400만원 이상 | B34: =data!G1045 -> 1 | C34: =data!H1045 -> -(-) | D34: =data!I1045 -> - | E34: =data!J1045 -> 1 | F34: =data!K1045 -> -(-) | G34: =data!L1045 -> - | H34: =data!M1045 -> 0 | I34: =data!N1045 -> -(-) | J34: =data!O1045 -> -
A35: 작년 대비 가구소득 변화
A36: 줄어들었다 | B36: =data!G1047 -> 12 | C36: =data!H1047 -> -(-) | D36: =data!I1047 -> - | E36: =data!J1047 -> 4 | F36: =data!K1047 -> -(-) | G36: =data!L1047 -> - | H36: =data!M1047 -> 8 | I36: =data!N1047 -> -(-) | J36: =data!O1047 -> -
A37: 변함없다 | B37: =data!G1048 -> 22 | C37: =data!H1048 -> 16.9(9.3) | D37: =data!I1048 -> 54.8 | E37: =data!J1048 -> 6 | F37: =data!K1048 -> -(-) | G37: =data!L1048 -> - | H37: =data!M1048 -> 16 | I37: =data!N1048 -> -(-) | J37: =data!O1048 -> -
A38: 늘어났다 | B38: =data!G1049 -> 2 | C38: =data!H1049 -> -(-) | D38: =data!I1049 -> - | E38: =data!J1049 -> 1 | F38: =data!K1049 -> -(-) | G38: =data!L1049 -> - | H38: =data!M1049 -> 1 | I38: =data!N1049 -> -(-) | J38: =data!O1049 -> -
A39: 거주유형
A40: 동
A41: 읍〮면 | B41: =data!G1052 -> 36 | C41: =data!H1052 -> 9.6(5.6) | D41: =data!I1052 -> 58.2 | E41: =data!J1052 -> 11 | F41: =data!K1052 -> -(-) | G41: =data!L1052 -> - | H41: =data!M1052 -> 25 | I41: =data!N1052 -> 8.3(5.9) | J41: =data!O1052 -> 71.1
A43: 주 1) 개인형이동장치 헬멧 착용률 : (개인형 이동장치를 탈 때 헬멧을 “항상 착용한다”에 응답한 사람의 수 / 개인형 이동장치 운전자 수) × 100
A44: 2) 교육수준 : 각 해당 교육 수준 기관의 졸업자 및 그 이상 학력의 재학, 수료, 중퇴, 휴학한 자를 포함
A45: 3) 기타 : 군인, 학생, 주부, 무직

Sheet <표>격렬한신체활동실천율
A1: <표 40> 격렬한 신체활동 실천율1)
A2: (단위: %)
A3: 구분 | B3: 전체 | E3: 남자 | H3: 여자
B4: N | C4: %(표준오차) | D4: 상대표준오차 | E4: N | F4: %(표준오차) | G4: 상대표준오차 | H4: N | I4: %(표준오차) | J4: 상대표준오차
A5: 전체 | B5: =data!G1053 -> 884 | C5: =data!H1053 -> 16.1(1.4) | D5: =data!I1053 -> 8.7 | E5: =data!J1053 -> 408 | F5: =data!K1053 -> 16.7(1.9) | G5: =data!L1053 -> 11.6 | H5: =data!M1053 -> 476 | I5: =data!N1053 -> 15.4(1.6) | J5: =data!O1053 -> 10.3
A6: 연령
A7: 19-29 | B7: =data!G1055 -> 19 | C7: =data!H1055 -> -(-) | D7: =data!I1055 -> - | E7: =data!J1055 -> 13 | F7: =data!K1055 -> -(-) | G7: =data!L1055 -> - | H7: =data!M1055 -> 6 | I7: =data!N1055 -> -(-) | J7: =data!O1055 -> -
A8: 30-39 | B8: =data!G1056 -> 19 | C8: =data!H1056 -> -(-) | D8: =data!I1056 -> - | E8: =data!J1056 -> 10 | F8: =data!K1056 -> -(-) | G8: =data!L1056 -> - | H8: =data!M1056 -> 9 | I8: =data!N1056 -> -(-) | J8: =data!O1056 -> -
A9: 40-49 | B9: =data!G1057 -> 59 | C9: =data!H1057 -> 17.4(5.1) | D9: =data!I1057 -> 29.4 | E9: =data!J1057 -> 30 | F9: =data!K1057 -> 23.3(7.4) | G9: =data!L1057 -> 31.5 | H9: =data!M1057 -> 29 | I9: =data!N1057 -> 5.7(3.5) | J9: =data!O1057 -> 61.2
A10: 50-59 | B10: =data!G1058 -> 149 | C10: =data!H1058 -> 15.5(3.1) | D10: =data!I1058 -> 19.9 | E10: =data!J1058 -> 78 | F10: =data!K1058 -> 14.9(4.0) | G10: =data!L1058 -> 26.6 | H10: =data!M1058 -> 71 | I10: =data!N1058 -> 16.5(4.0) | J10: =data!O1058 -> 24.0
A11: 60-69 | B11: =data!G1059 -> 239 | C11: =data!H1059 -> 18.8(2.8) | D11: =data!I1059 -> 14.9 | E11: =data!J1059 -> 124 | F11: =data!K1059 -> 19.0(3.9) | G11: =data!L1059 -> 20.7 | H11: =data!M1059 -> 115 | I11: =data!N1059 -> 18.7(3.2) | J11: =data!O1059 -> 17.4
A12: 70 이상 | B12: =data!G1060 -> 399 | C12: =data!H1060 -> 11.7(1.7) | D12: =data!I1060 -> 14.6 | E12: =data!J1060 -> 153 | F12: =data!K1060 -> 9.6(2.7) | G12: =data!L1060 -> 28.5 | H12: =data!M1060 -> 246 | I12: =data!N1060 -> 13.1(2.0) | J12: =data!O1060 -> 15.5
A14: 19-64 | B14: =data!G1062 -> 370 | C14: =data!H1062 -> 18.8(2.3) | D14: =data!I1062 -> 12.4 | E14: =data!J1062 -> 199 | F14: =data!K1062 -> 19.5(2.6) | G14: =data!L1062 -> 13.4 | H14: =data!M1062 -> 171 | I14: =data!N1062 -> 17.5(3.4) | J14: =data!O1062 -> 19.1
A15: 65 이상 | B15: =data!G1063 -> 514 | C15: =data!H1063 -> 12.6(1.7) | D15: =data!I1063 -> 13.8 | E15: =data!J1063 -> 209 | F15: =data!K1063 -> 11.4(2.9) | G15: =data!L1063 -> 25.4 | H15: =data!M1063 -> 305 | I15: =data!N1063 -> 13.5(1.8) | J15: =data!O1063 -> 13.7
A16: 교육수준2)
A17: 무학 | B17: =data!G1065 -> 169 | C17: =data!H1065 -> 15.0(3.2) | D17: =data!I1065 -> 21.2 | E17: =data!J1065 -> 10 | F17: =data!K1065 -> -(-) | G17: =data!L1065 -> - | H17: =data!M1065 -> 159 | I17: =data!N1065 -> 15.7(3.3) | J17: =data!O1065 -> 21.0
A18: 초등학교 | B18: =data!G1066 -> 239 | C18: =data!H1066 -> 12.5(2.5) | D18: =data!I1066 -> 20.3 | E18: =data!J1066 -> 103 | F18: =data!K1066 -> 11.9(4.0) | G18: =data!L1066 -> 34.0 | H18: =data!M1066 -> 136 | I18: =data!N1066 -> 12.9(3.0) | J18: =data!O1066 -> 23.3
A19: 중학교 | B19: =data!G1067 -> 165 | C19: =data!H1067 -> 22.1(3.9) | D19: =data!I1067 -> 17.7 | E19: =data!J1067 -> 90 | F19: =data!K1067 -> 19.1(5.1) | G19: =data!L1067 -> 26.9 | H19: =data!M1067 -> 75 | I19: =data!N1067 -> 26.3(5.4) | J19: =data!O1067 -> 20.6
A20: 고등학교 | B20: =data!G1068 -> 225 | C20: =data!H1068 -> 16.1(3.3) | D20: =data!I1068 -> 20.7 | E20: =data!J1068 -> 150 | F20: =data!K1068 -> 18.9(3.6) | G20: =data!L1068 -> 19.2 | H20: =data!M1068 -> 75 | I20: =data!N1068 -> 9.3(5.5) | J20: =data!O1068 -> 59.3
A21: 대학교 이상 | B21: =data!G1069 -> 86 | C21: =data!H1069 -> 15.4(4.5) | D21: =data!I1069 -> 29.3 | E21: =data!J1069 -> 55 | F21: =data!K1069 -> 14.5(5.3) | G21: =data!L1069 -> 36.6 | H21: =data!M1069 -> 31 | I21: =data!N1069 -> 17.2(9.2) | J21: =data!O1069 -> 53.3
A22: 직업
A23: 전문행정관리 | B23: =data!G1071 -> 26 | C23: =data!H1071 -> 32.3(11.8) | D23: =data!I1071 -> 36.5 | E23: =data!J1071 -> 17 | F23: =data!K1071 -> -(-) | G23: =data!L1071 -> - | H23: =data!M1071 -> 9 | I23: =data!N1071 -> -(-) | J23: =data!O1071 -> -
A24: 사무직 | B24: =data!G1072 -> 19 | C24: =data!H1072 -> -(-) | D24: =data!I1072 -> - | E24: =data!J1072 -> 5 | F24: =data!K1072 -> -(-) | G24: =data!L1072 -> - | H24: =data!M1072 -> 14 | I24: =data!N1072 -> -(-) | J24: =data!O1072 -> -
A25: 판매･서비스직 | B25: =data!G1073 -> 71 | C25: =data!H1073 -> 15.1(5.6) | D25: =data!I1073 -> 37.0 | E25: =data!J1073 -> 15 | F25: =data!K1073 -> -(-) | G25: =data!L1073 -> - | H25: =data!M1073 -> 56 | I25: =data!N1073 -> 17.2(7.2) | J25: =data!O1073 -> 41.8
A26: 농림어업 | B26: =data!G1074 -> 344 | C26: =data!H1074 -> 16.4(2.4) | D26: =data!I1074 -> 14.8 | E26: =data!J1074 -> 181 | F26: =data!K1074 -> 14.1(2.9) | G26: =data!L1074 -> 20.5 | H26: =data!M1074 -> 163 | I26: =data!N1074 -> 20.4(3.3) | J26: =data!O1074 -> 16.2
A27: 기능단순노무직 | B27: =data!G1075 -> 164 | C27: =data!H1075 -> 24.2(4.0) | D27: =data!I1075 -> 16.6 | E27: =data!J1075 -> 81 | F27: =data!K1075 -> 24.3(5.2) | G27: =data!L1075 -> 21.4 | H27: =data!M1075 -> 83 | I27: =data!N1075 -> 24.1(5.4) | J27: =data!O1075 -> 22.3
A28: 기타3) | B28: =data!G1076 -> 260 | C28: =data!H1076 -> 5.9(1.5) | D28: =data!I1076 -> 25.6 | E28: =data!J1076 -> 109 | F28: =data!K1076 -> 7.1(2.5) | G28: =data!L1076 -> 34.7 | H28: =data!M1076 -> 151 | I28: =data!N1076 -> 4.9(1.7) | J28: =data!O1076 -> 35.3
A29: 월 가구소득
A30: 100만원 미만 | B30: =data!G1078 -> 315 | C30: =data!H1078 -> 8.5(1.9) | D30: =data!I1078 -> 21.9 | E30: =data!J1078 -> 120 | F30: =data!K1078 -> 8.4(2.8) | G30: =data!L1078 -> 33.6 | H30: =data!M1078 -> 195 | I30: =data!N1078 -> 8.7(2.0) | J30: =data!O1078 -> 23.7
A31: 100-200만원 미만 | B31: =data!G1079 -> 185 | C31: =data!H1079 -> 14.8(3.4) | D31: =data!I1079 -> 22.8 | E31: =data!J1079 -> 86 | F31: =data!K1079 -> 16.3(5.5) | G31: =data!L1079 -> 34.1 | H31: =data!M1079 -> 99 | I31: =data!N1079 -> 13.0(3.3) | J31: =data!O1079 -> 25.4
A32: 200-300만원 미만 | B32: =data!G1080 -> 101 | C32: =data!H1080 -> 15.8(3.7) | D32: =data!I1080 -> 23.3 | E32: =data!J1080 -> 51 | F32: =data!K1080 -> 13.8(4.9) | G32: =data!L1080 -> 35.8 | H32: =data!M1080 -> 50 | I32: =data!N1080 -> 18.5(5.7) | J32: =data!O1080 -> 30.6
A33: 300-400만원 미만 | B33: =data!G1081 -> 72 | C33: =data!H1081 -> 10.1(3.7) | D33: =data!I1081 -> 37.0 | E33: =data!J1081 -> 35 | F33: =data!K1081 -> 9.6(5.2) | G33: =data!L1081 -> 54.4 | H33: =data!M1081 -> 37 | I33: =data!N1081 -> 10.7(4.1) | J33: =data!O1081 -> 38.0
A34: 400만원 이상 | B34: =data!G1082 -> 211 | C34: =data!H1082 -> 26.5(4.1) | D34: =data!I1082 -> 15.5 | E34: =data!J1082 -> 116 | F34: =data!K1082 -> 26.0(4.3) | G34: =data!L1082 -> 16.6 | H34: =data!M1082 -> 95 | I34: =data!N1082 -> 27.3(6.1) | J34: =data!O1082 -> 22.5
A35: 작년 대비 가구소득 변화
A36: 줄어들었다 | B36: =data!G1084 -> 260 | C36: =data!H1084 -> 16.5(3.1) | D36: =data!I1084 -> 19.0 | E36: =data!J1084 -> 134 | F36: =data!K1084 -> 14.3(3.2) | G36: =data!L1084 -> 22.7 | H36: =data!M1084 -> 126 | I36: =data!N1084 -> 19.8(4.4) | J36: =data!O1084 -> 22.2
A37: 변함없다 | B37: =data!G1085 -> 530 | C37: =data!H1085 -> 11.8(1.6) | D37: =data!I1085 -> 13.7 | E37: =data!J1085 -> 228 | F37: =data!K1085 -> 13.7(2.6) | G37: =data!L1085 -> 19.0 | H37: =data!M1085 -> 302 | I37: =data!N1085 -> 9.9(1.7) | J37: =data!O1085 -> 16.9
A38: 늘어났다 | B38: =data!G1086 -> 94 | C38: =data!H1086 -> 34.0(7.0) | D38: =data!I1086 -> 20.4 | E38: =data!J1086 -> 46 | F38: =data!K1086 -> 34.6(8.5) | G38: =data!L1086 -> 24.7 | H38: =data!M1086 -> 48 | I38: =data!N1086 -> 33.4(8.4) | J38: =data!O1086 -> 25.1
A39: 거주유형
A40: 동
A41: 읍〮면 | B41: =data!G1089 -> 884 | C41: =data!H1089 -> 16.1(1.4) | D41: =data!I1089 -> 8.7 | E41: =data!J1089 -> 408 | F41: =data!K1089 -> 16.7(1.9) | G41: =data!L1089 -> 11.6 | H41: =data!M1089 -> 476 | I41: =data!N1089 -> 15.4(1.6) | J41: =data!O1089 -> 10.3
A43: 주 1) 격렬한 신체활동 실천율 : (최근 1주일 동안 격렬한 신체활동을 1일 20분 이상 주 3일 이상 실천한 사람의 수 / 조사대상 응답자 수) × 100
A44: 2) 교육수준 : 각 해당 교육 수준 기관의 졸업자 및 그 이상 학력의 재학, 수료, 중퇴, 휴학한 자를 포함
A45: 3) 기타 : 군인, 학생, 주부, 무직

Sheet <표>중등도신체활동실천율
A1: <표 41> 중등도 신체활동 실천율1)
A2: (단위: %)
A3: 구분 | B3: 전체 | E3: 남자 | H3: 여자
B4: N | C4: %(표준오차) | D4: 상대표준오차 | E4: N | F4: %(표준오차) | G4: 상대표준오차 | H4: N | I4: %(표준오차) | J4: 상대표준오차
