Workbook

Sheet data
A1: type | B1: obs | C1: table_n | D1: kor_var | E1: bogun_cd | F1: class_nm | G1: n0 | H1: m_se0 | I1: rse0 | J1: n1 | K1: m_se1 | L1: rse1 | M1: n2 | N1: m_se2 | O1: rse2 | P1: N | Q1: M_SE | R1: rse
A2: type1 | B2: 5 | D2: 평생흡연율 | E2: 36700177 | F2: 전체 | G2: 884 | H2: 38.4(1.8) | I2: 4.6 | J2: 408 | K2: 69.2(3.1) | L2: 4.5 | M2: 476 | N2: 2.5(0.8) | O2: 32.7
A3: type1 | B3: 5 | D3: 평생흡연율 | E3: 36700177 | F3: 연령
A4: type1 | B4: 5 | D4: 평생흡연율 | E4: 36700177 | F4: 19-29 | G4: 19 | H4: -(-) | I4: - | J4: 13 | K4: -(-) | L4: - | M4: 6 | N4: -(-) | O4: -
A5: type1 | B5: 5 | D5: 평생흡연율 | E5: 36700177 | F5: 30-39 | G5: 19 | H5: -(-) | I5: - | J5: 10 | K5: -(-) | L5: - | M5: 9 | N5: -(-) | O5: -
A6: type1 | B6: 5 | D6: 평생흡연율 | E6: 36700177 | F6: 40-49 | G6: 59 | H6: 58.2(6.6) | I6: 11.3 | J6: 30 | K6: 83.3(6.9) | L6: 8.3 | M6: 29 | N6: 8.3(5.6) | O6: 67.2
A7: type1 | B7: 5 | D7: 평생흡연율 | E7: 36700177 | F7: 50-59 | G7: 149 | H7: 53.2(3.9) | I7: 7.3 | J7: 78 | K7: 84.0(4.0) | L7: 4.8 | M7: 71 | N7: 2.8(2.0) | O7: 69.8
A8: type1 | B8: 5 | D8: 평생흡연율 | E8: 36700177 | F8: 60-69 | G8: 239 | H8: 39.9(3.3) | I8: 8.4 | J8: 124 | K8: 68.7(4.4) | L8: 6.4 | M8: 115 | N8: 4.8(1.8) | O8: 37.2
A9: type1 | B9: 5 | D9: 평생흡연율 | E9: 36700177 | F9: 70이상 | G9: 399 | H9: 30.5(2.2) | I9: 7.2 | J9: 153 | K9: 73.1(3.4) | L9: 4.6 | M9: 246 | N9: 0.8(0.5) | O9: 58.0
A10: type1 | B10: 5 | D10: 평생흡연율 | E10: 36700177
A11: type1 | B11: 5 | D11: 평생흡연율 | E11: 36700177 | F11: 19-64 | G11: 370 | H11: 43.3(2.7) | I11: 6.3 | J11: 199 | K11: 67.7(4.4) | L11: 6.5 | M11: 171 | N11: 3.5(1.5) | O11: 43.6
A12: type1 | B12: 5 | D12: 평생흡연율 | E12: 36700177 | F12: 65이상 | G12: 514 | H12: 32.2(1.9) | I12: 6.0 | J12: 209 | K12: 72.1(3.1) | L12: 4.2 | M12: 305 | N12: 1.6(0.7) | O12: 47.2
A13: type1 | B13: 5 | D13: 평생흡연율 | E13: 36700177 | F13: 교육수준
A14: type1 | B14: 5 | D14: 평생흡연율 | E14: 36700177 | F14: 1. 무학 | G14: 169 | H14: 5.2(2.3) | I14: 43.6 | J14: 10 | K14: -(-) | L14: - | M14: 159 | N14: 1.7(1.3) | O14: 75.0
A15: type1 | B15: 5 | D15: 평생흡연율 | E15: 36700177 | F15: 2. 초등학교 | G15: 239 | H15: 31.6(2.8) | I15: 8.8 | J15: 103 | K15: 68.2(4.4) | L15: 6.5 | M15: 136 | N15: 1.3(0.9) | O15: 70.8
A16: type1 | B16: 5 | D16: 평생흡연율 | E16: 36700177 | F16: 3. 중학교 | G16: 165 | H16: 48.3(3.8) | I16: 7.9 | J16: 90 | K16: 79.7(4.8) | L16: 6.1 | M16: 75 | N16: 3.7(2.0) | O16: 54.6
A17: type1 | B17: 5 | D17: 평생흡연율 | E17: 36700177 | F17: 4. 고등학교 | G17: 225 | H17: 51.6(4.1) | I17: 8.0 | J17: 150 | K17: 71.1(5.3) | L17: 7.4 | M17: 75 | N17: 4.1(2.4) | O17: 57.1
A18: type1 | B18: 5 | D18: 평생흡연율 | E18: 36700177 | F18: 5. 대학교이상 | G18: 86 | H18: 38.9(5.9) | I18: 15.1 | J18: 55 | K18: 57.7(9.6) | L18: 16.6 | M18: 31 | N18: 2.1(2.2) | O18: 102.7
A19: type1 | B19: 5 | D19: 평생흡연율 | E19: 36700177 | F19: 직업
A20: type1 | B20: 5 | D20: 평생흡연율 | E20: 36700177 | F20: 1. 전문행정관리 | G20: 26 | H20: 27.2(8.5) | I20: 31.3 | J20: 17 | K20: -(-) | L20: - | M20: 9 | N20: -(-) | O20: -
A21: type1 | B21: 5 | D21: 평생흡연율 | E21: 36700177 | F21: 2. 사무직 | G21: 19 | H21: -(-) | I21: - | J21: 5 | K21: -(-) | L21: - | M21: 14 | N21: -(-) | O21: -
A22: type1 | B22: 5 | D22: 평생흡연율 | E22: 36700177 | F22: 3. 판매서비스직 | G22: 71 | H22: 18.1(4.9) | I22: 27.1 | J22: 15 | K22: -(-) | L22: - | M22: 56 | N22: 7.2(3.7) | O22: 50.8
A23: type1 | B23: 5 | D23: 평생흡연율 | E23: 36700177 | F23: 4. 농림어업 | G23: 344 | H23: 43.8(3.0) | I23: 6.9 | J23: 181 | K23: 69.8(4.3) | L23: 6.2 | M23: 163 | N23: 0.6(0.6) | O23: 99.7
A24: type1 | B24: 5 | D24: 평생흡연율 | E24: 36700177 | F24: 5. 기능단순노무직 | G24: 164 | H24: 52.3(3.9) | I24: 7.5 | J24: 81 | K24: 82.2(4.5) | L24: 5.5 | M24: 83 | N24: 2.0(1.2) | O24: 58.6
A25: type1 | B25: 5 | D25: 평생흡연율 | E25: 36700177 | F25: 6. 기타 | G25: 260 | H25: 30.9(2.8) | I25: 9.0 | J25: 109 | K25: 64.8(5.4) | L25: 8.3 | M25: 151 | N25: 2.2(1.1) | O25: 47.6
A26: type1 | B26: 5 | D26: 평생흡연율 | E26: 36700177 | F26: 월가구소득
A27: type1 | B27: 5 | D27: 평생흡연율 | E27: 36700177 | F27: 1. 100만원미만 | G27: 315 | H27: 33.8(3.9) | I27: 11.5 | J27: 120 | K27: 73.6(5.6) | L27: 7.6 | M27: 195 | N27: 1.8(0.9) | O27: 49.2
A28: type1 | B28: 5 | D28: 평생흡연율 | E28: 36700177 | F28: 2. 100-200만원미만 | G28: 185 | H28: 37.5(4.0) | I28: 10.7 | J28: 86 | K28: 64.0(7.6) | L28: 11.8 | M28: 99 | N28: 3.8(1.8) | O28: 48.1
A29: type1 | B29: 5 | D29: 평생흡연율 | E29: 36700177 | F29: 3. 200-300만원미만 | G29: 101 | H29: 43.7(4.6) | I29: 10.6 | J29: 51 | K29: 75.3(6.3) | L29: 8.4 | M29: 50 | N29: 0.0(0.0) | O29: .
A30: type1 | B30: 5 | D30: 평생흡연율 | E30: 36700177 | F30: 4. 300-400만원미만 | G30: 72 | H30: 41.2(5.7) | I30: 13.8 | J30: 35 | K30: 76.5(7.3) | L30: 9.5 | M30: 37 | N30: 3.3(3.3) | O30: 99.8
A31: type1 | B31: 5 | D31: 평생흡연율 | E31: 36700177 | F31: 5. 400만원이상 | G31: 211 | H31: 40.9(3.0) | I31: 7.3 | J31: 116 | K31: 65.1(5.2) | L31: 8.0 | M31: 95 | N31: 3.2(1.9) | O31: 60.2
A32: type1 | B32: 5 | D32: 평생흡연율 | E32: 36700177 | F32: 작년 대비 가구소득변화
A33: type1 | B33: 5 | D33: 평생흡연율 | E33: 36700177 | F33: 1. 줄어들었다 | G33: 260 | H33: 44.9(3.7) | I33: 8.2 | J33: 134 | K33: 71.3(5.3) | L33: 7.5 | M33: 126 | N33: 4.1(2.1) | O33: 51.2
A34: type1 | B34: 5 | D34: 평생흡연율 | E34: 36700177 | F34: 2. 변함없다 | G34: 530 | H34: 33.9(2.3) | I34: 6.7 | J34: 228 | K34: 66.0(4.4) | L34: 6.6 | M34: 302 | N34: 2.3(1.0) | O34: 44.0
A35: type1 | B35: 5 | D35: 평생흡연율 | E35: 36700177 | F35: 3. 늘어났다 | G35: 94 | H35: 42.6(4.8) | I35: 11.3 | J35: 46 | K35: 76.2(10.7) | L35: 14.0 | M35: 48 | N35: 0.0(0.0) | O35: .
A36: type1 | B36: 5 | D36: 평생흡연율 | E36: 36700177 | F36: 거주유형
A37: type1 | B37: 5 | D37: 평생흡연율 | E37: 36700177 | F37: 1. 동 | G37: 0 | H37: -(-) | I37: - | J37: 0 | K37: -(-) | L37: - | M37: 0 | N37: -(-) | O37: -
A38: type1 | B38: 5 | D38: 평생흡연율 | E38: 36700177 | F38: 2. 읍면 | G38: 884 | H38: 38.4(1.8) | I38: 4.6 | J38: 408 | K38: 69.2(3.1) | L38: 4.5 | M38: 476 | N38: 2.5(0.8) | O38: 32.7
A39: type1 | B39: 6 | D39: 현재흡연율 | E39: 36700177 | F39: 전체 | G39: 884 | H39: 18.0(1.6) | I39: 8.9 | J39: 408 | K39: 32.1(2.7) | L39: 8.5 | M39: 476 | N39: 1.5(0.5) | O39: 32.0
A40: type1 | B40: 6 | D40: 현재흡연율 | E40: 36700177 | F40: 연령
...

Sheet <표>평생흡연율
A1: <표 17> 평생흡연율1)
A2: (단위: %)
A3: 구분 | B3: 전체 | E3: 남자 | H3: 여자
B4: N | C4: %(표준오차) | D4: 상대표준오차 | E4: N | F4: %(표준오차) | G4: 상대표준오차 | H4: N | I4: %(표준오차) | J4: 상대표준오차
A5: 전체 | B5: =data!G2 -> 884 | C5: =data!H2 -> 38.4(1.8) | D5: =data!I2 -> 4.6 | E5: =data!J2 -> 408 | F5: =data!K2 -> 69.2(3.1) | G5: =data!L2 -> 4.5 | H5: =data!M2 -> 476 | I5: =data!N2 -> 2.5(0.8) | J5: =data!O2 -> 32.7
A6: 연령
A7: 19-29 | B7: =data!G4 -> 19 | C7: =data!H4 -> -(-) | D7: =data!I4 -> - | E7: =data!J4 -> 13 | F7: =data!K4 -> -(-) | G7: =data!L4 -> - | H7: =data!M4 -> 6 | I7: =data!N4 -> -(-) | J7: =data!O4 -> -
A8: 30-39 | B8: =data!G5 -> 19 | C8: =data!H5 -> -(-) | D8: =data!I5 -> - | E8: =data!J5 -> 10 | F8: =data!K5 -> -(-) | G8: =data!L5 -> - | H8: =data!M5 -> 9 | I8: =data!N5 -> -(-) | J8: =data!O5 -> -
A9: 40-49 | B9: =data!G6 -> 59 | C9: =data!H6 -> 58.2(6.6) | D9: =data!I6 -> 11.3 | E9: =data!J6 -> 30 | F9: =data!K6 -> 83.3(6.9) | G9: =data!L6 -> 8.3 | H9: =data!M6 -> 29 | I9: =data!N6 -> 8.3(5.6) | J9: =data!O6 -> 67.2
A10: 50-59 | B10: =data!G7 -> 149 | C10: =data!H7 -> 53.2(3.9) | D10: =data!I7 -> 7.3 | E10: =data!J7 -> 78 | F10: =data!K7 -> 84.0(4.0) | G10: =data!L7 -> 4.8 | H10: =data!M7 -> 71 | I10: =data!N7 -> 2.8(2.0) | J10: =data!O7 -> 69.8
A11: 60-69 | B11: =data!G8 -> 239 | C11: =data!H8 -> 39.9(3.3) | D11: =data!I8 -> 8.4 | E11: =data!J8 -> 124 | F11: =data!K8 -> 68.7(4.4) | G11: =data!L8 -> 6.4 | H11: =data!M8 -> 115 | I11: =data!N8 -> 4.8(1.8) | J11: =data!O8 -> 37.2
A12: 70 이상 | B12: =data!G9 -> 399 | C12: =data!H9 -> 30.5(2.2) | D12: =data!I9 -> 7.2 | E12: =data!J9 -> 153 | F12: =data!K9 -> 73.1(3.4) | G12: =data!L9 -> 4.6 | H12: =data!M9 -> 246 | I12: =data!N9 -> 0.8(0.5) | J12: =data!O9 -> 58.0
A14: 19-64 | B14: =data!G11 -> 370 | C14: =data!H11 -> 43.3(2.7) | D14: =data!I11 -> 6.3 | E14: =data!J11 -> 199 | F14: =data!K11 -> 67.7(4.4) | G14: =data!L11 -> 6.5 | H14: =data!M11 -> 171 | I14: =data!N11 -> 3.5(1.5) | J14: =data!O11 -> 43.6
A15: 65 이상 | B15: =data!G12 -> 514 | C15: =data!H12 -> 32.2(1.9) | D15: =data!I12 -> 6.0 | E15: =data!J12 -> 209 | F15: =data!K12 -> 72.1(3.1) | G15: =data!L12 -> 4.2 | H15: =data!M12 -> 305 | I15: =data!N12 -> 1.6(0.7) | J15: =data!O12 -> 47.2
A16: 교육수준2)
A17: 무학 | B17: =data!G14 -> 169 | C17: =data!H14 -> 5.2(2.3) | D17: =data!I14 -> 43.6 | E17: =data!J14 -> 10 | F17: =data!K14 -> -(-) | G17: =data!L14 -> - | H17: =data!M14 -> 159 | I17: =data!N14 -> 1.7(1.3) | J17: =data!O14 -> 75.0
A18: 초등학교 | B18: =data!G15 -> 239 | C18: =data!H15 -> 31.6(2.8) | D18: =data!I15 -> 8.8 | E18: =data!J15 -> 103 | F18: =data!K15 -> 68.2(4.4) | G18: =data!L15 -> 6.5 | H18: =data!M15 -> 136 | I18: =data!N15 -> 1.3(0.9) | J18: =data!O15 -> 70.8
A19: 중학교 | B19: =data!G16 -> 165 | C19: =data!H16 -> 48.3(3.8) | D19: =data!I16 -> 7.9 | E19: =data!J16 -> 90 | F19: =data!K16 -> 79.7(4.8) | G19: =data!L16 -> 6.1 | H19: =data!M16 -> 75 | I19: =data!N16 -> 3.7(2.0) | J19: =data!O16 -> 54.6
A20: 고등학교 | B20: =data!G17 -> 225 | C20: =data!H17 -> 51.6(4.1) | D20: =data!I17 -> 8.0 | E20: =data!J17 -> 150 | F20: =data!K17 -> 71.1(5.3) | G20: =data!L17 -> 7.4 | H20: =data!M17 -> 75 | I20: =data!N17 -> 4.1(2.4) | J20: =data!O17 -> 57.1
A21: 대학교 이상 | B21: =data!G18 -> 86 | C21: =data!H18 -> 38.9(5.9) | D21: =data!I18 -> 15.1 | E21: =data!J18 -> 55 | F21: =data!K18 -> 57.7(9.6) | G21: =data!L18 -> 16.6 | H21: =data!M18 -> 31 | I21: =data!N18 -> 2.1(2.2) | J21: =data!O18 -> 102.7
A22: 직업
A23: 전문행정관리 | B23: =data!G20 -> 26 | C23: =data!H20 -> 27.2(8.5) | D23: =data!I20 -> 31.3 | E23: =data!J20 -> 17 | F23: =data!K20 -> -(-) | G23: =data!L20 -> - | H23: =data!M20 -> 9 | I23: =data!N20 -> -(-) | J23: =data!O20 -> -
A24: 사무직 | B24: =data!G21 -> 19 | C24: =data!H21 -> -(-) | D24: =data!I21 -> - | E24: =data!J21 -> 5 | F24: =data!K21 -> -(-) | G24: =data!L21 -> - | H24: =data!M21 -> 14 | I24: =data!N21 -> -(-) | J24: =data!O21 -> -
A25: 판매･서비스직 | B25: =data!G22 -> 71 | C25: =data!H22 -> 18.1(4.9) | D25: =data!I22 -> 27.1 | E25: =data!J22 -> 15 | F25: =data!K22 -> -(-) | G25: =data!L22 -> - | H25: =data!M22 -> 56 | I25: =data!N22 -> 7.2(3.7) | J25: =data!O22 -> 50.8
A26: 농림어업 | B26: =data!G23 -> 344 | C26: =data!H23 -> 43.8(3.0) | D26: =data!I23 -> 6.9 | E26: =data!J23 -> 181 | F26: =data!K23 -> 69.8(4.3) | G26: =data!L23 -> 6.2 | H26: =data!M23 -> 163 | I26: =data!N23 -> 0.6(0.6) | J26: =data!O23 -> 99.7
A27: 기능단순노무직 | B27: =data!G24 -> 164 | C27: =data!H24 -> 52.3(3.9) | D27: =data!I24 -> 7.5 | E27: =data!J24 -> 81 | F27: =data!K24 -> 82.2(4.5) | G27: =data!L24 -> 5.5 | H27: =data!M24 -> 83 | I27: =data!N24 -> 2.0(1.2) | J27: =data!O24 -> 58.6
A28: 기타3) | B28: =data!G25 -> 260 | C28: =data!H25 -> 30.9(2.8) | D28: =data!I25 -> 9.0 | E28: =data!J25 -> 109 | F28: =data!K25 -> 64.8(5.4) | G28: =data!L25 -> 8.3 | H28: =data!M25 -> 151 | I28: =data!N25 -> 2.2(1.1) | J28: =data!O25 -> 47.6
A29: 월 가구소득
A30: 100만원 미만 | B30: =data!G27 -> 315 | C30: =data!H27 -> 33.8(3.9) | D30: =data!I27 -> 11.5 | E30: =data!J27 -> 120 | F30: =data!K27 -> 73.6(5.6) | G30: =data!L27 -> 7.6 | H30: =data!M27 -> 195 | I30: =data!N27 -> 1.8(0.9) | J30: =data!O27 -> 49.2
A31: 100-200만원 미만 | B31: =data!G28 -> 185 | C31: =data!H28 -> 37.5(4.0) | D31: =data!I28 -> 10.7 | E31: =data!J28 -> 86 | F31: =data!K28 -> 64.0(7.6) | G31: =data!L28 -> 11.8 | H31: =data!M28 -> 99 | I31: =data!N28 -> 3.8(1.8) | J31: =data!O28 -> 48.1
A32: 200-300만원 미만 | B32: =data!G29 -> 101 | C32: =data!H29 -> 43.7(4.6) | D32: =data!I29 -> 10.6 | E32: =data!J29 -> 51 | F32: =data!K29 -> 75.3(6.3) | G32: =data!L29 -> 8.4 | H32: =data!M29 -> 50 | I32: =data!N29 -> 0.0(0.0) | J32: =data!O29 -> .
A33: 300-400만원 미만 | B33: =data!G30 -> 72 | C33: =data!H30 -> 41.2(5.7) | D33: =data!I30 -> 13.8 | E33: =data!J30 -> 35 | F33: =data!K30 -> 76.5(7.3) | G33: =data!L30 -> 9.5 | H33: =data!M30 -> 37 | I33: =data!N30 -> 3.3(3.3) | J33: =data!O30 -> 99.8
A34: 400만원 이상 | B34: =data!G31 -> 211 | C34: =data!H31 -> 40.9(3.0) | D34: =data!I31 -> 7.3 | E34: =data!J31 -> 116 | F34: =data!K31 -> 65.1(5.2) | G34: =data!L31 -> 8.0 | H34: =data!M31 -> 95 | I34: =data!N31 -> 3.2(1.9) | J34: =data!O31 -> 60.2
A35: 작년 대비 가구소득 변화
A36: 줄어들었다 | B36: =data!G33 -> 260 | C36: =data!H33 -> 44.9(3.7) | D36: =data!I33 -> 8.2 | E36: =data!J33 -> 134 | F36: =data!K33 -> 71.3(5.3) | G36: =data!L33 -> 7.5 | H36: =data!M33 -> 126 | I36: =data!N33 -> 4.1(2.1) | J36: =data!O33 -> 51.2
A37: 변함없다 | B37: =data!G34 -> 530 | C37: =data!H34 -> 33.9(2.3) | D37: =data!I34 -> 6.7 | E37: =data!J34 -> 228 | F37: =data!K34 -> 66.0(4.4) | G37: =data!L34 -> 6.6 | H37: =data!M34 -> 302 | I37: =data!N34 -> 2.3(1.0) | J37: =data!O34 -> 44.0
A38: 늘어났다 | B38: =data!G35 -> 94 | C38: =data!H35 -> 42.6(4.8) | D38: =data!I35 -> 11.3 | E38: =data!J35 -> 46 | F38: =data!K35 -> 76.2(10.7) | G38: =data!L35 -> 14.0 | H38: =data!M35 -> 48 | I38: =data!N35 -> 0.0(0.0) | J38: =data!O35 -> .
A39: 거주유형
A40: 동
A41: 읍〮면 | B41: =data!G38 -> 884 | C41: =data!H38 -> 38.4(1.8) | D41: =data!I38 -> 4.6 | E41: =data!J38 -> 408 | F41: =data!K38 -> 69.2(3.1) | G41: =data!L38 -> 4.5 | H41: =data!M38 -> 476 | I41: =data!N38 -> 2.5(0.8) | J41: =data!O38 -> 32.7
...

Sheet <표>현재흡연율
A1: <표 18> 현재흡연율1)
A2: (단위: %)
A3: 구분 | B3: 전체 | E3: 남자 | H3: 여자
B4: N | C4: %(표준오차) | D4: 상대표준오차 | E4: N | F4: %(표준오차) | G4: 상대표준오차 | H4: N | I4: %(표준오차) | J4: 상대표준오차
A5: 전체 | B5: =data!G39 -> 884 | C5: =data!H39 -> 18.0(1.6) | D5: =data!I39 -> 8.9 | E5: =data!J39 -> 408 | F5: =data!K39 -> 32.1(2.7) | G5: =data!L39 -> 8.5 | H5: =data!M39 -> 476 | I5: =data!N39 -> 1.5(0.5) | J5: =data!O39 -> 32.0
A6: 연령
A7: 19-29 | B7: =data!G41 -> 19 | C7: =data!H41 -> -(-) | D7: =data!I41 -> - | E7: =data!J41 -> 13 | F7: =data!K41 -> -(-) | G7: =data!L41 -> - | H7: =data!M41 -> 6 | I7: =data!N41 -> -(-) | J7: =data!O41 -> -
A8: 30-39 | B8: =data!G42 -> 19 | C8: =data!H42 -> -(-) | D8: =data!I42 -> - | E8: =data!J42 -> 10 | F8: =data!K42 -> -(-) | G8: =data!L42 -> - | H8: =data!M42 -> 9 | I8: =data!N42 -> -(-) | J8: =data!O42 -> -
A9: 40-49 | B9: =data!G43 -> 59 | C9: =data!H43 -> 39.9(5.5) | D9: =data!I43 -> 13.7 | E9: =data!J43 -> 30 | F9: =data!K43 -> 60.0(7.2) | G9: =data!L43 -> 12.1 | H9: =data!M43 -> 29 | I9: =data!N43 -> 0.0(0.0) | J9: =data!O43 -> .
A10: 50-59 | B10: =data!G44 -> 149 | C10: =data!H44 -> 30.1(4.2) | D10: =data!I44 -> 13.9 | E10: =data!J44 -> 78 | F10: =data!K44 -> 47.6(6.2) | G10: =data!L44 -> 13.1 | H10: =data!M44 -> 71 | I10: =data!N44 -> 1.4(1.4) | J10: =data!O44 -> 100.1
A11: 60-69 | B11: =data!G45 -> 239 | C11: =data!H45 -> 15.3(2.4) | D11: =data!I45 -> 15.5 | E11: =data!J45 -> 124 | F11: =data!K45 -> 23.9(3.7) | G11: =data!L45 -> 15.4 | H11: =data!M45 -> 115 | I11: =data!N45 -> 4.8(1.8) | J11: =data!O45 -> 37.2
A12: 70 이상 | B12: =data!G46 -> 399 | C12: =data!H46 -> 5.8(1.3) | D12: =data!I46 -> 21.8 | E12: =data!J46 -> 153 | F12: =data!K46 -> 13.0(2.8) | G12: =data!L46 -> 21.4 | H12: =data!M46 -> 246 | I12: =data!N46 -> 0.8(0.5) | J12: =data!O46 -> 58.0
A14: 19-64 | B14: =data!G48 -> 370 | C14: =data!H48 -> 26.6(2.5) | D14: =data!I48 -> 9.3 | E14: =data!J48 -> 199 | F14: =data!K48 -> 42.0(4.0) | G14: =data!L48 -> 9.6 | H14: =data!M48 -> 171 | I14: =data!N48 -> 1.5(0.7) | J14: =data!O48 -> 44.4
A15: 65 이상 | B15: =data!G49 -> 514 | C15: =data!H49 -> 6.9(1.2) | D15: =data!I49 -> 17.3 | E15: =data!J49 -> 209 | F15: =data!K49 -> 13.9(2.3) | G15: =data!L49 -> 16.8 | H15: =data!M49 -> 305 | I15: =data!N49 -> 1.6(0.7) | J15: =data!O49 -> 47.2
A16: 교육수준2)
A17: 무학 | B17: =data!G51 -> 169 | C17: =data!H51 -> 4.0(2.2) | D17: =data!I51 -> 54.0 | E17: =data!J51 -> 10 | F17: =data!K51 -> -(-) | G17: =data!L51 -> - | H17: =data!M51 -> 159 | I17: =data!N51 -> 1.7(1.3) | J17: =data!O51 -> 75.0
A18: 초등학교 | B18: =data!G52 -> 239 | C18: =data!H52 -> 8.9(2.1) | D18: =data!I52 -> 23.8 | E18: =data!J52 -> 103 | F18: =data!K52 -> 18.0(3.9) | G18: =data!L52 -> 21.9 | H18: =data!M52 -> 136 | I18: =data!N52 -> 1.3(0.9) | J18: =data!O52 -> 70.8
A19: 중학교 | B19: =data!G53 -> 165 | C19: =data!H53 -> 15.6(2.8) | D19: =data!I53 -> 18.1 | E19: =data!J53 -> 90 | F19: =data!K53 -> 23.9(4.4) | G19: =data!L53 -> 18.4 | H19: =data!M53 -> 75 | I19: =data!N53 -> 3.7(2.0) | J19: =data!O53 -> 54.6
A20: 고등학교 | B20: =data!G54 -> 225 | C20: =data!H54 -> 29.7(3.3) | D20: =data!I54 -> 11.1 | E20: =data!J54 -> 150 | F20: =data!K54 -> 41.6(4.6) | G20: =data!L54 -> 11.2 | H20: =data!M54 -> 75 | I20: =data!N54 -> 0.8(0.9) | J20: =data!O54 -> 100.8
A21: 대학교 이상 | B21: =data!G55 -> 86 | C21: =data!H55 -> 20.2(5.3) | D21: =data!I55 -> 26.2 | E21: =data!J55 -> 55 | F21: =data!K55 -> 30.4(8.1) | G21: =data!L55 -> 26.6 | H21: =data!M55 -> 31 | I21: =data!N55 -> 0.0(0.0) | J21: =data!O55 -> .
A22: 직업
A23: 전문행정관리 | B23: =data!G57 -> 26 | C23: =data!H57 -> 8.0(5.6) | D23: =data!I57 -> 70.0 | E23: =data!J57 -> 17 | F23: =data!K57 -> -(-) | G23: =data!L57 -> - | H23: =data!M57 -> 9 | I23: =data!N57 -> -(-) | J23: =data!O57 -> -
A24: 사무직 | B24: =data!G58 -> 19 | C24: =data!H58 -> -(-) | D24: =data!I58 -> - | E24: =data!J58 -> 5 | F24: =data!K58 -> -(-) | G24: =data!L58 -> - | H24: =data!M58 -> 14 | I24: =data!N58 -> -(-) | J24: =data!O58 -> -
A25: 판매･서비스직 | B25: =data!G59 -> 71 | C25: =data!H59 -> 2.9(1.7) | D25: =data!I59 -> 57.3 | E25: =data!J59 -> 15 | F25: =data!K59 -> -(-) | G25: =data!L59 -> - | H25: =data!M59 -> 56 | I25: =data!N59 -> 2.6(1.9) | J25: =data!O59 -> 70.1
A26: 농림어업 | B26: =data!G60 -> 344 | C26: =data!H60 -> 24.1(3.0) | D26: =data!I60 -> 12.3 | E26: =data!J60 -> 181 | F26: =data!K60 -> 38.1(4.4) | G26: =data!L60 -> 11.4 | H26: =data!M60 -> 163 | I26: =data!N60 -> 0.6(0.6) | J26: =data!O60 -> 99.7
A27: 기능단순노무직 | B27: =data!G61 -> 164 | C27: =data!H61 -> 28.2(4.1) | D27: =data!I61 -> 14.7 | E27: =data!J61 -> 81 | F27: =data!K61 -> 43.8(5.9) | G27: =data!L61 -> 13.4 | H27: =data!M61 -> 83 | I27: =data!N61 -> 2.0(1.2) | J27: =data!O61 -> 58.6
A28: 기타3) | B28: =data!G62 -> 260 | C28: =data!H62 -> 7.8(1.7) | D28: =data!I62 -> 22.0 | E28: =data!J62 -> 109 | F28: =data!K62 -> 14.4(3.7) | G28: =data!L62 -> 25.4 | H28: =data!M62 -> 151 | I28: =data!N62 -> 2.2(1.1) | J28: =data!O62 -> 47.6
A29: 월 가구소득
A30: 100만원 미만 | B30: =data!G64 -> 315 | C30: =data!H64 -> 13.3(2.5) | D30: =data!I64 -> 18.7 | E30: =data!J64 -> 120 | F30: =data!K64 -> 27.6(4.5) | G30: =data!L64 -> 16.4 | H30: =data!M64 -> 195 | I30: =data!N64 -> 1.8(0.9) | J30: =data!O64 -> 49.2
A31: 100-200만원 미만 | B31: =data!G65 -> 185 | C31: =data!H65 -> 17.8(3.9) | D31: =data!I65 -> 21.7 | E31: =data!J65 -> 86 | F31: =data!K65 -> 29.8(6.9) | G31: =data!L65 -> 23.1 | H31: =data!M65 -> 99 | I31: =data!N65 -> 2.6(1.3) | J31: =data!O65 -> 52.1
A32: 200-300만원 미만 | B32: =data!G66 -> 101 | C32: =data!H66 -> 21.7(5.8) | D32: =data!I66 -> 26.7 | E32: =data!J66 -> 51 | F32: =data!K66 -> 37.5(9.3) | G32: =data!L66 -> 24.8 | H32: =data!M66 -> 50 | I32: =data!N66 -> 0.0(0.0) | J32: =data!O66 -> .
A33: 300-400만원 미만 | B33: =data!G67 -> 72 | C33: =data!H67 -> 17.6(5.9) | D33: =data!I67 -> 33.6 | E33: =data!J67 -> 35 | F33: =data!K67 -> 34.0(9.9) | G33: =data!L67 -> 29.0 | H33: =data!M67 -> 37 | I33: =data!N67 -> 0.0(0.0) | J33: =data!O67 -> .
A34: 400만원 이상 | B34: =data!G68 -> 211 | C34: =data!H68 -> 21.7(2.8) | D34: =data!I68 -> 12.9 | E34: =data!J68 -> 116 | F34: =data!K68 -> 34.5(4.7) | G34: =data!L68 -> 13.7 | H34: =data!M68 -> 95 | I34: =data!N68 -> 1.6(1.1) | J34: =data!O68 -> 69.1
A35: 작년 대비 가구소득 변화
A36: 줄어들었다 | B36: =data!G70 -> 260 | C36: =data!H70 -> 21.5(2.9) | D36: =data!I70 -> 13.7 | E36: =data!J70 -> 134 | F36: =data!K70 -> 33.7(4.3) | G36: =data!L70 -> 12.7 | H36: =data!M70 -> 126 | I36: =data!N70 -> 2.5(1.5) | J36: =data!O70 -> 60.4
A37: 변함없다 | B37: =data!G71 -> 530 | C37: =data!H71 -> 15.2(2.2) | D37: =data!I71 -> 14.2 | E37: =data!J71 -> 228 | F37: =data!K71 -> 29.2(4.0) | G37: =data!L71 -> 13.6 | H37: =data!M71 -> 302 | I37: =data!N71 -> 1.4(0.6) | J37: =data!O71 -> 40.6
A38: 늘어났다 | B38: =data!G72 -> 94 | C38: =data!H72 -> 22.2(5.9) | D38: =data!I72 -> 26.5 | E38: =data!J72 -> 46 | F38: =data!K72 -> 39.6(10.6) | G38: =data!L72 -> 26.7 | H38: =data!M72 -> 48 | I38: =data!N72 -> 0.0(0.0) | J38: =data!O72 -> .
A39: 거주유형
A40: 동
A41: 읍〮면 | B41: =data!G75 -> 884 | C41: =data!H75 -> 18.0(1.6) | D41: =data!I75 -> 8.9 | E41: =data!J75 -> 408 | F41: =data!K75 -> 32.1(2.7) | G41: =data!L75 -> 8.5 | H41: =data!M75 -> 476 | I41: =data!N75 -> 1.5(0.5) | J41: =data!O75 -> 32.0
...

Sheet <표>매일흡연자의하루평균흡연량
A1: <표 19> 매일흡연자의 하루 평균 흡연량1)
A2: (단위: %, 개비)
A3: 구분 | B3: N2) | C3: 10개비 미만 | E3: 10-19개비 | G3: 20-39개비 | I3: 40개비 이상 | K3: 평균
C4: %(표준오차) | D4: 상대표준오차 | E4: %(표준오차) | F4: 상대표준오차 | G4: %(표준오차) | H4: 상대표준오차 | I4: %(표준오차) | J4: 상대표준오차 | K4: 개비(표준오차) | L4: 상대표준오차
A5: 전체 | B5: =data!P113 -> 108 | C5: =data!Q153 -> 10.4(3.2) | D5: =data!R153 -> 30.7 | E5: =data!Q193 -> 32.0(4.8) | F5: =data!R193 -> 14.8 | G5: =data!Q233 -> 51.2(6.0) | H5: =data!R233 -> 11.7 | I5: =data!Q273 -> 6.3(2.6) | J5: =data!R273 -> 40.9 | K5: =data!Q113 -> 17.9(1.0) | L5: =data!R113 -> 5.8
A6: 성
A7: 남자 | B7: =data!P115 -> 102 | C7: =data!Q155 -> 9.8(3.2) | D7: =data!R155 -> 32.7 | E7: =data!Q195 -> 31.0(4.9) | F7: =data!R195 -> 15.9 | G7: =data!Q235 -> 52.7(6.2) | H7: =data!R235 -> 11.8 | I7: =data!Q275 -> 6.5(2.7) | J7: =data!R275 -> 40.9 | K7: =data!Q115 -> 18.2(1.1) | L7: =data!R115 -> 5.9
A8: 여자 | B8: =data!P116 -> 6 | C8: =data!Q156 -> -(-) | D8: =data!R156 -> - | E8: =data!Q196 -> -(-) | F8: =data!R196 -> - | G8: =data!Q236 -> -(-) | H8: =data!R236 -> - | I8: =data!Q276 -> -(-) | J8: =data!R276 -> - | K8: =data!Q116 -> -(-) | L8: =data!R116 -> -
A9: 연령
A10: 19-29 | B10: =data!P118 -> 2 | C10: =data!Q158 -> -(-) | D10: =data!R158 -> - | E10: =data!Q198 -> -(-) | F10: =data!R198 -> - | G10: =data!Q238 -> -(-) | H10: =data!R238 -> - | I10: =data!Q278 -> -(-) | J10: =data!R278 -> - | K10: =data!Q118 -> -(-) | L10: =data!R118 -> -
A11: 30-39 | B11: =data!P119 -> 4 | C11: =data!Q159 -> -(-) | D11: =data!R159 -> - | E11: =data!Q199 -> -(-) | F11: =data!R199 -> - | G11: =data!Q239 -> -(-) | H11: =data!R239 -> - | I11: =data!Q279 -> -(-) | J11: =data!R279 -> - | K11: =data!Q119 -> -(-) | L11: =data!R119 -> -
A12: 40-49 | B12: =data!P120 -> 16 | C12: =data!Q160 -> -(-) | D12: =data!R160 -> - | E12: =data!Q200 -> -(-) | F12: =data!R200 -> - | G12: =data!Q240 -> -(-) | H12: =data!R240 -> - | I12: =data!Q280 -> -(-) | J12: =data!R280 -> - | K12: =data!Q120 -> -(-) | L12: =data!R120 -> -
A13: 50-59 | B13: =data!P121 -> 37 | C13: =data!Q161 -> 5.2(3.7) | D13: =data!R161 -> 71.6 | E13: =data!Q201 -> 31.5(7.8) | F13: =data!R201 -> 24.7 | G13: =data!Q241 -> 55.9(8.9) | H13: =data!R241 -> 16.0 | I13: =data!Q281 -> 7.5(4.4) | J13: =data!R281 -> 58.9 | K13: =data!Q121 -> 19.4(1.7) | L13: =data!R121 -> 8.5
A14: 60-69 | B14: =data!P122 -> 30 | C14: =data!Q162 -> 16.7(7.3) | D14: =data!R162 -> 43.7 | E14: =data!Q202 -> 34.9(10.1) | F14: =data!R202 -> 28.9 | G14: =data!Q242 -> 38.3(9.4) | H14: =data!R242 -> 24.5 | I14: =data!Q282 -> 10.0(5.6) | J14: =data!R282 -> 55.7 | K14: =data!Q122 -> 17.4(1.8) | L14: =data!R122 -> 10.3
A15: 70 이상 | B15: =data!P123 -> 19 | C15: =data!Q163 -> -(-) | D15: =data!R163 -> - | E15: =data!Q203 -> -(-) | F15: =data!R203 -> - | G15: =data!Q243 -> -(-) | H15: =data!R243 -> - | I15: =data!Q283 -> -(-) | J15: =data!R283 -> - | K15: =data!Q123 -> -(-) | L15: =data!R123 -> -
A17: 19-64 | B17: =data!P125 -> 78 | C17: =data!Q165 -> 8.6(3.5) | D17: =data!R165 -> 41.0 | E17: =data!Q205 -> 29.7(5.6) | F17: =data!R205 -> 18.7 | G17: =data!Q245 -> 54.1(6.9) | H17: =data!R245 -> 12.7 | I17: =data!Q285 -> 7.6(3.1) | J17: =data!R285 -> 40.5 | K17: =data!Q125 -> 18.7(1.2) | L17: =data!R125 -> 6.4
A18: 65 이상 | B18: =data!P126 -> 30 | C18: =data!Q166 -> 20.1(7.0) | D18: =data!R166 -> 34.7 | E18: =data!Q206 -> 44.2(9.5) | F18: =data!R206 -> 21.5 | G18: =data!Q246 -> 35.7(9.3) | H18: =data!R246 -> 26.0 | I18: =data!Q286 -> 0.0(0.0) | J18: =data!R286 -> . | K18: =data!Q126 -> 13.4(1.2) | L18: =data!R126 -> 8.7
A19: 교육수준3)
A20: 무학 | B20: =data!P128 -> 6 | C20: =data!Q168 -> -(-) | D20: =data!R168 -> - | E20: =data!Q208 -> -(-) | F20: =data!R208 -> - | G20: =data!Q248 -> -(-) | H20: =data!R248 -> - | I20: =data!Q288 -> -(-) | J20: =data!R288 -> - | K20: =data!Q128 -> -(-) | L20: =data!R128 -> -
A21: 초등학교 | B21: =data!P129 -> 17 | C21: =data!Q169 -> -(-) | D21: =data!R169 -> - | E21: =data!Q209 -> -(-) | F21: =data!R209 -> - | G21: =data!Q249 -> -(-) | H21: =data!R249 -> - | I21: =data!Q289 -> -(-) | J21: =data!R289 -> - | K21: =data!Q129 -> -(-) | L21: =data!R129 -> -
A22: 중학교 | B22: =data!P130 -> 20 | C22: =data!Q170 -> 13.2(7.3) | D22: =data!R170 -> 55.3 | E22: =data!Q210 -> 38.5(11.2) | F22: =data!R210 -> 29.0 | G22: =data!Q250 -> 38.9(12.0) | H22: =data!R250 -> 30.8 | I22: =data!Q290 -> 9.4(6.7) | J22: =data!R290 -> 71.5 | K22: =data!Q130 -> 18.0(2.6) | L22: =data!R130 -> 14.3
A23: 고등학교 | B23: =data!P131 -> 52 | C23: =data!Q171 -> 9.5(4.6) | D23: =data!R171 -> 49.0 | E23: =data!Q211 -> 26.1(6.0) | F23: =data!R211 -> 23.1 | G23: =data!Q251 -> 57.5(7.9) | H23: =data!R251 -> 13.7 | I23: =data!Q291 -> 6.9(4.2) | J23: =data!R291 -> 61.8 | K23: =data!Q131 -> 18.9(1.6) | L23: =data!R131 -> 8.5
A24: 대학교 이상 | B24: =data!P132 -> 13 | C24: =data!Q172 -> -(-) | D24: =data!R172 -> - | E24: =data!Q212 -> -(-) | F24: =data!R212 -> - | G24: =data!Q252 -> -(-) | H24: =data!R252 -> - | I24: =data!Q292 -> -(-) | J24: =data!R292 -> - | K24: =data!Q132 -> -(-) | L24: =data!R132 -> -
A25: 직업
A26: 전문행정관리 | B26: =data!P134 -> 2 | C26: =data!Q174 -> -(-) | D26: =data!R174 -> - | E26: =data!Q214 -> -(-) | F26: =data!R214 -> - | G26: =data!Q254 -> -(-) | H26: =data!R254 -> - | I26: =data!Q294 -> -(-) | J26: =data!R294 -> - | K26: =data!Q134 -> -(-) | L26: =data!R134 -> -
A27: 사무직 | B27: =data!P135 -> 1 | C27: =data!Q175 -> -(-) | D27: =data!R175 -> - | E27: =data!Q215 -> -(-) | F27: =data!R215 -> - | G27: =data!Q255 -> -(-) | H27: =data!R255 -> - | I27: =data!Q295 -> -(-) | J27: =data!R295 -> - | K27: =data!Q135 -> -(-) | L27: =data!R135 -> -
A28: 판매･서비스직 | B28: =data!P136 -> 2 | C28: =data!Q176 -> -(-) | D28: =data!R176 -> - | E28: =data!Q216 -> -(-) | F28: =data!R216 -> - | G28: =data!Q256 -> -(-) | H28: =data!R256 -> - | I28: =data!Q296 -> -(-) | J28: =data!R296 -> - | K28: =data!Q136 -> -(-) | L28: =data!R136 -> -
A29: 농림어업 | B29: =data!P137 -> 56 | C29: =data!Q177 -> 4.7(2.5) | D29: =data!R177 -> 52.6 | E29: =data!Q217 -> 40.2(7.8) | F29: =data!R217 -> 19.5 | G29: =data!Q257 -> 44.4(8.6) | H29: =data!R257 -> 19.5 | I29: =data!Q297 -> 10.7(4.5) | J29: =data!R297 -> 42.0 | K29: =data!Q137 -> 19.1(1.6) | L29: =data!R137 -> 8.2
A30: 기능단순노무직 | B30: =data!P138 -> 31 | C30: =data!Q178 -> 17.7(7.4) | D30: =data!R178 -> 41.9 | E30: =data!Q218 -> 21.4(7.1) | F30: =data!R218 -> 33.2 | G30: =data!Q258 -> 58.5(10.9) | H30: =data!R258 -> 18.6 | I30: =data!Q298 -> 2.4(2.5) | J30: =data!R298 -> 104.5 | K30: =data!Q138 -> 17.1(1.7) | L30: =data!R138 -> 9.7
A31: 기타4) | B31: =data!P139 -> 16 | C31: =data!Q179 -> -(-) | D31: =data!R179 -> - | E31: =data!Q219 -> -(-) | F31: =data!R219 -> - | G31: =data!Q259 -> -(-) | H31: =data!R259 -> - | I31: =data!Q299 -> -(-) | J31: =data!R299 -> - | K31: =data!Q139 -> -(-) | L31: =data!R139 -> -
A32: 월 가구소득
A33: 100만원 미만 | B33: =data!P141 -> 27 | C33: =data!Q181 -> 5.4(4.1) | D33: =data!R181 -> 76.4 | E33: =data!Q221 -> 35.5(8.6) | F33: =data!R221 -> 24.2 | G33: =data!Q261 -> 50.9(9.2) | H33: =data!R261 -> 18.1 | I33: =data!Q301 -> 8.2(5.7) | J33: =data!R301 -> 70.2 | K33: =data!Q141 -> 18.5(2.2) | L33: =data!R141 -> 11.9
A34: 100-200만원 미만 | B34: =data!P142 -> 22 | C34: =data!Q182 -> 25.1(9.8) | D34: =data!R182 -> 38.9 | E34: =data!Q222 -> 57.0(12.5) | F34: =data!R222 -> 22.0 | G34: =data!Q262 -> 17.9(9.3) | H34: =data!R262 -> 51.9 | I34: =data!Q302 -> 0.0(0.0) | J34: =data!R302 -> . | K34: =data!Q142 -> 12.0(1.0) | L34: =data!R142 -> 8.0
A35: 200-300만원 미만 | B35: =data!P143 -> 14 | C35: =data!Q183 -> -(-) | D35: =data!R183 -> - | E35: =data!Q223 -> -(-) | F35: =data!R223 -> - | G35: =data!Q263 -> -(-) | H35: =data!R263 -> - | I35: =data!Q303 -> -(-) | J35: =data!R303 -> - | K35: =data!Q143 -> -(-) | L35: =data!R143 -> -
A36: 300-400만원 미만 | B36: =data!P144 -> 9 | C36: =data!Q184 -> -(-) | D36: =data!R184 -> - | E36: =data!Q224 -> -(-) | F36: =data!R224 -> - | G36: =data!Q264 -> -(-) | H36: =data!R264 -> - | I36: =data!Q304 -> -(-) | J36: =data!R304 -> - | K36: =data!Q144 -> -(-) | L36: =data!R144 -> -
A37: 400만원 이상 | B37: =data!P145 -> 36 | C37: =data!Q185 -> 12.5(5.9) | D37: =data!R185 -> 46.7 | E37: =data!Q225 -> 23.8(8.5) | F37: =data!R225 -> 36.0 | G37: =data!Q265 -> 57.0(9.5) | H37: =data!R265 -> 16.6 | I37: =data!Q305 -> 6.7(3.7) | J37: =data!R305 -> 54.6 | K37: =data!Q145 -> 17.9(1.5) | L37: =data!R145 -> 8.5
A38: 작년 대비 가구소득 변화
A39: 줄어들었다 | B39: =data!P147 -> 41 | C39: =data!Q187 -> 7.7(3.9) | D39: =data!R187 -> 51.3 | E39: =data!Q227 -> 34.0(7.5) | F39: =data!R227 -> 22.1 | G39: =data!Q267 -> 52.9(8.1) | H39: =data!R267 -> 15.4 | I39: =data!Q307 -> 5.5(3.2) | J39: =data!R307 -> 58.0 | K39: =data!Q147 -> 17.3(1.2) | L39: =data!R147 -> 6.9
A40: 변함없다 | B40: =data!P148 -> 55 | C40: =data!Q188 -> 8.3(3.5) | D40: =data!R188 -> 41.7 | E40: =data!Q228 -> 37.5(7.9) | F40: =data!R228 -> 21.1 | G40: =data!Q268 -> 44.9(8.6) | H40: =data!R268 -> 19.2 | I40: =data!Q308 -> 9.3(4.7) | J40: =data!R308 -> 51.1 | K40: =data!Q148 -> 18.8(1.7) | L40: =data!R148 -> 9.0
A41: 늘어났다 | B41: =data!P149 -> 12 | C41: =data!Q189 -> -(-) | D41: =data!R189 -> - | E41: =data!Q229 -> -(-) | F41: =data!R229 -> - | G41: =data!Q269 -> -(-) | H41: =data!R269 -> - | I41: =data!Q309 -> -(-) | J41: =data!R309 -> - | K41: =data!Q149 -> -(-) | L41: =data!R149 -> -
...

Sheet <표>궐련형전자담배평생흡연율
A1: <표 20> 궐련형 전자담배 평생흡연율1)
A2: (단위: %)
A3: 구분 | B3: 전체 | E3: 남자 | H3: 여자
B4: N | C4: %(표준오차) | D4: 상대표준오차 | E4: N | F4: %(표준오차) | G4: 상대표준오차 | H4: N | I4: %(표준오차) | J4: 상대표준오차
A5: 전체 | B5: =data!G313 -> 884 | C5: =data!H313 -> 0.6(0.4) | D5: =data!I313 -> 58.1 | E5: =data!J313 -> 408 | F5: =data!K313 -> 0.8(0.6) | G5: =data!L313 -> 71.4 | H5: =data!M313 -> 476 | I5: =data!N313 -> 0.4(0.4) | J5: =data!O313 -> 99.7
A6: 연령
A7: 19-29 | B7: =data!G315 -> 19 | C7: =data!H315 -> -(-) | D7: =data!I315 -> - | E7: =data!J315 -> 13 | F7: =data!K315 -> -(-) | G7: =data!L315 -> - | H7: =data!M315 -> 6 | I7: =data!N315 -> -(-) | J7: =data!O315 -> -
A8: 30-39 | B8: =data!G316 -> 19 | C8: =data!H316 -> -(-) | D8: =data!I316 -> - | E8: =data!J316 -> 10 | F8: =data!K316 -> -(-) | G8: =data!L316 -> - | H8: =data!M316 -> 9 | I8: =data!N316 -> -(-) | J8: =data!O316 -> -
A9: 40-49 | B9: =data!G317 -> 59 | C9: =data!H317 -> 3.8(2.6) | D9: =data!I317 -> 69.1 | E9: =data!J317 -> 30 | F9: =data!K317 -> 3.3(3.2) | G9: =data!L317 -> 96.4 | H9: =data!M317 -> 29 | I9: =data!N317 -> 4.8(4.7) | J9: =data!O317 -> 98.2
A10: 50-59 | B10: =data!G318 -> 149 | C10: =data!H318 -> 0.9(0.9) | D10: =data!I318 -> 99.3 | E10: =data!J318 -> 78 | F10: =data!K318 -> 1.4(1.4) | G10: =data!L318 -> 98.8 | H10: =data!M318 -> 71 | I10: =data!N318 -> 0.0(0.0) | J10: =data!O318 -> .
A11: 60-69 | B11: =data!G319 -> 239 | C11: =data!H319 -> 0.0(0.0) | D11: =data!I319 -> . | E11: =data!J319 -> 124 | F11: =data!K319 -> 0.0(0.0) | G11: =data!L319 -> . | H11: =data!M319 -> 115 | I11: =data!N319 -> 0.0(0.0) | J11: =data!O319 -> .
A12: 70 이상 | B12: =data!G320 -> 399 | C12: =data!H320 -> 0.0(0.0) | D12: =data!I320 -> . | E12: =data!J320 -> 153 | F12: =data!K320 -> 0.0(0.0) | G12: =data!L320 -> . | H12: =data!M320 -> 246 | I12: =data!N320 -> 0.0(0.0) | J12: =data!O320 -> .
A14: 19-64 | B14: =data!G322 -> 370 | C14: =data!H322 -> 1.1(0.6) | D14: =data!I322 -> 57.9 | E14: =data!J322 -> 199 | F14: =data!K322 -> 1.2(0.9) | G14: =data!L322 -> 71.8 | H14: =data!M322 -> 171 | I14: =data!N322 -> 0.9(0.9) | J14: =data!O322 -> 98.8
A15: 65 이상 | B15: =data!G323 -> 514 | C15: =data!H323 -> 0.0(0.0) | D15: =data!I323 -> . | E15: =data!J323 -> 209 | F15: =data!K323 -> 0.0(0.0) | G15: =data!L323 -> . | H15: =data!M323 -> 305 | I15: =data!N323 -> 0.0(0.0) | J15: =data!O323 -> .
A16: 교육수준2)
A17: 무학 | B17: =data!G325 -> 169 | C17: =data!H325 -> 0.0(0.0) | D17: =data!I325 -> . | E17: =data!J325 -> 10 | F17: =data!K325 -> -(-) | G17: =data!L325 -> - | H17: =data!M325 -> 159 | I17: =data!N325 -> 0.0(0.0) | J17: =data!O325 -> .
A18: 초등학교 | B18: =data!G326 -> 239 | C18: =data!H326 -> 0.0(0.0) | D18: =data!I326 -> . | E18: =data!J326 -> 103 | F18: =data!K326 -> 0.0(0.0) | G18: =data!L326 -> . | H18: =data!M326 -> 136 | I18: =data!N326 -> 0.0(0.0) | J18: =data!O326 -> .
A19: 중학교 | B19: =data!G327 -> 165 | C19: =data!H327 -> 0.0(0.0) | D19: =data!I327 -> . | E19: =data!J327 -> 90 | F19: =data!K327 -> 0.0(0.0) | G19: =data!L327 -> . | H19: =data!M327 -> 75 | I19: =data!N327 -> 0.0(0.0) | J19: =data!O327 -> .
A20: 고등학교 | B20: =data!G328 -> 225 | C20: =data!H328 -> 1.1(0.7) | D20: =data!I328 -> 70.1 | E20: =data!J328 -> 150 | F20: =data!K328 -> 0.7(0.7) | G20: =data!L328 -> 100.6 | H20: =data!M328 -> 75 | I20: =data!N328 -> 1.9(1.8) | J20: =data!O328 -> 97.9
A21: 대학교 이상 | B21: =data!G329 -> 86 | C21: =data!H329 -> 1.7(1.8) | D21: =data!I329 -> 102.2 | E21: =data!J329 -> 55 | F21: =data!K329 -> 2.6(2.6) | G21: =data!L329 -> 101.2 | H21: =data!M329 -> 31 | I21: =data!N329 -> 0.0(0.0) | J21: =data!O329 -> .
A22: 직업
A23: 전문행정관리 | B23: =data!G331 -> 26 | C23: =data!H331 -> 0.0(0.0) | D23: =data!I331 -> . | E23: =data!J331 -> 17 | F23: =data!K331 -> -(-) | G23: =data!L331 -> - | H23: =data!M331 -> 9 | I23: =data!N331 -> -(-) | J23: =data!O331 -> -
A24: 사무직 | B24: =data!G332 -> 19 | C24: =data!H332 -> -(-) | D24: =data!I332 -> - | E24: =data!J332 -> 5 | F24: =data!K332 -> -(-) | G24: =data!L332 -> - | H24: =data!M332 -> 14 | I24: =data!N332 -> -(-) | J24: =data!O332 -> -
A25: 판매･서비스직 | B25: =data!G333 -> 71 | C25: =data!H333 -> 2.2(2.2) | D25: =data!I333 -> 98.6 | E25: =data!J333 -> 15 | F25: =data!K333 -> -(-) | G25: =data!L333 -> - | H25: =data!M333 -> 56 | I25: =data!N333 -> 2.9(2.8) | J25: =data!O333 -> 97.4
A26: 농림어업 | B26: =data!G334 -> 344 | C26: =data!H334 -> 0.7(0.7) | D26: =data!I334 -> 98.0 | E26: =data!J334 -> 181 | F26: =data!K334 -> 1.1(1.1) | G26: =data!L334 -> 97.6 | H26: =data!M334 -> 163 | I26: =data!N334 -> 0.0(0.0) | J26: =data!O334 -> .
A27: 기능단순노무직 | B27: =data!G335 -> 164 | C27: =data!H335 -> 0.8(0.8) | D27: =data!I335 -> 99.7 | E27: =data!J335 -> 81 | F27: =data!K335 -> 1.3(1.3) | G27: =data!L335 -> 99.3 | H27: =data!M335 -> 83 | I27: =data!N335 -> 0.0(0.0) | J27: =data!O335 -> .
A28: 기타3) | B28: =data!G336 -> 260 | C28: =data!H336 -> 0.0(0.0) | D28: =data!I336 -> . | E28: =data!J336 -> 109 | F28: =data!K336 -> 0.0(0.0) | G28: =data!L336 -> . | H28: =data!M336 -> 151 | I28: =data!N336 -> 0.0(0.0) | J28: =data!O336 -> .
A29: 월 가구소득
A30: 100만원 미만 | B30: =data!G338 -> 315 | C30: =data!H338 -> 0.0(0.0) | D30: =data!I338 -> . | E30: =data!J338 -> 120 | F30: =data!K338 -> 0.0(0.0) | G30: =data!L338 -> . | H30: =data!M338 -> 195 | I30: =data!N338 -> 0.0(0.0) | J30: =data!O338 -> .
A31: 100-200만원 미만 | B31: =data!G339 -> 185 | C31: =data!H339 -> 0.0(0.0) | D31: =data!I339 -> . | E31: =data!J339 -> 86 | F31: =data!K339 -> 0.0(0.0) | G31: =data!L339 -> . | H31: =data!M339 -> 99 | I31: =data!N339 -> 0.0(0.0) | J31: =data!O339 -> .
A32: 200-300만원 미만 | B32: =data!G340 -> 101 | C32: =data!H340 -> 0.0(0.0) | D32: =data!I340 -> . | E32: =data!J340 -> 51 | F32: =data!K340 -> 0.0(0.0) | G32: =data!L340 -> . | H32: =data!M340 -> 50 | I32: =data!N340 -> 0.0(0.0) | J32: =data!O340 -> .
A33: 300-400만원 미만 | B33: =data!G341 -> 72 | C33: =data!H341 -> 0.0(0.0) | D33: =data!I341 -> . | E33: =data!J341 -> 35 | F33: =data!K341 -> 0.0(0.0) | G33: =data!L341 -> . | H33: =data!M341 -> 37 | I33: =data!N341 -> 0.0(0.0) | J33: =data!O341 -> .
A34: 400만원 이상 | B34: =data!G342 -> 211 | C34: =data!H342 -> 2.1(1.2) | D34: =data!I342 -> 57.4 | E34: =data!J342 -> 116 | F34: =data!K342 -> 2.4(1.7) | G34: =data!L342 -> 71.9 | H34: =data!M342 -> 95 | I34: =data!N342 -> 1.6(1.6) | J34: =data!O342 -> 98.7
A35: 작년 대비 가구소득 변화
A36: 줄어들었다 | B36: =data!G344 -> 260 | C36: =data!H344 -> 1.4(1.0) | D36: =data!I344 -> 69.3 | E36: =data!J344 -> 134 | F36: =data!K344 -> 1.4(1.3) | G36: =data!L344 -> 99.1 | H36: =data!M344 -> 126 | I36: =data!N344 -> 1.5(1.5) | J36: =data!O344 -> 97.6
A37: 변함없다 | B37: =data!G345 -> 530 | C37: =data!H345 -> 0.0(0.0) | D37: =data!I345 -> . | E37: =data!J345 -> 228 | F37: =data!K345 -> 0.0(0.0) | G37: =data!L345 -> . | H37: =data!M345 -> 302 | I37: =data!N345 -> 0.0(0.0) | J37: =data!O345 -> .
A38: 늘어났다 | B38: =data!G346 -> 94 | C38: =data!H346 -> 1.4(1.4) | D38: =data!I346 -> 100.9 | E38: =data!J346 -> 46 | F38: =data!K346 -> 2.5(2.5) | G38: =data!L346 -> 102.4 | H38: =data!M346 -> 48 | I38: =data!N346 -> 0.0(0.0) | J38: =data!O346 -> .
A39: 거주유형
A40: 동
A41: 읍〮면 | B41: =data!G349 -> 884 | C41: =data!H349 -> 0.6(0.4) | D41: =data!I349 -> 58.1 | E41: =data!J349 -> 408 | F41: =data!K349 -> 0.8(0.6) | G41: =data!L349 -> 71.4 | H41: =data!M349 -> 476 | I41: =data!N349 -> 0.4(0.4) | J41: =data!O349 -> 99.7
...

Sheet <표>궐련형전자담배현재흡연율
A1: <표 21> 궐련형 전자담배 현재흡연율1)
A2: (단위: %)
A3: 구분 | B3: 전체 | E3: 남자 | H3: 여자
B4: N | C4: %(표준오차) | D4: 상대표준오차 | E4: N | F4: %(표준오차) | G4: 상대표준오차 | H4: N | I4: %(표준오차) | J4: 상대표준오차
A5: 전체 | B5: =data!G350 -> 884 | C5: =data!H350 -> 0.4(0.3) | D5: =data!I350 -> 70.0 | E5: =data!J350 -> 408 | F5: =data!K350 -> 0.3(0.3) | G5: =data!L350 -> 99.7 | H5: =data!M350 -> 476 | I5: =data!N350 -> 0.4(0.4) | J5: =data!O350 -> 99.7
A6: 연령
A7: 19-29 | B7: =data!G352 -> 19 | C7: =data!H352 -> -(-) | D7: =data!I352 -> - | E7: =data!J352 -> 13 | F7: =data!K352 -> -(-) | G7: =data!L352 -> - | H7: =data!M352 -> 6 | I7: =data!N352 -> -(-) | J7: =data!O352 -> -
A8: 30-39 | B8: =data!G353 -> 19 | C8: =data!H353 -> -(-) | D8: =data!I353 -> - | E8: =data!J353 -> 10 | F8: =data!K353 -> -(-) | G8: =data!L353 -> - | H8: =data!M353 -> 9 | I8: =data!N353 -> -(-) | J8: =data!O353 -> -
A9: 40-49 | B9: =data!G354 -> 59 | C9: =data!H354 -> 1.6(1.6) | D9: =data!I354 -> 97.9 | E9: =data!J354 -> 30 | F9: =data!K354 -> 0.0(0.0) | G9: =data!L354 -> . | H9: =data!M354 -> 29 | I9: =data!N354 -> 4.8(4.7) | J9: =data!O354 -> 98.2
A10: 50-59 | B10: =data!G355 -> 149 | C10: =data!H355 -> 0.9(0.9) | D10: =data!I355 -> 99.3 | E10: =data!J355 -> 78 | F10: =data!K355 -> 1.4(1.4) | G10: =data!L355 -> 98.8 | H10: =data!M355 -> 71 | I10: =data!N355 -> 0.0(0.0) | J10: =data!O355 -> .
A11: 60-69 | B11: =data!G356 -> 239 | C11: =data!H356 -> 0.0(0.0) | D11: =data!I356 -> . | E11: =data!J356 -> 124 | F11: =data!K356 -> 0.0(0.0) | G11: =data!L356 -> . | H11: =data!M356 -> 115 | I11: =data!N356 -> 0.0(0.0) | J11: =data!O356 -> .
A12: 70 이상 | B12: =data!G357 -> 399 | C12: =data!H357 -> 0.0(0.0) | D12: =data!I357 -> . | E12: =data!J357 -> 153 | F12: =data!K357 -> 0.0(0.0) | G12: =data!L357 -> . | H12: =data!M357 -> 246 | I12: =data!N357 -> 0.0(0.0) | J12: =data!O357 -> .
A14: 19-64 | B14: =data!G359 -> 370 | C14: =data!H359 -> 0.6(0.4) | D14: =data!I359 -> 69.3 | E14: =data!J359 -> 199 | F14: =data!K359 -> 0.5(0.5) | G14: =data!L359 -> 99.8 | H14: =data!M359 -> 171 | I14: =data!N359 -> 0.9(0.9) | J14: =data!O359 -> 98.8
A15: 65 이상 | B15: =data!G360 -> 514 | C15: =data!H360 -> 0.0(0.0) | D15: =data!I360 -> . | E15: =data!J360 -> 209 | F15: =data!K360 -> 0.0(0.0) | G15: =data!L360 -> . | H15: =data!M360 -> 305 | I15: =data!N360 -> 0.0(0.0) | J15: =data!O360 -> .
A16: 교육수준2)
A17: 무학 | B17: =data!G362 -> 169 | C17: =data!H362 -> 0.0(0.0) | D17: =data!I362 -> . | E17: =data!J362 -> 10 | F17: =data!K362 -> -(-) | G17: =data!L362 -> - | H17: =data!M362 -> 159 | I17: =data!N362 -> 0.0(0.0) | J17: =data!O362 -> .
A18: 초등학교 | B18: =data!G363 -> 239 | C18: =data!H363 -> 0.0(0.0) | D18: =data!I363 -> . | E18: =data!J363 -> 103 | F18: =data!K363 -> 0.0(0.0) | G18: =data!L363 -> . | H18: =data!M363 -> 136 | I18: =data!N363 -> 0.0(0.0) | J18: =data!O363 -> .
A19: 중학교 | B19: =data!G364 -> 165 | C19: =data!H364 -> 0.0(0.0) | D19: =data!I364 -> . | E19: =data!J364 -> 90 | F19: =data!K364 -> 0.0(0.0) | G19: =data!L364 -> . | H19: =data!M364 -> 75 | I19: =data!N364 -> 0.0(0.0) | J19: =data!O364 -> .
A20: 고등학교 | B20: =data!G365 -> 225 | C20: =data!H365 -> 1.1(0.7) | D20: =data!I365 -> 70.1 | E20: =data!J365 -> 150 | F20: =data!K365 -> 0.7(0.7) | G20: =data!L365 -> 100.6 | H20: =data!M365 -> 75 | I20: =data!N365 -> 1.9(1.8) | J20: =data!O365 -> 97.9
A21: 대학교 이상 | B21: =data!G366 -> 86 | C21: =data!H366 -> 0.0(0.0) | D21: =data!I366 -> . | E21: =data!J366 -> 55 | F21: =data!K366 -> 0.0(0.0) | G21: =data!L366 -> . | H21: =data!M366 -> 31 | I21: =data!N366 -> 0.0(0.0) | J21: =data!O366 -> .
A22: 직업
A23: 전문행정관리 | B23: =data!G368 -> 26 | C23: =data!H368 -> 0.0(0.0) | D23: =data!I368 -> . | E23: =data!J368 -> 17 | F23: =data!K368 -> -(-) | G23: =data!L368 -> - | H23: =data!M368 -> 9 | I23: =data!N368 -> -(-) | J23: =data!O368 -> -
A24: 사무직 | B24: =data!G369 -> 19 | C24: =data!H369 -> -(-) | D24: =data!I369 -> - | E24: =data!J369 -> 5 | F24: =data!K369 -> -(-) | G24: =data!L369 -> - | H24: =data!M369 -> 14 | I24: =data!N369 -> -(-) | J24: =data!O369 -> -
A25: 판매･서비스직 | B25: =data!G370 -> 71 | C25: =data!H370 -> 2.2(2.2) | D25: =data!I370 -> 98.6 | E25: =data!J370 -> 15 | F25: =data!K370 -> -(-) | G25: =data!L370 -> - | H25: =data!M370 -> 56 | I25: =data!N370 -> 2.9(2.8) | J25: =data!O370 -> 97.4
A26: 농림어업 | B26: =data!G371 -> 344 | C26: =data!H371 -> 0.0(0.0) | D26: =data!I371 -> . | E26: =data!J371 -> 181 | F26: =data!K371 -> 0.0(0.0) | G26: =data!L371 -> . | H26: =data!M371 -> 163 | I26: =data!N371 -> 0.0(0.0) | J26: =data!O371 -> .
A27: 기능단순노무직 | B27: =data!G372 -> 164 | C27: =data!H372 -> 0.8(0.8) | D27: =data!I372 -> 99.7 | E27: =data!J372 -> 81 | F27: =data!K372 -> 1.3(1.3) | G27: =data!L372 -> 99.3 | H27: =data!M372 -> 83 | I27: =data!N372 -> 0.0(0.0) | J27: =data!O372 -> .
A28: 기타3) | B28: =data!G373 -> 260 | C28: =data!H373 -> 0.0(0.0) | D28: =data!I373 -> . | E28: =data!J373 -> 109 | F28: =data!K373 -> 0.0(0.0) | G28: =data!L373 -> . | H28: =data!M373 -> 151 | I28: =data!N373 -> 0.0(0.0) | J28: =data!O373 -> .
A29: 월 가구소득
A30: 100만원 미만 | B30: =data!G375 -> 315 | C30: =data!H375 -> 0.0(0.0) | D30: =data!I375 -> . | E30: =data!J375 -> 120 | F30: =data!K375 -> 0.0(0.0) | G30: =data!L375 -> . | H30: =data!M375 -> 195 | I30: =data!N375 -> 0.0(0.0) | J30: =data!O375 -> .
A31: 100-200만원 미만 | B31: =data!G376 -> 185 | C31: =data!H376 -> 0.0(0.0) | D31: =data!I376 -> . | E31: =data!J376 -> 86 | F31: =data!K376 -> 0.0(0.0) | G31: =data!L376 -> . | H31: =data!M376 -> 99 | I31: =data!N376 -> 0.0(0.0) | J31: =data!O376 -> .
A32: 200-300만원 미만 | B32: =data!G377 -> 101 | C32: =data!H377 -> 0.0(0.0) | D32: =data!I377 -> . | E32: =data!J377 -> 51 | F32: =data!K377 -> 0.0(0.0) | G32: =data!L377 -> . | H32: =data!M377 -> 50 | I32: =data!N377 -> 0.0(0.0) | J32: =data!O377 -> .
A33: 300-400만원 미만 | B33: =data!G378 -> 72 | C33: =data!H378 -> 0.0(0.0) | D33: =data!I378 -> . | E33: =data!J378 -> 35 | F33: =data!K378 -> 0.0(0.0) | G33: =data!L378 -> . | H33: =data!M378 -> 37 | I33: =data!N378 -> 0.0(0.0) | J33: =data!O378 -> .
A34: 400만원 이상 | B34: =data!G379 -> 211 | C34: =data!H379 -> 1.2(0.8) | D34: =data!I379 -> 69.0 | E34: =data!J379 -> 116 | F34: =data!K379 -> 1.0(1.0) | G34: =data!L379 -> 101.2 | H34: =data!M379 -> 95 | I34: =data!N379 -> 1.6(1.6) | J34: =data!O379 -> 98.7
A35: 작년 대비 가구소득 변화
A36: 줄어들었다 | B36: =data!G381 -> 260 | C36: =data!H381 -> 0.6(0.6) | D36: =data!I381 -> 96.5 | E36: =data!J381 -> 134 | F36: =data!K381 -> 0.0(0.0) | G36: =data!L381 -> . | H36: =data!M381 -> 126 | I36: =data!N381 -> 1.5(1.5) | J36: =data!O381 -> 97.6
A37: 변함없다 | B37: =data!G382 -> 530 | C37: =data!H382 -> 0.0(0.0) | D37: =data!I382 -> . | E37: =data!J382 -> 228 | F37: =data!K382 -> 0.0(0.0) | G37: =data!L382 -> . | H37: =data!M382 -> 302 | I37: =data!N382 -> 0.0(0.0) | J37: =data!O382 -> .
A38: 늘어났다 | B38: =data!G383 -> 94 | C38: =data!H383 -> 1.4(1.4) | D38: =data!I383 -> 100.9 | E38: =data!J383 -> 46 | F38: =data!K383 -> 2.5(2.5) | G38: =data!L383 -> 102.4 | H38: =data!M383 -> 48 | I38: =data!N383 -> 0.0(0.0) | J38: =data!O383 -> .
A39: 거주유형
A40: 동
A41: 읍〮면 | B41: =data!G386 -> 884 | C41: =data!H386 -> 0.4(0.3) | D41: =data!I386 -> 70.0 | E41: =data!J386 -> 408 | F41: =data!K386 -> 0.3(0.3) | G41: =data!L386 -> 99.7 | H41: =data!M386 -> 476 | I41: =data!N386 -> 0.4(0.4) | J41: =data!O386 -> 99.7
...

Sheet <표>액상형전자담배평생사용률
A1: <표 22> 액상형 전자담배 평생사용률1)
A2: (단위: %)
A3: 구분 | B3: 전체 | E3: 남자 | H3: 여자
B4: N | C4: %(표준오차) | D4: 상대표준오차 | E4: N | F4: %(표준오차) | G4: 상대표준오차 | H4: N | I4: %(표준오차) | J4: 상대표준오차
A5: 전체 | B5: =data!G387 -> 884 | C5: =data!H387 -> 0.9(0.5) | D5: =data!I387 -> 51.4 | E5: =data!J387 -> 408 | F5: =data!K387 -> 1.8(0.9) | G5: =data!L387 -> 50.8 | H5: =data!M387 -> 476 | I5: =data!N387 -> 0.0(0.0) | J5: =data!O387 -> .
A6: 연령
A7: 19-29 | B7: =data!G389 -> 19 | C7: =data!H389 -> -(-) | D7: =data!I389 -> - | E7: =data!J389 -> 13 | F7: =data!K389 -> -(-) | G7: =data!L389 -> - | H7: =data!M389 -> 6 | I7: =data!N389 -> -(-) | J7: =data!O389 -> -
A8: 30-39 | B8: =data!G390 -> 19 | C8: =data!H390 -> -(-) | D8: =data!I390 -> - | E8: =data!J390 -> 10 | F8: =data!K390 -> -(-) | G8: =data!L390 -> - | H8: =data!M390 -> 9 | I8: =data!N390 -> -(-) | J8: =data!O390 -> -
A9: 40-49 | B9: =data!G391 -> 59 | C9: =data!H391 -> 2.2(2.2) | D9: =data!I391 -> 98.5 | E9: =data!J391 -> 30 | F9: =data!K391 -> 3.3(3.2) | G9: =data!L391 -> 96.4 | H9: =data!M391 -> 29 | I9: =data!N391 -> 0.0(0.0) | J9: =data!O391 -> .
A10: 50-59 | B10: =data!G392 -> 149 | C10: =data!H392 -> 1.7(1.1) | D10: =data!I392 -> 66.3 | E10: =data!J392 -> 78 | F10: =data!K392 -> 2.7(1.8) | G10: =data!L392 -> 65.8 | H10: =data!M392 -> 71 | I10: =data!N392 -> 0.0(0.0) | J10: =data!O392 -> .
A11: 60-69 | B11: =data!G393 -> 239 | C11: =data!H393 -> 0.0(0.0) | D11: =data!I393 -> . | E11: =data!J393 -> 124 | F11: =data!K393 -> 0.0(0.0) | G11: =data!L393 -> . | H11: =data!M393 -> 115 | I11: =data!N393 -> 0.0(0.0) | J11: =data!O393 -> .
A12: 70 이상 | B12: =data!G394 -> 399 | C12: =data!H394 -> 0.0(0.0) | D12: =data!I394 -> . | E12: =data!J394 -> 153 | F12: =data!K394 -> 0.0(0.0) | G12: =data!L394 -> . | H12: =data!M394 -> 246 | I12: =data!N394 -> 0.0(0.0) | J12: =data!O394 -> .
A14: 19-64 | B14: =data!G396 -> 370 | C14: =data!H396 -> 1.7(0.9) | D14: =data!I396 -> 51.4 | E14: =data!J396 -> 199 | F14: =data!K396 -> 2.7(1.4) | G14: =data!L396 -> 50.5 | H14: =data!M396 -> 171 | I14: =data!N396 -> 0.0(0.0) | J14: =data!O396 -> .
A15: 65 이상 | B15: =data!G397 -> 514 | C15: =data!H397 -> 0.0(0.0) | D15: =data!I397 -> . | E15: =data!J397 -> 209 | F15: =data!K397 -> 0.0(0.0) | G15: =data!L397 -> . | H15: =data!M397 -> 305 | I15: =data!N397 -> 0.0(0.0) | J15: =data!O397 -> .
A16: 교육수준2)
A17: 무학 | B17: =data!G399 -> 169 | C17: =data!H399 -> 0.0(0.0) | D17: =data!I399 -> . | E17: =data!J399 -> 10 | F17: =data!K399 -> -(-) | G17: =data!L399 -> - | H17: =data!M399 -> 159 | I17: =data!N399 -> 0.0(0.0) | J17: =data!O399 -> .
A18: 초등학교 | B18: =data!G400 -> 239 | C18: =data!H400 -> 0.0(0.0) | D18: =data!I400 -> . | E18: =data!J400 -> 103 | F18: =data!K400 -> 0.0(0.0) | G18: =data!L400 -> . | H18: =data!M400 -> 136 | I18: =data!N400 -> 0.0(0.0) | J18: =data!O400 -> .
A19: 중학교 | B19: =data!G401 -> 165 | C19: =data!H401 -> 0.0(0.0) | D19: =data!I401 -> . | E19: =data!J401 -> 90 | F19: =data!K401 -> 0.0(0.0) | G19: =data!L401 -> . | H19: =data!M401 -> 75 | I19: =data!N401 -> 0.0(0.0) | J19: =data!O401 -> .
A20: 고등학교 | B20: =data!G402 -> 225 | C20: =data!H402 -> 2.0(1.2) | D20: =data!I402 -> 59.9 | E20: =data!J402 -> 150 | F20: =data!K402 -> 2.9(1.7) | G20: =data!L402 -> 58.8 | H20: =data!M402 -> 75 | I20: =data!N402 -> 0.0(0.0) | J20: =data!O402 -> .
A21: 대학교 이상 | B21: =data!G403 -> 86 | C21: =data!H403 -> 1.7(1.8) | D21: =data!I403 -> 102.2 | E21: =data!J403 -> 55 | F21: =data!K403 -> 2.6(2.6) | G21: =data!L403 -> 101.2 | H21: =data!M403 -> 31 | I21: =data!N403 -> 0.0(0.0) | J21: =data!O403 -> .
A22: 직업
A23: 전문행정관리 | B23: =data!G405 -> 26 | C23: =data!H405 -> 0.0(0.0) | D23: =data!I405 -> . | E23: =data!J405 -> 17 | F23: =data!K405 -> -(-) | G23: =data!L405 -> - | H23: =data!M405 -> 9 | I23: =data!N405 -> -(-) | J23: =data!O405 -> -
A24: 사무직 | B24: =data!G406 -> 19 | C24: =data!H406 -> -(-) | D24: =data!I406 -> - | E24: =data!J406 -> 5 | F24: =data!K406 -> -(-) | G24: =data!L406 -> - | H24: =data!M406 -> 14 | I24: =data!N406 -> -(-) | J24: =data!O406 -> -
A25: 판매･서비스직 | B25: =data!G407 -> 71 | C25: =data!H407 -> 1.9(1.9) | D25: =data!I407 -> 97.7 | E25: =data!J407 -> 15 | F25: =data!K407 -> -(-) | G25: =data!L407 -> - | H25: =data!M407 -> 56 | I25: =data!N407 -> 0.0(0.0) | J25: =data!O407 -> .
A26: 농림어업 | B26: =data!G408 -> 344 | C26: =data!H408 -> 0.7(0.7) | D26: =data!I408 -> 98.0 | E26: =data!J408 -> 181 | F26: =data!K408 -> 1.1(1.1) | G26: =data!L408 -> 97.6 | H26: =data!M408 -> 163 | I26: =data!N408 -> 0.0(0.0) | J26: =data!O408 -> .
A27: 기능단순노무직 | B27: =data!G409 -> 164 | C27: =data!H409 -> 2.5(1.8) | D27: =data!I409 -> 72.5 | E27: =data!J409 -> 81 | F27: =data!K409 -> 4.0(2.8) | G27: =data!L409 -> 70.9 | H27: =data!M409 -> 83 | I27: =data!N409 -> 0.0(0.0) | J27: =data!O409 -> .
A28: 기타3) | B28: =data!G410 -> 260 | C28: =data!H410 -> 0.0(0.0) | D28: =data!I410 -> . | E28: =data!J410 -> 109 | F28: =data!K410 -> 0.0(0.0) | G28: =data!L410 -> . | H28: =data!M410 -> 151 | I28: =data!N410 -> 0.0(0.0) | J28: =data!O410 -> .
A29: 월 가구소득
A30: 100만원 미만 | B30: =data!G412 -> 315 | C30: =data!H412 -> 1.7(1.2) | D30: =data!I412 -> 71.9 | E30: =data!J412 -> 120 | F30: =data!K412 -> 3.9(2.6) | G30: =data!L412 -> 68.7 | H30: =data!M412 -> 195 | I30: =data!N412 -> 0.0(0.0) | J30: =data!O412 -> .
A31: 100-200만원 미만 | B31: =data!G413 -> 185 | C31: =data!H413 -> 0.0(0.0) | D31: =data!I413 -> . | E31: =data!J413 -> 86 | F31: =data!K413 -> 0.0(0.0) | G31: =data!L413 -> . | H31: =data!M413 -> 99 | I31: =data!N413 -> 0.0(0.0) | J31: =data!O413 -> .
A32: 200-300만원 미만 | B32: =data!G414 -> 101 | C32: =data!H414 -> 0.0(0.0) | D32: =data!I414 -> . | E32: =data!J414 -> 51 | F32: =data!K414 -> 0.0(0.0) | G32: =data!L414 -> . | H32: =data!M414 -> 50 | I32: =data!N414 -> 0.0(0.0) | J32: =data!O414 -> .
A33: 300-400만원 미만 | B33: =data!G415 -> 72 | C33: =data!H415 -> 0.0(0.0) | D33: =data!I415 -> . | E33: =data!J415 -> 35 | F33: =data!K415 -> 0.0(0.0) | G33: =data!L415 -> . | H33: =data!M415 -> 37 | I33: =data!N415 -> 0.0(0.0) | J33: =data!O415 -> .
A34: 400만원 이상 | B34: =data!G416 -> 211 | C34: =data!H416 -> 1.4(1.0) | D34: =data!I416 -> 71.6 | E34: =data!J416 -> 116 | F34: =data!K416 -> 2.3(1.7) | G34: =data!L416 -> 71.9 | H34: =data!M416 -> 95 | I34: =data!N416 -> 0.0(0.0) | J34: =data!O416 -> .
A35: 작년 대비 가구소득 변화
A36: 줄어들었다 | B36: =data!G418 -> 260 | C36: =data!H418 -> 2.5(1.4) | D36: =data!I418 -> 57.4 | E36: =data!J418 -> 134 | F36: =data!K418 -> 4.1(2.3) | G36: =data!L418 -> 56.7 | H36: =data!M418 -> 126 | I36: =data!N418 -> 0.0(0.0) | J36: =data!O418 -> .
A37: 변함없다 | B37: =data!G419 -> 530 | C37: =data!H419 -> 0.3(0.3) | D37: =data!I419 -> 100.7 | E37: =data!J419 -> 228 | F37: =data!K419 -> 0.6(0.6) | G37: =data!L419 -> 101.4 | H37: =data!M419 -> 302 | I37: =data!N419 -> 0.0(0.0) | J37: =data!O419 -> .
A38: 늘어났다 | B38: =data!G420 -> 94 | C38: =data!H420 -> 0.0(0.0) | D38: =data!I420 -> . | E38: =data!J420 -> 46 | F38: =data!K420 -> 0.0(0.0) | G38: =data!L420 -> . | H38: =data!M420 -> 48 | I38: =data!N420 -> 0.0(0.0) | J38: =data!O420 -> .
A39: 거주유형
A40: 동
A41: 읍〮면 | B41: =data!G423 -> 884 | C41: =data!H423 -> 0.9(0.5) | D41: =data!I423 -> 51.4 | E41: =data!J423 -> 408 | F41: =data!K423 -> 1.8(0.9) | G41: =data!L423 -> 50.8 | H41: =data!M423 -> 476 | I41: =data!N423 -> 0.0(0.0) | J41: =data!O423 -> .
...

Sheet <표>액상형전자담배현재사용률
A1: <표 23> 액상형 전자담배 현재사용률1)
A2: (단위: %)
A3: 구분 | B3: 전체 | E3: 남자 | H3: 여자
B4: N | C4: %(표준오차) | D4: 상대표준오차 | E4: N | F4: %(표준오차) | G4: 상대표준오차 | H4: N | I4: %(표준오차) | J4: 상대표준오차
A5: 전체 | B5: =data!G424 -> 884 | C5: =data!H424 -> 0.2(0.2) | D5: =data!I424 -> 100.6 | E5: =data!J424 -> 408 | F5: =data!K424 -> 0.3(0.3) | G5: =data!L424 -> 101.0 | H5: =data!M424 -> 476 | I5: =data!N424 -> 0.0(0.0) | J5: =data!O424 -> .
A6: 연령
A7: 19-29 | B7: =data!G426 -> 19 | C7: =data!H426 -> -(-) | D7: =data!I426 -> - | E7: =data!J426 -> 13 | F7: =data!K426 -> -(-) | G7: =data!L426 -> - | H7: =data!M426 -> 6 | I7: =data!N426 -> -(-) | J7: =data!O426 -> -
A8: 30-39 | B8: =data!G427 -> 19 | C8: =data!H427 -> -(-) | D8: =data!I427 -> - | E8: =data!J427 -> 10 | F8: =data!K427 -> -(-) | G8: =data!L427 -> - | H8: =data!M427 -> 9 | I8: =data!N427 -> -(-) | J8: =data!O427 -> -
A9: 40-49 | B9: =data!G428 -> 59 | C9: =data!H428 -> 0.0(0.0) | D9: =data!I428 -> . | E9: =data!J428 -> 30 | F9: =data!K428 -> 0.0(0.0) | G9: =data!L428 -> . | H9: =data!M428 -> 29 | I9: =data!N428 -> 0.0(0.0) | J9: =data!O428 -> .
A10: 50-59 | B10: =data!G429 -> 149 | C10: =data!H429 -> 0.8(0.8) | D10: =data!I429 -> 101.0 | E10: =data!J429 -> 78 | F10: =data!K429 -> 1.4(1.4) | G10: =data!L429 -> 100.9 | H10: =data!M429 -> 71 | I10: =data!N429 -> 0.0(0.0) | J10: =data!O429 -> .
A11: 60-69 | B11: =data!G430 -> 239 | C11: =data!H430 -> 0.0(0.0) | D11: =data!I430 -> . | E11: =data!J430 -> 124 | F11: =data!K430 -> 0.0(0.0) | G11: =data!L430 -> . | H11: =data!M430 -> 115 | I11: =data!N430 -> 0.0(0.0) | J11: =data!O430 -> .
A12: 70 이상 | B12: =data!G431 -> 399 | C12: =data!H431 -> 0.0(0.0) | D12: =data!I431 -> . | E12: =data!J431 -> 153 | F12: =data!K431 -> 0.0(0.0) | G12: =data!L431 -> . | H12: =data!M431 -> 246 | I12: =data!N431 -> 0.0(0.0) | J12: =data!O431 -> .
A14: 19-64 | B14: =data!G433 -> 370 | C14: =data!H433 -> 0.3(0.3) | D14: =data!I433 -> 101.2 | E14: =data!J433 -> 199 | F14: =data!K433 -> 0.5(0.5) | G14: =data!L433 -> 101.3 | H14: =data!M433 -> 171 | I14: =data!N433 -> 0.0(0.0) | J14: =data!O433 -> .
A15: 65 이상 | B15: =data!G434 -> 514 | C15: =data!H434 -> 0.0(0.0) | D15: =data!I434 -> . | E15: =data!J434 -> 209 | F15: =data!K434 -> 0.0(0.0) | G15: =data!L434 -> . | H15: =data!M434 -> 305 | I15: =data!N434 -> 0.0(0.0) | J15: =data!O434 -> .
A16: 교육수준2)
A17: 무학 | B17: =data!G436 -> 169 | C17: =data!H436 -> 0.0(0.0) | D17: =data!I436 -> . | E17: =data!J436 -> 10 | F17: =data!K436 -> -(-) | G17: =data!L436 -> - | H17: =data!M436 -> 159 | I17: =data!N436 -> 0.0(0.0) | J17: =data!O436 -> .
A18: 초등학교 | B18: =data!G437 -> 239 | C18: =data!H437 -> 0.0(0.0) | D18: =data!I437 -> . | E18: =data!J437 -> 103 | F18: =data!K437 -> 0.0(0.0) | G18: =data!L437 -> . | H18: =data!M437 -> 136 | I18: =data!N437 -> 0.0(0.0) | J18: =data!O437 -> .
A19: 중학교 | B19: =data!G438 -> 165 | C19: =data!H438 -> 0.0(0.0) | D19: =data!I438 -> . | E19: =data!J438 -> 90 | F19: =data!K438 -> 0.0(0.0) | G19: =data!L438 -> . | H19: =data!M438 -> 75 | I19: =data!N438 -> 0.0(0.0) | J19: =data!O438 -> .
A20: 고등학교 | B20: =data!G439 -> 225 | C20: =data!H439 -> 0.5(0.5) | D20: =data!I439 -> 101.1 | E20: =data!J439 -> 150 | F20: =data!K439 -> 0.7(0.7) | G20: =data!L439 -> 101.2 | H20: =data!M439 -> 75 | I20: =data!N439 -> 0.0(0.0) | J20: =data!O439 -> .
A21: 대학교 이상 | B21: =data!G440 -> 86 | C21: =data!H440 -> 0.0(0.0) | D21: =data!I440 -> . | E21: =data!J440 -> 55 | F21: =data!K440 -> 0.0(0.0) | G21: =data!L440 -> . | H21: =data!M440 -> 31 | I21: =data!N440 -> 0.0(0.0) | J21: =data!O440 -> .
A22: 직업
A23: 전문행정관리 | B23: =data!G442 -> 26 | C23: =data!H442 -> 0.0(0.0) | D23: =data!I442 -> . | E23: =data!J442 -> 17 | F23: =data!K442 -> -(-) | G23: =data!L442 -> - | H23: =data!M442 -> 9 | I23: =data!N442 -> -(-) | J23: =data!O442 -> -
A24: 사무직 | B24: =data!G443 -> 19 | C24: =data!H443 -> -(-) | D24: =data!I443 -> - | E24: =data!J443 -> 5 | F24: =data!K443 -> -(-) | G24: =data!L443 -> - | H24: =data!M443 -> 14 | I24: =data!N443 -> -(-) | J24: =data!O443 -> -
A25: 판매･서비스직 | B25: =data!G444 -> 71 | C25: =data!H444 -> 0.0(0.0) | D25: =data!I444 -> . | E25: =data!J444 -> 15 | F25: =data!K444 -> -(-) | G25: =data!L444 -> - | H25: =data!M444 -> 56 | I25: =data!N444 -> 0.0(0.0) | J25: =data!O444 -> .
A26: 농림어업 | B26: =data!G445 -> 344 | C26: =data!H445 -> 0.0(0.0) | D26: =data!I445 -> . | E26: =data!J445 -> 181 | F26: =data!K445 -> 0.0(0.0) | G26: =data!L445 -> . | H26: =data!M445 -> 163 | I26: =data!N445 -> 0.0(0.0) | J26: =data!O445 -> .
A27: 기능단순노무직 | B27: =data!G446 -> 164 | C27: =data!H446 -> 0.8(0.8) | D27: =data!I446 -> 100.7 | E27: =data!J446 -> 81 | F27: =data!K446 -> 1.3(1.3) | G27: =data!L446 -> 101.2 | H27: =data!M446 -> 83 | I27: =data!N446 -> 0.0(0.0) | J27: =data!O446 -> .
A28: 기타3) | B28: =data!G447 -> 260 | C28: =data!H447 -> 0.0(0.0) | D28: =data!I447 -> . | E28: =data!J447 -> 109 | F28: =data!K447 -> 0.0(0.0) | G28: =data!L447 -> . | H28: =data!M447 -> 151 | I28: =data!N447 -> 0.0(0.0) | J28: =data!O447 -> .
A29: 월 가구소득
A30: 100만원 미만 | B30: =data!G449 -> 315 | C30: =data!H449 -> 0.5(0.5) | D30: =data!I449 -> 99.7 | E30: =data!J449 -> 120 | F30: =data!K449 -> 1.2(1.2) | G30: =data!L449 -> 100.8 | H30: =data!M449 -> 195 | I30: =data!N449 -> 0.0(0.0) | J30: =data!O449 -> .
A31: 100-200만원 미만 | B31: =data!G450 -> 185 | C31: =data!H450 -> 0.0(0.0) | D31: =data!I450 -> . | E31: =data!J450 -> 86 | F31: =data!K450 -> 0.0(0.0) | G31: =data!L450 -> . | H31: =data!M450 -> 99 | I31: =data!N450 -> 0.0(0.0) | J31: =data!O450 -> .
A32: 200-300만원 미만 | B32: =data!G451 -> 101 | C32: =data!H451 -> 0.0(0.0) | D32: =data!I451 -> . | E32: =data!J451 -> 51 | F32: =data!K451 -> 0.0(0.0) | G32: =data!L451 -> . | H32: =data!M451 -> 50 | I32: =data!N451 -> 0.0(0.0) | J32: =data!O451 -> .
A33: 300-400만원 미만 | B33: =data!G452 -> 72 | C33: =data!H452 -> 0.0(0.0) | D33: =data!I452 -> . | E33: =data!J452 -> 35 | F33: =data!K452 -> 0.0(0.0) | G33: =data!L452 -> . | H33: =data!M452 -> 37 | I33: =data!N452 -> 0.0(0.0) | J33: =data!O452 -> .
A34: 400만원 이상 | B34: =data!G453 -> 211 | C34: =data!H453 -> 0.0(0.0) | D34: =data!I453 -> . | E34: =data!J453 -> 116 | F34: =data!K453 -> 0.0(0.0) | G34: =data!L453 -> . | H34: =data!M453 -> 95 | I34: =data!N453 -> 0.0(0.0) | J34: =data!O453 -> .
A35: 작년 대비 가구소득 변화
A36: 줄어들었다 | B36: =data!G455 -> 260 | C36: =data!H455 -> 0.0(0.0) | D36: =data!I455 -> . | E36: =data!J455 -> 134 | F36: =data!K455 -> 0.0(0.0) | G36: =data!L455 -> . | H36: =data!M455 -> 126 | I36: =data!N455 -> 0.0(0.0) | J36: =data!O455 -> .
A37: 변함없다 | B37: =data!G456 -> 530 | C37: =data!H456 -> 0.3(0.3) | D37: =data!I456 -> 100.7 | E37: =data!J456 -> 228 | F37: =data!K456 -> 0.6(0.6) | G37: =data!L456 -> 101.4 | H37: =data!M456 -> 302 | I37: =data!N456 -> 0.0(0.0) | J37: =data!O456 -> .
A38: 늘어났다 | B38: =data!G457 -> 94 | C38: =data!H457 -> 0.0(0.0) | D38: =data!I457 -> . | E38: =data!J457 -> 46 | F38: =data!K457 -> 0.0(0.0) | G38: =data!L457 -> . | H38: =data!M457 -> 48 | I38: =data!N457 -> 0.0(0.0) | J38: =data!O457 -> .
A39: 거주유형
A40: 동
A41: 읍〮면 | B41: =data!G460 -> 884 | C41: =data!H460 -> 0.2(0.2) | D41: =data!I460 -> 100.6 | E41: =data!J460 -> 408 | F41: =data!K460 -> 0.3(0.3) | G41: =data!L460 -> 101.0 | H41: =data!M460 -> 476 | I41: =data!N460 -> 0.0(0.0) | J41: =data!O460 -> .
...

Sheet <표>현재흡연자의금연시도율
A1: <표 24> 현재흡연자의 금연시도율1)
A2: (단위: %)
A3: 구분 | B3: 전체 | E3: 남자 | H3: 여자
B4: N | C4: %(표준오차) | D4: 상대표준오차 | E4: N | F4: %(표준오차) | G4: 상대표준오차 | H4: N | I4: %(표준오차) | J4: 상대표준오차
A5: 전체 | B5: =data!G461 -> 121 | C5: =data!H461 -> 48.8(4.0) | D5: =data!I461 -> 8.3 | E5: =data!J461 -> 111 | F5: =data!K461 -> 50.0(4.1) | G5: =data!L461 -> 8.3 | H5: =data!M461 -> 10 | I5: =data!N461 -> -(-) | J5: =data!O461 -> -
A6: 연령
A7: 19-29 | B7: =data!G463 -> 2 | C7: =data!H463 -> -(-) | D7: =data!I463 -> - | E7: =data!J463 -> 2 | F7: =data!K463 -> -(-) | G7: =data!L463 -> - | H7: =data!M463 -> 0 | I7: =data!N463 -> -(-) | J7: =data!O463 -> -
A8: 30-39 | B8: =data!G464 -> 4 | C8: =data!H464 -> -(-) | D8: =data!I464 -> - | E8: =data!J464 -> 4 | F8: =data!K464 -> -(-) | G8: =data!L464 -> - | H8: =data!M464 -> 0 | I8: =data!N464 -> -(-) | J8: =data!O464 -> -
