Workbook

Sheet 예산총괄
A1: 22년 하수도관리 예산편성 및 사용내역
J2: [단위 : 천원]
A3: 세부사업명 | B3: 편성목 | C3: 예 산 액 | H3: 지출액 | I3: 잔 액 | J3: 비 고
C4: 계 | D4: 본예산 | E4: 1회추경 | F4: 2회추경 | G4: 3회추경
B5: 총계 | C5: =C7+C10+C17+C20+C23+C29+C33+C38 -> 2989219 | D5: =D7+D10+D17+D20+D23+D29+D33+D38 -> 2989219 | E5: =E7+E10+E17+E20+E23+E29+E33+E38 -> 0 | F5: =F7+F10+F17+F20+F23+F29+F33+F38 -> 0 | G5: =G7+G10+G17+G20+G23+G29+G33+G38 -> 0 | H5: =H7+H10+H17+H20+H23+H29+H33+H38 -> 0 | I5: =I7+I10+I17+I20+I23+I29+I33+I38 -> 2989219
A6: 하수도관리 | B6: 합계 | C6: =C7+C10+C17 -> 2000675 | D6: =D7+D10+D17 -> 2000675 | E6: =E7+E10+E17 -> 0 | F6: =F7+F10+F17 -> 0 | G6: =G7+G10+G17 -> 0 | H6: =H7+H10+H17 -> 0 | I6: =I7+I10+I17 -> 2000675
A7: 하수도관리 | B7: 소 계 | C7: =SUM(C8:C9) -> 31296 | D7: =SUM(D8:D9) -> 31296 | E7: =SUM(E8:E9) -> 0 | F7: =SUM(F8:F9) -> 0 | G7: =SUM(G8:G9) -> 0 | H7: =SUM(H8:H9) -> 0 | I7: =SUM(I8:I9) -> 31296
B8: =하수도관리!A6 -> 일반 운영비 | C8: =SUM(D8:G8) -> 1536 | D8: =하수도관리!D6 -> 1536 | E8: =하수도관리!E6 -> 0 | F8: =하수도관리!F6 -> 0 | G8: =하수도관리!G6 -> 0 | H8: =하수도관리!H6 -> 0 | I8: =하수도관리!I6 -> 1536
B9: =하수도관리!A9 -> 여 비 | C9: =SUM(D9:G9) -> 29760 | D9: =하수도관리!D9 -> 29760 | E9: =하수도관리!E9 -> 0 | F9: =하수도관리!F9 -> 0 | G9: =하수도관리!G9 -> 0 | H9: =하수도관리!H9 -> 0 | I9: =하수도관리!I9 -> 29760
A10: 하수종말 처리장관리 | B10: 소 계 | C10: =SUM(C11:C16) -> 1589379 | D10: =SUM(D11:D16) -> 1589379 | E10: =SUM(E11:E16) -> 0 | F10: =SUM(F11:F16) -> 0 | G10: =SUM(G11:G16) -> 0 | H10: =SUM(H11:H16) -> 0 | I10: =SUM(I11:I16) -> 1589379
B11: =처리장관리!A6 -> 인 건 비 | C11: =SUM(D11:G11) -> 4160 | D11: =처리장관리!D6 -> 4160 | E11: =처리장관리!E6 -> 0 | F11: =처리장관리!F6 -> 0 | G11: =처리장관리!G6 -> 0 | H11: =처리장관리!H6 -> 0 | I11: =처리장관리!I6 -> 4160
B12: =처리장관리!A8 -> 사무관리비 | C12: =SUM(D12:G12) -> 381320 | D12: =처리장관리!D8 -> 381320 | E12: =처리장관리!E8 -> 0 | F12: =처리장관리!F8 -> 0 | G12: =처리장관리!G8 -> 0 | H12: =처리장관리!H8 -> 0 | I12: =처리장관리!I8 -> 381320
B13: =처리장관리!A20 -> 공공운영비 | C13: =SUM(D13:G13) -> 618379 | D13: =처리장관리!D20 -> 618379 | E13: =처리장관리!E20 -> 0 | F13: =처리장관리!F20 -> 0 | G13: =처리장관리!G20 -> 0 | H13: =처리장관리!H20 -> 0 | I13: =처리장관리!I20 -> 618379
B14: =처리장관리!A36 -> 재 료 비 | C14: =SUM(D14:G14) -> 55520 | D14: =처리장관리!D36 -> 55520 | E14: =처리장관리!E36 -> 0 | F14: =처리장관리!F36 -> 0 | G14: =처리장관리!G36 -> 0 | H14: =처리장관리!H36 -> 0 | I14: =처리장관리!I36 -> 55520
B15: =처리장관리!A42 -> 시 설 비 | C15: =SUM(D15:G15) -> 350000 | D15: =처리장관리!D42 -> 350000 | E15: =처리장관리!E42 -> 0 | F15: =처리장관리!F42 -> 0 | G15: =처리장관리!G42 -> 0 | H15: =처리장관리!H42 -> 0 | I15: =처리장관리!I42 -> 350000
B16: =처리장관리!A46 -> 자산취득비 | C16: =SUM(D16:G16) -> 180000 | D16: =처리장관리!D46 -> 180000 | E16: =처리장관리!E46 -> 0 | F16: =처리장관리!F46 -> 0 | G16: =처리장관리!G46 -> 0 | H16: =처리장관리!H46 -> 0 | I16: =처리장관리!I46 -> 180000
A17: 물재이용 관리계획 | B17: 소 계 | C17: =SUM(C18) -> 380000 | D17: =SUM(D18) -> 380000 | E17: =SUM(E18) -> 0 | F17: =SUM(F18) -> 0 | G17: =SUM(G18) -> 0 | H17: =SUM(H18) -> 0 | I17: =SUM(I18) -> 380000
B18: =물재이용!A6 -> 연구용역비 | C18: =SUM(D18:G18) -> 380000 | D18: =물재이용!D7 -> 380000 | E18: =물재이용!E7 -> 0 | F18: =물재이용!F7 -> 0 | G18: =물재이용!G7 -> 0 | H18: =물재이용!H7 -> 0 | I18: =물재이용!I7 -> 380000
A19: 마을하수도 | B19: 합계 | C19: =C20+C23 -> 620215 | D19: =D20+D23 -> 620215 | E19: =E20+E23 -> 0 | F19: =F20+F23 -> 0 | G19: =G20+G23 -> 0 | H19: =H20+H23 -> 0 | I19: =I20+I23 -> 620215
A20: 마을하수도 관리 | B20: 소 계 | C20: =SUM(C21:C22) -> 24110 | D20: =SUM(D21:D22) -> 24110 | E20: =SUM(E21:E22) -> 0 | F20: =SUM(F21:F22) -> 0 | G20: =SUM(G21:G22) -> 0 | H20: =SUM(H21:H22) -> 0 | I20: =SUM(I21:I22) -> 24110
B21: =마을하수도!A6 -> 일반운영비 | C21: =SUM(D21:G21) -> 4160 | D21: =마을하수도!D6 -> 4160 | E21: =마을하수도!E6 -> 0 | F21: =마을하수도!F6 -> 0 | G21: =마을하수도!G6 -> 0 | H21: =마을하수도!H6 -> 0 | I21: =마을하수도!I6 -> 4160
B22: =마을하수도!A11 -> 여 비 | C22: =SUM(D22:G22) -> 19950 | D22: =마을하수도!D11 -> 19950 | E22: =마을하수도!E11 -> 0 | F22: =마을하수도!F11 -> 0 | G22: =마을하수도!G11 -> 0 | H22: =마을하수도!H11 -> 0 | I22: =마을하수도!I11 -> 19950
A23: 마을하수처리 시설관리 | B23: 소 계 | C23: =SUM(C24:C27) -> 596105 | D23: =SUM(D24:D27) -> 596105 | E23: =SUM(E24:E27) -> 0 | F23: =SUM(F24:F27) -> 0 | G23: =SUM(G24:G27) -> 0 | H23: =SUM(H24:H27) -> 0 | I23: =SUM(I24:I27) -> 596105
B24: =마을하수처리시설!A6 -> 인 건 비 | C24: =SUM(D24:G24) -> 15840 | D24: =마을하수처리시설!D6 -> 15840 | E24: =마을하수처리시설!E6 -> 0 | F24: =마을하수처리시설!F6 -> 0 | G24: =마을하수처리시설!G6 -> 0 | H24: =마을하수처리시설!H6 -> 0 | I24: =마을하수처리시설!I6 -> 15840
B25: =마을하수처리시설!A8 -> 일반운영비 | C25: =SUM(D25:G25) -> 340265 | D25: =마을하수처리시설!D8 -> 340265 | E25: =마을하수처리시설!E8 -> 0 | F25: =마을하수처리시설!F8 -> 0 | G25: =마을하수처리시설!G8 -> 0 | H25: =마을하수처리시설!H8 -> 0 | I25: =마을하수처리시설!I8 -> 340265
B26: =마을하수처리시설!A17 -> 시 설 비 | C26: =SUM(D26:G26) -> 200000 | D26: =마을하수처리시설!D17 -> 200000 | E26: =마을하수처리시설!E17 -> 0 | F26: =마을하수처리시설!F17 -> 0 | G26: =마을하수처리시설!G17 -> 0 | H26: =마을하수처리시설!H17 -> 0 | I26: =마을하수처리시설!I17 -> 200000
B27: =마을하수처리시설!A19 -> 자산취득비 | C27: =SUM(D27:G27) -> 40000 | D27: =마을하수처리시설!D19 -> 40000 | E27: =마을하수처리시설!E19 -> 0 | F27: =마을하수처리시설!F19 -> 0 | G27: =마을하수처리시설!G19 -> 0 | H27: =마을하수처리시설!H19 -> 0 | I27: =마을하수처리시설!I19 -> 40000
A28: 분뇨처리 | B28: 합계 | C28: =C29+C33+C38 -> 368329 | D28: =D29+D33+D38 -> 368329 | E28: =E29+E33+E38 -> 0 | F28: =F29+F33+F38 -> 0 | G28: =G29+G33+G38 -> 0 | H28: =H29+H33+H38 -> 0 | I28: =I29+I33+I38 -> 368329
A29: 분뇨수거 관리 | B29: 소 계 | C29: =SUM(C30:C32) -> 157762 | D29: =SUM(D30:D32) -> 157762 | E29: =SUM(E30:E32) -> 0 | F29: =SUM(F30:F32) -> 0 | G29: =SUM(G30:G32) -> 0 | H29: =SUM(H30:H32) -> 0 | I29: =SUM(I30:I32) -> 157762
B30: =분뇨수거!A6 -> 인 건 비 | C30: =SUM(D30:G30) -> 1500 | D30: =분뇨수거!D6 -> 1500 | E30: =분뇨수거!E6 -> 0 | F30: =분뇨수거!F6 -> 0 | G30: =분뇨수거!G6 -> 0 | H30: =분뇨수거!H6 -> 0 | I30: =분뇨수거!I6 -> 1500
B31: =분뇨수거!A8 -> 일반운영비 | C31: =SUM(D31:G31) -> 86262 | D31: =분뇨수거!D8 -> 86262 | E31: =분뇨수거!E8 -> 0 | F31: =분뇨수거!F8 -> 0 | G31: =분뇨수거!G8 -> 0 | H31: =분뇨수거!H8 -> 0 | I31: =분뇨수거!I8 -> 86262
B32: =분뇨수거!A23 -> 일반보전금 | C32: =SUM(D32:G32) -> 70000 | D32: =분뇨수거!D23 -> 70000 | E32: =분뇨수거!E23 -> 0 | F32: =분뇨수거!F23 -> 0 | G32: =분뇨수거!G23 -> 0 | H32: =분뇨수거!H23 -> 0 | I32: =분뇨수거!I23 -> 70000
A33: 분뇨처리 시설관리 | B33: 소 계 | C33: =SUM(C34:C37) -> 117100 | D33: =SUM(D34:D37) -> 117100 | E33: =SUM(E34:E37) -> 0 | F33: =SUM(F34:F37) -> 0 | G33: =SUM(G34:G37) -> 0 | H33: =SUM(H34:H37) -> 0 | I33: =SUM(I34:I37) -> 117100
B34: =분뇨처리시설!A6 -> 일반운영비 | C34: =SUM(D34:G34) -> 26400 | D34: =분뇨처리시설!D6 -> 26400 | E34: =분뇨처리시설!E6 -> 0 | F34: =분뇨처리시설!F6 -> 0 | G34: =분뇨처리시설!G6 -> 0 | H34: =분뇨처리시설!H6 -> 0 | I34: =분뇨처리시설!I6 -> 26400
B35: =분뇨처리시설!A9 -> 재 료 비 | C35: =SUM(D35:G35) -> 18600 | D35: =분뇨처리시설!D9 -> 18600 | E35: =분뇨처리시설!E9 -> 0 | F35: =분뇨처리시설!F9 -> 0 | G35: =분뇨처리시설!G9 -> 0 | H35: =분뇨처리시설!H9 -> 0 | I35: =분뇨처리시설!I9 -> 18600
B36: =분뇨처리시설!A13 -> 연구개발비 | C36: =SUM(D36:G36) -> 2100 | D36: =분뇨처리시설!D13 -> 2100 | E36: =분뇨처리시설!E13 -> 0 | F36: =분뇨처리시설!F13 -> 0 | G36: =분뇨처리시설!G13 -> 0 | H36: =분뇨처리시설!H13 -> 0 | I36: =분뇨처리시설!I13 -> 2100
B37: =분뇨처리시설!A17 -> 시 설 비 | C37: =SUM(D37:G37) -> 70000 | D37: =분뇨처리시설!D17 -> 70000 | E37: =분뇨처리시설!E17 -> 0 | F37: =분뇨처리시설!F17 -> 0 | G37: =분뇨처리시설!G17 -> 0 | H37: =분뇨처리시설!H17 -> 0 | I37: =분뇨처리시설!I17 -> 70000
A38: 분뇨처리장 운영 | B38: 소 계 | C38: =SUM(C39) -> 93467 | D38: =SUM(D39) -> 93467 | E38: =SUM(E39) -> 0 | F38: =SUM(F39) -> 0 | G38: =SUM(G39) -> 0 | H38: =SUM(H39) -> 0 | I38: =SUM(I39) -> 93467
B39: =분뇨처리장!A6 -> 일반운영비 | C39: =SUM(D39:G39) -> 93467 | D39: =분뇨처리장!D6 -> 93467 | E39: =분뇨처리장!E6 -> 0 | F39: =분뇨처리장!F6 -> 0 | G39: =분뇨처리장!G6 -> 0 | H39: =분뇨처리장!H6 -> 0 | I39: =분뇨처리장!I6 -> 93467

Sheet 하수도관리
A1: 하수도관리 세부사업 지출내역
A2: 세부사업명 : 하수도관리 | K2: [단위 : 천원]
A3: 편성목 | B3: 부기명 | C3: 예 산 액 | H3: 지출액 | I3: 잔액 | J3: 지출내용 | K3: 비고
C4: 계 | D4: 본예산 | E4: 1회추경 | F4: 2회추경 | G4: 3회추경
A5: 계 | C5: =SUM(D5:G5) -> 31296 | D5: =D6+D9 -> 31296 | E5: =E6+E9 -> 0 | F5: =F6+F9 -> 0 | G5: =G6+G9 -> 0 | H5: =H6+H9 -> 0 | I5: =I6+I9 -> 31296
A6: 일반 운영비 | B6: 소계 | C6: =SUM(C7:C8) -> 1536 | D6: =SUM(D7:D8) -> 1536 | E6: =SUM(E7:E8) -> 0 | F6: =SUM(F7:F8) -> 0 | G6: =SUM(G7:G8) -> 0 | H6: =SUM(H7:H8) -> 0 | I6: =SUM(I7:I8) -> 1536
B7: 업무추진 매식비 | C7: =SUM(D7:G7) -> 336 | D7: 336 | E7: 0 | F7: 0 | G7: 0 | H7: 0 | I7: =C7-H7 -> 336 | K7: 예시
B8: 사무용품 구입비 | C8: =SUM(D8:G8) -> 1200 | D8: 1200 | E8: 0 | F8: 0 | G8: 0 | H8: 0 | I8: =C8-H8 -> 1200 | K8: 예시
A9: 여 비 | B9: 소계 | C9: =SUM(D9:F9) -> 29760 | D9: =SUM(D10:D13) -> 29760 | E9: =SUM(E10:E13) -> 0 | F9: =SUM(F10:F13) -> 0 | G9: =SUM(G10:G13) -> 0 | H9: =SUM(H10:H13) -> 0 | I9: =SUM(I10:I13) -> 29760 | K9: 예시
B10: 국내여비 | C10: =SUM(D10:G10) -> 4200 | D10: 4200 | E10: 0 | F10: 0 | G10: 0 | H10: 0 | I10: =C10-H10 -> 4200 | K10: 예시
B11: 공무직 국내여비 | C11: =SUM(D11:G11) -> 10500 | D11: 10500 | E11: 0 | F11: 0 | G11: 0 | H11: 0 | I11: =C11-H11 -> 10500 | K11: 예시
B12: 종말처리장 국내여비 | C12: =SUM(D12:G12) -> 4500 | D12: 4500 | E12: 0 | F12: 0 | G12: 0 | H12: 0 | I12: =C12-H12 -> 4500 | K12: 예시
B13: 월액여비 | C13: =SUM(D13:G13) -> 10560 | D13: 10560 | E13: 0 | F13: 0 | G13: 0 | H13: 0 | I13: =C13-H13 -> 10560 | K13: 예시

Sheet 처리장관리
A1: 하수도관리 세부사업 지출내역
A2: 세부사업명 : 하수종말처리장관리 | J2: [단위 : 천원]
A3: 편성목 | B3: 부기명 | C3: 예 산 액 | H3: 지출액 | I3: 잔 액 | J3: 지출내용 | K3: 비고
C4: 계 | D4: 본예산 | E4: 1회추경 | F4: 2회추경 | G4: 3회추경
A5: 계 | C5: =SUM(D5:G5) -> 1589379 | D5: =D6+D8+D20+D36+D42+D46 -> 1589379 | E5: =E6+E8+E20+E36+E42+E46 -> 0 | F5: =F6+F8+F20+F36+F42+F46 -> 0 | G5: =G6+G8+G20+G36+G42+G46 -> 0 | H5: =H6+H8+H20+H36+H42+H46 -> 0 | I5: =I6+I8+I20+I36+I42+I46 -> 1589379
A6: 인 건 비 | B6: 소계 | C6: =SUM(C7:C7) -> 4160 | D6: =SUM(D7) -> 4160 | E6: =SUM(E7) -> 0 | F6: =SUM(F7) -> 0 | G6: =SUM(G7) -> 0 | H6: =SUM(H7) -> 0 | I6: =SUM(I7) -> 4160
B7: 일시사역인부임 | C7: =SUM(D7:G7) -> 4160 | D7: 4160 | E7: 0 | F7: 0 | G7: 0 | H7: 0 | I7: =C7-H7 -> 4160
A8: 사무관리비 | B8: 소계 | C8: =SUM(C9:C19) -> 381320 | D8: =SUM(D9:D19) -> 381320 | E8: =SUM(E9:E19) -> 0 | F8: =SUM(F9:F19) -> 0 | G8: =SUM(G9:G19) -> 0 | H8: =SUM(H9:H19) -> 0 | I8: =SUM(I9:I19) -> 381320
B9: 소모품자재구입 | C9: =SUM(D9:G9) -> 6000 | D9: 6000 | E9: 0 | F9: 0 | G9: 0 | H9: 0 | I9: =C9-H9 -> 6000
B10: 운영종사자 교육비 | C10: =SUM(D10:G10) -> 3200 | D10: 3200 | E10: 0 | F10: 0 | G10: 0 | H10: 0 | I10: =C10-H10 -> 3200
B11: 운용 용품구입 | C11: =SUM(D11:G11) -> 1600 | D11: 1600 | E11: 0 | F11: 0 | G11: 0 | H11: 0 | I11: =C11-H11 -> 1600
B12: 탈수슬러지 위탁 | C12: =SUM(D12:G12) -> 120000 | D12: 120000 | E12: 0 | F12: 0 | G12: 0 | H12: 0 | I12: =C12-H12 -> 120000
B13: TMS유지보수 수수료 | C13: =SUM(D13:G13) -> 85200 | D13: 85200 | E13: 0 | F13: 0 | G13: 0 | H13: 0 | I13: =C13-H13 -> 85200
B14: TMS정도검사 수수료 | C14: =SUM(D14:G14) -> 20000 | D14: 20000 | E14: 0 | F14: 0 | G14: 0 | H14: 0 | I14: =C14-H14 -> 20000
B15: 실험실 정도검사 | C15: =SUM(D15:G15) -> 20000 | D15: 20000 | E15: 0 | F15: 0 | G15: 0 | H15: 0 | I15: =C15-H15 -> 20000
B16: 일직비 | C16: =SUM(D16:G16) -> 28320 | D16: 28320 | E16: 0 | F16: 0 | G16: 0 | H16: 0 | I16: =C16-H16 -> 28320
B17: 숙직비 | C17: =SUM(D17:G17) -> 87600 | D17: 87600 | E17: 0 | F17: 0 | G17: 0 | H17: 0 | I17: =C17-H17 -> 87600
B18: 종사원 피복비 | C18: =SUM(D18:G18) -> 7800 | D18: 7800 | E18: 0 | F18: 0 | G18: 0 | H18: 0 | I18: =C18-H18 -> 7800
B19: 참구류 구입 | C19: =SUM(D19:G19) -> 1600 | D19: 1600 | E19: 0 | F19: 0 | G19: 0 | H19: 0 | I19: =C19-H19 -> 1600
A20: 공공운영비 | B20: 소계 | C20: =SUM(C21:C35) -> 618379 | D20: =SUM(D21:D35) -> 618379 | E20: =SUM(E21:E35) -> 0 | F20: =SUM(F21:F35) -> 0 | G20: =SUM(G21:G35) -> 0 | H20: =SUM(H21:H35) -> 0 | I20: =SUM(I21:I35) -> 618379
B21: 제세공과금 | C21: =SUM(D21:G21) -> 6720 | D21: 6720 | E21: 0 | F21: 0 | G21: 0 | H21: 0 | I21: =C21-H21 -> 6720
B22: 전기사용료 | C22: =SUM(D22:G22) -> 230000 | D22: 230000 | E22: 0 | F22: 0 | G22: 0 | H22: 0 | I22: =C22-H22 -> 230000
B23: KT전용 회선료 | C23: =SUM(D23:G23) -> 35820 | D23: 35820 | E23: 0 | F23: 0 | G23: 0 | H23: 0 | I23: =C23-H23 -> 35820
B24: 관용차량 제세 | C24: =SUM(D24:G24) -> 150 | D24: 150 | E24: 0 | F24: 0 | G24: 0 | H24: 0 | I24: =C24-H24 -> 150
B25: 비상발전기 연료비 | C25: =SUM(D25:G25) -> 603 | D25: 603 | E25: 0 | F25: 0 | G25: 0 | H25: 0 | I25: =C25-H25 -> 603
B26: 하수처리장 기술진단 | C26: =SUM(D26:G26) -> 55788 | D26: 55788 | E26: 0 | F26: 0 | G26: 0 | H26: 0 | I26: =C26-H26 -> 55788
B27: 하수관로 기술진단 | C27: =SUM(D27:G27) -> 173071 | D27: 173071 | E27: 0 | F27: 0 | G27: 0 | H27: 0 | I27: =C27-H27 -> 173071
B28: 악취기술진단 | C28: =SUM(D28:G28) -> 81553 | D28: 81553 | E28: 0 | F28: 0 | G28: 0 | H28: 0 | I28: =C28-H28 -> 81553
B29: 관용차량 연료비 | C29: =SUM(D29:G29) -> 3276 | D29: 3276 | E29: 0 | F29: 0 | G29: 0 | H29: 0 | I29: =C29-H29 -> 3276
B30: 건물 유지 보수비 | C30: =SUM(D30:G30) -> 4000 | D30: 4000 | E30: 0 | F30: 0 | G30: 0 | H30: 0 | I30: =C30-H30 -> 4000
B31: 관용차량 유지보수 | C31: =SUM(D31:G31) -> 3000 | D31: 3000 | E31: 0 | F31: 0 | G31: 0 | H31: 0 | I31: =C31-H31 -> 3000
B32: 전기안전관리대행 | C32: =SUM(D32:G32) -> 21600 | D32: 21600 | E32: 0 | F32: 0 | G32: 0 | H32: 0 | I32: =C32-H32 -> 21600
... B35: 하수찌꺼기 성분검사 | C35: =SUM(D35:G35) -> 728 | D35: 728 | E35: 0 | F35: 0 | G35: 0 | H35: 0 | I35: =C35-H35 -> 728
A36: 재 료 비 | B36: 소계 | C36: =SUM(C37:C41) -> 55520 | D36: =SUM(D37:D41) -> 55520 | E36: =SUM(E37:E41) -> 0 | F36: =SUM(F37:F41) -> 0 | G36: =SUM(G37:G41) -> 0 | H36: =SUM(H37:H41) -> 0 | I36: =SUM(I37:I41) -> 55520
B37: 실험실 시약구입 | C37: =SUM(D37:G37) -> 14400 | D37: 14400 | E37: 0 | F37: 0 | G37: 0 | H37: 0 | I37: =C37-H37 -> 14400
B38: 수질관리 약품구입 | C38: =SUM(D38:G38) -> 18720 | D38: 18720 | E38: 0 | F38: 0 | G38: 0 | H38: 0 | I38: =C38-H38 -> 18720
B39: 실험실 기자재구입 | C39: =SUM(D39:G39) -> 14400 | D39: 14400 | E39: 0 | F39: 0 | G39: 0 | H39: 0 | I39: =C39-H39 -> 14400
B40: 채수병구입 | C40: =SUM(D40:G40) -> 2000 | D40: 2000 | E40: 0 | F40: 0 | G40: 0 | H40: 0 | I40: =C40-H40 -> 2000
B41: 밀폐공간 보호장구 | C41: =SUM(D41:G41) -> 6000 | D41: 6000 | E41: 0 | F41: 0 | G41: 0 | H41: 0 | I41: =C41-H41 -> 6000
A42: 시 설 비 | B42: 소계 | C42: =SUM(C43:C45) -> 350000 | D42: =SUM(D43:D45) -> 350000 | E42: =SUM(E43:E45) -> 0 | F42: =SUM(F43:F45) -> 0 | G42: =SUM(G43:G45) -> 0 | H42: =SUM(H43:H45) -> 0 | I42: =SUM(I43:I45) -> 350000
...

Sheet 물재이용
A1: 하수도관리 세부사업 지출내역
A2: 세부사업명 : 물재이용관리계획 | J2: [단위 : 천원]
A3: 편성목 | B3: 부기명 | C3: 예 산 액 | H3: 지출액 | I3: 잔 액 | J3: 지출내용 | K3: 비고
C4: 계 | D4: 본예산 | E4: 1회추경 | F4: 2회추경 | G4: 3회추경
A5: 계 | C5: =C6 -> 380000 | D5: =D6 -> 380000 | E5: =E6 -> 0 | F5: =F6 -> 0 | G5: =G6 -> 0 | H5: =H6 -> 0 | I5: =I6 -> 380000
A6: 연구용역비 | B6: 소계 | C6: =SUM(C7:C7) -> 380000 | D6: =SUM(D7) -> 380000 | E6: =SUM(E7) -> 0 | F6: =SUM(F7) -> 0 | G6: =SUM(G7) -> 0 | H6: =SUM(H7) -> 0 | I6: =SUM(I7) -> 380000
B7: 물재이용관리계획 | C7: =SUM(D7:G7) -> 380000 | D7: 380000 | E7: 0 | F7: 0 | G7: 0 | H7: 0 | I7: =C7-H7 -> 380000

Sheet 마을하수도
A1: 하수도관리 세부사업 지출내역
A2: 세부사업명 : 마을하수도관리 | J2: [단위 : 천원]
A3: 편성목 | B3: 부기명 | C3: 예 산 액 | H3: 지출액 | I3: 잔액 | J3: 지출내용 | K3: 비고
C4: 계 | D4: 본예산 | E4: 1회추경 | F4: 2회추경 | G4: 3회추경
A5: 계 | C5: =C6+C11 -> 24110 | D5: =D6+D11 -> 24110 | E5: =E6+E11 -> 0 | F5: =F6+F11 -> 0 | G5: =G6+G11 -> 0 | H5: =H6+H11 -> 0 | I5: =I6+I11 -> 24110
A6: 일반운영비 | B6: 소계 | C6: =SUM(C7:C10) -> 4160 | D6: =SUM(D7:D10) -> 4160 | E6: =SUM(E7:E10) -> 0 | F6: =SUM(F7:F10) -> 0 | G6: =SUM(G7:G10) -> 0 | H6: =SUM(H7:H10) -> 0 | I6: =SUM(I7:I10) -> 4160
B7: 업무추진매식비 | C7: =SUM(D7:G7) -> 1120 | D7: 1120 | E7: 0 | F7: 0 | G7: 0 | H7: 0 | I7: =C7-H7 -> 1120 | K7: 예시
B8: 사무용품구입비 | C8: =SUM(D8:G8) -> 1200 | D8: 1200 | E8: 0 | F8: 0 | G8: 0 | H8: 0 | I8: =C8-H8 -> 1200
B9: 운영관리자 교육비 | C9: =SUM(D9:G9) -> 640 | D9: 640 | E9: 0 | F9: 0 | G9: 0 | H9: 0 | I9: =C9-H9 -> 640
B10: 운영관리자 피복비 | C10: =SUM(D10:G10) -> 1200 | D10: 1200 | E10: 0 | F10: 0 | G10: 0 | H10: 0 | I10: =C10-H10 -> 1200
A11: 여 비 | B11: 소계 | C11: =SUM(C12:C14) -> 19950 | D11: =SUM(D12:D14) -> 19950 | E11: =SUM(E12:E14) -> 0 | F11: =SUM(F12:F14) -> 0 | G11: =SUM(G12:G14) -> 0 | H11: =SUM(H12:H14) -> 0 | I11: =SUM(I12:I14) -> 19950
B12: 국내여비 | C12: =SUM(D12:G12) -> 9100 | D12: 9100 | E12: 0 | F12: 0 | G12: 0 | H12: 0 | I12: =C12-H12 -> 9100
B13: 공무직 국내여비 | C13: =SUM(D13:G13) -> 4550 | D13: 4550 | E13: 0 | F13: 0 | G13: 0 | H13: 0 | I13: =C13-H13 -> 4550
B14: 분뇨처리장 국내여비 | C14: =SUM(D14:G14) -> 6300 | D14: 6300 | E14: 0 | F14: 0 | G14: 0 | H14: 0 | I14: =C14-H14 -> 6300

Sheet 마을하수처리시설
A1: 하수도관리 세부사업 지출내역
A2: 세부사업명 : 마을하수처리시설관리 | J2: [단위 : 천원]
A3: 편성목 | B3: 부기명 | C3: 예 산 액 | H3: 지출액 | I3: 잔 액 | J3: 지출내용 | K3: 비고
C4: 계 | D4: 본예산 | E4: 1회추경 | F4: 2회추경 | G4: 3회추경
A5: 계 | C5: =C6+C8+C17+C19 -> 596105 | D5: =D6+D8+D17+D19 -> 596105 | E5: =E6+E8+E17+E19 -> 0 | F5: =F6+F8+F17+F19 -> 0 | G5: =G6+G8+G17+G19 -> 0 | H5: =H6+H8+H17+H19 -> 0 | I5: =I6+I8+I17+I19 -> 596105
A6: 인 건 비 | B6: 소계 | C6: =SUM(C7) -> 15840 | D6: =SUM(D7) -> 15840 | E6: =SUM(E7) -> 0 | F6: =SUM(F7) -> 0 | G6: =SUM(G7) -> 0 | H6: =SUM(H7) -> 0 | I6: =C6-H6 -> 15840
B7: 기간제근로자보수 | C7: =SUM(D7:G7) -> 15840 | D7: 15840 | E7: 0 | F7: 0 | G7: 0 | H7: 0 | I7: =C7-H7 -> 15840
A8: 일반운영비 | B8: 소계 | C8: =SUM(C9:C16) -> 340265 | D8: =SUM(D9:D16) -> 340265 | E8: =SUM(E9:E16) -> 0 | F8: =SUM(F9:F16) -> 0 | G8: =SUM(G9:G16) -> 0 | H8: =SUM(H9:H16) -> 0 | I8: =C8-H8 -> 340265
B9: 소모품 자재 구입 | C9: =SUM(D9:G9) -> 1800 | D9: 1800 | E9: 0 | F9: 0 | G9: 0 | H9: 0 | I9: =C9-H9 -> 1800
B10: 전기요금 | C10: =SUM(D10:G10) -> 172800 | D10: 172800 | E10: 0 | F10: 0 | G10: 0 | H10: 0 | I10: =C10-H10 -> 172800
B11: 처리장 기술진단비 | C11: =SUM(D11:G11) -> 73920 | D11: 73920 | E11: 0 | F11: 0 | G11: 0 | H11: 0 | I11: =C11-H11 -> 73920
B12: 관로 기술지단비 | C12: =SUM(D12:G12) -> 81645 | D12: 81645 | E12: 0 | F12: 0 | G12: 0 | H12: 0 | I12: =C12-H12 -> 81645
B13: 상하수도협회비 | C13: =SUM(D13:G13) -> 1600 | D13: 1600 | E13: 0 | F13: 0 | G13: 0 | H13: 0 | I13: =C13-H13 -> 1600
B14: 차량 도선비 | C14: =SUM(D14:G14) -> 5000 | D14: 5000 | E14: 0 | F14: 0 | G14: 0 | H14: 0 | I14: =C14-H14 -> 5000
B15: 차량 연료비 | C15: =SUM(D15:G15) -> 2500 | D15: 2500 | E15: 0 | F15: 0 | G15: 0 | H15: 0 | I15: =C15-H15 -> 2500
B16: 관용차량 유지보수비 | C16: =SUM(D16:G16) -> 1000 | D16: 1000 | E16: 0 | F16: 0 | G16: 0 | H16: 0 | I16: =C16-H16 -> 1000
A17: 시 설 비 | B17: 소계 | C17: =SUM(C18) -> 200000 | D17: =SUM(D18) -> 200000 | E17: =SUM(E18) -> 0 | F17: =SUM(F18) -> 0 | G17: =SUM(G18) -> 0 | H17: =SUM(H18) -> 0 | I17: =C17-H17 -> 200000
B18: 유지관리 | C18: =SUM(D18:G18) -> 200000 | D18: 200000 | E18: 0 | F18: 0 | G18: 0 | H18: 0 | I18: =C18-H18 -> 200000
A19: 자산취득비 | B19: 소계 | C19: =SUM(C20) -> 40000 | D19: =SUM(D20) -> 40000 | E19: =SUM(E20) -> 0 | F19: =SUM(F20) -> 0 | G19: =SUM(G20) -> 0 | H19: =SUM(H20) -> 0 | I19: =C19-H19 -> 40000
B20: 크레인차량구입 | C20: =SUM(D20:G20) -> 40000 | D20: 40000 | E20: 0 | F20: 0 | G20: 0 | H20: 0 | I20: =C20-H20 -> 40000

Sheet 분뇨수거
A1: 하수도관리 세부사업 지출내역
A2: 세부사업명 : 분뇨수거관리 | J2: [단위 : 천원]
A3: 편성목 | B3: 부기명 | C3: 예산액 | H3: 지출액 | I3: 잔액 | J3: 지출내용 | K3: 비고
C4: 계 | D4: 본예산 | E4: 1회추경 | F4: 2회추경 | G4: 3회추경
A5: 계 | C5: =C6+C8+C23 -> 157762 | D5: =D6+D8+D23 -> 157762 | E5: =E6+E8+E23 -> 0 | F5: =F6+F8+F23 -> 0 | G5: =G6+G8+G23 -> 0 | H5: =H6+H8+H23 -> 0 | I5: =I6+I8+I23 -> 157762
A6: 인 건 비 | B6: 소계 | C6: =SUM(C7) -> 1500 | D6: =SUM(D7) -> 1500 | E6: =SUM(E7) -> 0 | F6: =SUM(F7) -> 0 | G6: =SUM(G7) -> 0 | H6: =SUM(H7) -> 0 | I6: =SUM(I7) -> 1500
B7: 기간제근로자등보수 | C7: =SUM(D7:G7) -> 1500 | D7: 1500 | E7: 0 | F7: 0 | G7: 0 | H7: 0 | I7: =C7-H7 -> 1500
A8: 일반운영비 | B8: 소계 | C8: =SUM(C9:C22) -> 86262 | D8: =SUM(D9:D22) -> 86262 | E8: =SUM(E9:E22) -> 0 | F8: =SUM(F9:F22) -> 0 | G8: =SUM(G9:G22) -> 0 | H8: =SUM(H9:H22) -> 0 | I8: =SUM(I9:I22) -> 86262
B9: 자동차검사 수수료 | C9: =SUM(D9:G9) -> 300 | D9: 300 | E9: 0 | F9: 0 | G9: 0 | H9: 0 | I9: =C9-H9 -> 300
B10: 분뇨수거선박 임대료 | C10: =SUM(D10:G10) -> 12000 | D10: 12000 | E10: 0 | F10: 0 | G10: 0 | H10: 0 | I10: =C10-H10 -> 12000
B11: 분뇨수거선박임차(흑산) | C11: =SUM(D11:G11) -> 6000 | D11: 6000 | E11: 0 | F11: 0 | G11: 0 | H11: 0 | I11: =C11-H11 -> 6000
B12: 분뇨수거선박임차(흑산) | C12: =SUM(D12:G12) -> 1500 | D12: 1500 | E12: 0 | F12: 0 | G12: 0 | H12: 0 | I12: =C12-H12 -> 1500
B13: 환경개선부담금 | C13: =SUM(D13:G13) -> 600 | D13: 600 | E13: 0 | F13: 0 | G13: 0 | H13: 0 | I13: =C13-H13 -> 600
B14: 스키로우더 보험료 | C14: =SUM(D14:G14) -> 163 | D14: 163 | E14: 0 | F14: 0 | G14: 0 | H14: 0 | I14: =C14-H14 -> 163
B15: 유류대 | C15: =SUM(D15:G15) -> 16884 | D15: 16884 | E15: 0 | F15: 0 | G15: 0 | H15: 0 | I15: =C15-H15 -> 16884
B16: 도선료 | C16: =SUM(D16:G16) -> 36000 | D16: 36000 | E16: 0 | F16: 0 | G16: 0 | H16: 0 | I16: =C16-H16 -> 36000
B17: 분뇨차량유지보수비 | C17: =SUM(D17:G17) -> 10000 | D17: 10000 | E17: 0 | F17: 0 | G17: 0 | H17: 0 | I17: =C17-H17 -> 10000
B18: 처리장 난방연료비(흑산) | C18: =SUM(D18:G18) -> 430 | D18: 430 | E18: 0 | F18: 0 | G18: 0 | H18: 0 | I18: =C18-H18 -> 430
B19: 분뇨차량 유류수리비(흑산) | C19: =SUM(D19:G19) -> 2000 | D19: 2000 | E19: 0 | F19: 0 | G19: 0 | H19: 0 | I19: =C19-H19 -> 2000
B20: 분뇨차량 자동차세(흑산) | C20: =SUM(D20:G20) -> 300 | D20: 300 | E20: 0 | F20: 0 | G20: 0 | H20: 0 | I20: =C20-H20 -> 300
... B22: 분뇨차량 정기검사(흑산) | C22: =SUM(D22:G22) -> 35 | D22: 35 | E22: 0 | F22: 0 | G22: 0 | H22: 0 | I22: =C22-H22 -> 35
A23: 일반보전금 | B23: 소계 | C23: =SUM(C24) -> 70000 | D23: =SUM(D24) -> 70000 | E23: =SUM(E24) -> 0 | F23: =SUM(F24) -> 0 | G23: =SUM(G24) -> 0 | H23: =SUM(H24) -> 0 | I23: =SUM(I24) -> 70000
B24: 처리수수료 지원금 | C24: =SUM(D24:G24) -> 70000 | D24: 70000 | E24: 0 | F24: 0 | G24: 0 | H24: 0 | I24: =C24-H24 -> 70000

Sheet 분뇨처리시설
A1: 하수도관리 세부사업 지출내역
A2: 세부사업명 : 분뇨처리시설관리 | J2: [단위 : 천원]
A3: 편성목 | B3: 부기명 | C3: 예 산 액 | H3: 지출액 | I3: 잔 액 | J3: 지출내용 | K3: 비고
C4: 계 | D4: 본예산 | E4: 1회추경 | F4: 2회추경 | G4: 3회추경
A5: 계 | C5: =C6+C9+C13+C17 -> 117100 | D5: =D6+D9+D13+D17 -> 117100 | E5: =E6+E9+E13+E17 -> 0 | F5: =F6+F9+F13+F17 -> 0 | G5: =G6+G9+G13+G17 -> 0 | H5: =H6+H9+H13+H17 -> 0 | I5: =I6+I9+I13+I17 -> 117100
A6: 일반운영비 | B6: 소계 | C6: =SUM(C7:C8) -> 26400 | D6: =SUM(D7:D8) -> 26400 | E6: =SUM(E7:E8) -> 0 | F6: =SUM(F7:F8) -> 0 | G6: =SUM(G7:G8) -> 0 | H6: =SUM(H7:H8) -> 0 | I6: =SUM(I7:I8) -> 26400
B7: 분뇨퇴비장 위탁처리 | C7: =SUM(D7:G7) -> 22400 | D7: 22400 | E7: 0 | F7: 0 | G7: 0 | H7: 0 | I7: =C7-H7 -> 22400
B8: 분뇨처리시설 유지관리 | C8: =SUM(D8:G8) -> 4000 | D8: 4000 | E8: 0 | F8: 0 | G8: 0 | H8: 0 | I8: =C8-H8 -> 4000
A9: 재 료 비 | B9: 소계 | C9: =SUM(C10:C12) -> 18600 | D9: =SUM(D10:D12) -> 18600 | E9: =SUM(E10:E12) -> 0 | F9: =SUM(F10:F12) -> 0 | G9: =SUM(G10:G12) -> 0 | H9: =SUM(H10:H12) -> 0 | I9: =SUM(I10:I12) -> 18600
B10: 수질관리 약품구입 | C10: =SUM(D10:G10) -> 18000 | D10: 18000 | E10: 0 | F10: 0 | G10: 0 | H10: 0 | I10: =C10-H10 -> 18000
B11: 조경용 제초제 | C11: =SUM(D11:G11) -> 300 | D11: 300 | E11: 0 | F11: 0 | G11: 0 | H11: 0 | I11: =C11-H11 -> 300
B12: 병해충방제 소독약품 | C12: =SUM(D12:G12) -> 300 | D12: 300 | E12: 0 | F12: 0 | G12: 0 | H12: 0 | I12: =C12-H12 -> 300
A13: 연구개발비 | B13: 소계 | C13: =SUM(C14:C16) -> 2100 | D13: =SUM(D14:D16) -> 2100 | E13: =SUM(E14:E16) -> 0 | F13: =SUM(F14:F16) -> 0 | G13: =SUM(G14:G16) -> 0 | H13: =SUM(H14:H16) -> 0 | I13: =SUM(I14:I16) -> 2100
B14: 실험실장비 유지보수 | C14: =SUM(D14:G14) -> 800 | D14: 800 | E14: 0 | F14: 0 | G14: 0 | H14: 0 | I14: =C14-H14 -> 800
B15: 증류수제조기필터 | C15: =SUM(D15:G15) -> 500 | D15: 500 | E15: 0 | F15: 0 | G15: 0 | H15: 0 | I15: =C15-H15 -> 500
B16: 실험실 시약구입 | C16: =SUM(D16:G16) -> 800 | D16: 800 | E16: 0 | F16: 0 | G16: 0 | H16: 0 | I16: =C16-H16 -> 800
A17: 시 설 비 | B17: 소계 | C17: =SUM(C18) -> 70000 | D17: =SUM(D18) -> 70000 | E17: =SUM(E18) -> 0 | F17: =SUM(F18) -> 0 | G17: =SUM(G18) -> 0 | H17: =SUM(H18) -> 0 | I17: =SUM(I18) -> 70000
B18: 응급복구 및 유지관리 | C18: =SUM(D18:G18) -> 70000 | D18: 70000 | E18: 0 | F18: 0 | G18: 0 | H18: 0 | I18: =C18-H18 -> 70000

Sheet 분뇨처리장
A1: 하수도관리 세부사업 지출내역
A2: 세부사업명 : 분뇨처리장운영 | J2: [단위 : 천원]
A3: 편성목 | B3: 부 기 명 | C3: 예 산 액 | H3: 지출액 | I3: 잔 액 | J3: 지출내용 | K3: 비고
C4: 계 | D4: 본예산 | E4: 1회추경 | F4: 2회추경 | G4: 3회추경
A5: 계 | C5: =C6 -> 93467 | D5: =D6 -> 93467 | E5: =E6 -> 0 | F5: =F6 -> 0 | G5: =G6 -> 0 | H5: =H6 -> 0 | I5: =I6 -> 93467
A6: 일반운영비 | B6: 소계 | C6: =SUM(C7:C30) -> 93467 | D6: =SUM(D7:D30) -> 93467 | E6: =SUM(E7:E30) -> 0 | F6: =SUM(F7:F30) -> 0 | G6: =SUM(G7:G30) -> 0 | H6: =SUM(H7:H30) -> 0 | I6: =SUM(I7:I30) -> 93467
B7: 오수정화조 전산프로그램 | C7: =SUM(D7:G7) -> 3099 | D7: 3099 | E7: 0 | F7: 0 | G7: 0 | H7: 0 | I7: =C7-H7 -> 3099 | K7: 사무
B8: 분뇨처리장 소모품 | C8: =SUM(D8:G8) -> 3000 | D8: 3000 | E8: 0 | F8: 0 | G8: 0 | H8: 0 | I8: =C8-H8 -> 3000
B9: 부산물 성분검사 수수료 | C9: =SUM(D9:G9) -> 400 | D9: 400 | E9: 0 | F9: 0 | G9: 0 | H9: 0 | I9: =C9-H9 -> 400
B10: 준설 및 청소(원수조) | C10: =SUM(D10:G10) -> 5000 | D10: 5000 | E10: 0 | F10: 0 | G10: 0 | H10: 0 | I10: =C10-H10 -> 5000
B11: 준설 및 청소(분뇨저장조) | C11: =SUM(D11:G11) -> 2500 | D11: 2500 | E11: 0 | F11: 0 | G11: 0 | H11: 0 | I11: =C11-H11 -> 2500
B12: 당직실 침구 및 세탁 | C12: =SUM(D12:G12) -> 400 | D12: 400 | E12: 0 | F12: 0 | G12: 0 | H12: 0 | I12: =C12-H12 -> 400
B13: 위탁교육비 | C13: =SUM(D13:G13) -> 640 | D13: 640 | E13: 0 | F13: 0 | G13: 0 | H13: 0 | I13: =C13-H13 -> 640
B14: 분뇨처리장 숙직비 | C14: =SUM(D14:G14) -> 21840 | D14: 21840 | E14: 0 | F14: 0 | G14: 0 | H14: 0 | I14: =C14-H14 -> 21840
B15: 분뇨처리장 일직비 | C15: =SUM(D15:G15) -> 7020 | D15: 7020 | E15: 0 | F15: 0 | G15: 0 | H15: 0 | I15: =C15-H15 -> 7020
B16: 작업복 구입 | C16: =SUM(D16:G16) -> 1800 | D16: 1800 | E16: 0 | F16: 0 | G16: 0 | H16: 0 | I16: =C16-H16 -> 1800
B17: 위생복구입 | C17: =SUM(D17:G17) -> 200 | D17: 200 | E17: 0 | F17: 0 | G17: 0 | H17: 0 | I17: =C17-H17 -> 200
B18: 처리동 전기사용료 | C18: =SUM(D18:G18) -> 24000 | D18: 24000 | E18: 0 | F18: 0 | G18: 0 | H18: 0 | I18: =C18-H18 -> 24000 | K18: 공공
B19: 재활용기반 전기사용료 | C19: =SUM(D19:G19) -> 3600 | D19: 3600 | E19: 0 | F19: 0 | G19: 0 | H19: 0 | I19: =C19-H19 -> 3600
B20: 지하수 전기사용료 | C20: =SUM(D20:G20) -> 960 | D20: 960 | E20: 0 | F20: 0 | G20: 0 | H20: 0 | I20: =C20-H20 -> 960
B21: TV수신료 | C21: =SUM(D21:G21) -> 420 | D21: 420 | E21: 0 | F21: 0 | G21: 0 | H21: 0 | I21: =C21-H21 -> 420
B22: 정수기 비데사용료 | C22: =SUM(D22:G22) -> 600 | D22: 600 | E22: 0 | F22: 0 | G22: 0 | H22: 0 | I22: =C22-H22 -> 600
B23: 환경개선부담금 | C23: =SUM(D23:G23) -> 100 | D23: 100 | E23: 0 | F23: 0 | G23: 0 | H23: 0 | I23: =C23-H23 -> 100
B24: 상하수도사용료 | C24: =SUM(D24:G24) -> 1200 | D24: 1200 | E24: 0 | F24: 0 | G24: 0 | H24: 0 | I24: =C24-H24 -> 1200
B25: 난방나로 연료비 | C25: =SUM(D25:G25) -> 720 | D25: 720 | E25: 0 | F25: 0 | G25: 0 | H25: 0 | I25: =C25-H25 -> 720
B26: 보일러 연료비 | C26: =SUM(D26:G26) -> 5000 | D26: 5000 | E26: 0 | F26: 0 | G26: 0 | H26: 0 | I26: =C26-H26 -> 5000
B27: 운반차량 유지관리비 | C27: =SUM(D27:G27) -> 1500 | D27: 1500 | E27: 0 | F27: 0 | G27: 0 | H27: 0 | I27: =C27-H27 -> 1500
B28: 스키로우더 유류대 | C28: =SUM(D28:G28) -> 1500 | D28: 1500 | E28: 0 | F28: 0 | G28: 0 | H28: 0 | I28: =C28-H28 -> 1500
B29: 시설물 유지관리비 | C29: =SUM(D29:G29) -> 6000 | D29: 6000 | E29: 0 | F29: 0 | G29: 0 | H29: 0 | I29: =C29-H29 -> 6000
B30: 전기안전관리 수수료 | C30: =SUM(D30:G30) -> 1968 | D30: 1968 | E30: 0 | F30: 0 | G30: 0 | H30: 0 | I30: =C30-H30 -> 1968
